BEGIN:VCALENDAR
VERSION:2.0
PRODID:-//Community Legal Aid - ECPv6.15.20//NONSGML v1.0//EN
CALSCALE:GREGORIAN
METHOD:PUBLISH
X-ORIGINAL-URL:https://communitylegal.org
X-WR-CALDESC:Events for Community Legal Aid
REFRESH-INTERVAL;VALUE=DURATION:PT1H
X-Robots-Tag:noindex
X-PUBLISHED-TTL:PT1H
BEGIN:VTIMEZONE
TZID:America/New_York
BEGIN:DAYLIGHT
TZOFFSETFROM:-0500
TZOFFSETTO:-0400
TZNAME:EDT
DTSTART:20230312T070000
END:DAYLIGHT
BEGIN:STANDARD
TZOFFSETFROM:-0400
TZOFFSETTO:-0500
TZNAME:EST
DTSTART:20231105T060000
END:STANDARD
BEGIN:DAYLIGHT
TZOFFSETFROM:-0500
TZOFFSETTO:-0400
TZNAME:EDT
DTSTART:20240310T070000
END:DAYLIGHT
BEGIN:STANDARD
TZOFFSETFROM:-0400
TZOFFSETTO:-0500
TZNAME:EST
DTSTART:20241103T060000
END:STANDARD
BEGIN:DAYLIGHT
TZOFFSETFROM:-0500
TZOFFSETTO:-0400
TZNAME:EDT
DTSTART:20250309T070000
END:DAYLIGHT
BEGIN:STANDARD
TZOFFSETFROM:-0400
TZOFFSETTO:-0500
TZNAME:EST
DTSTART:20251102T060000
END:STANDARD
END:VTIMEZONE
BEGIN:VEVENT
DTSTART;TZID=America/New_York:20241127T080000
DTEND;TZID=America/New_York:20241127T120000
DTSTAMP:20260424T003326
CREATED:20241113T132240Z
LAST-MODIFIED:20241113T132240Z
UID:13325-1732694400-1732708800@communitylegal.org
SUMMARY:CANCELED- WORCESTER FAMILY LAWYER FOR THE DAY
DESCRIPTION:There will not be a volunteer attorney available for counsel and advice on November 13th\, 20th\, and 27th. To make an appointment in December\, please contact FamilyLFD@cla-ma.org.
URL:https://communitylegal.org/event/canceled-worcester-family-lawyer-for-the-day/2024-11-27/
END:VEVENT
BEGIN:VEVENT
DTSTART;TZID=America/New_York:20241120T080000
DTEND;TZID=America/New_York:20241120T120000
DTSTAMP:20260424T003326
CREATED:20241113T132235Z
LAST-MODIFIED:20241113T132235Z
UID:13324-1732089600-1732104000@communitylegal.org
SUMMARY:CANCELED- WORCESTER FAMILY LAWYER FOR THE DAY
DESCRIPTION:There will not be a volunteer attorney available for counsel and advice on November 13th\, 20th\, and 27th. To make an appointment in December\, please contact FamilyLFD@cla-ma.org.
URL:https://communitylegal.org/event/canceled-worcester-family-lawyer-for-the-day/2024-11-20/
END:VEVENT
BEGIN:VEVENT
DTSTART;TZID=America/New_York:20241113T080000
DTEND;TZID=America/New_York:20241113T120000
DTSTAMP:20260424T003326
CREATED:20241113T132231Z
LAST-MODIFIED:20241113T132231Z
UID:13323-1731484800-1731499200@communitylegal.org
SUMMARY:CANCELED- WORCESTER FAMILY LAWYER FOR THE DAY
DESCRIPTION:There will not be a volunteer attorney available for counsel and advice on November 13th\, 20th\, and 27th. To make an appointment in December\, please contact FamilyLFD@cla-ma.org.
URL:https://communitylegal.org/event/canceled-worcester-family-lawyer-for-the-day/2024-11-13/
END:VEVENT
END:VCALENDAR