BEGIN:VCALENDAR
VERSION:2.0
PRODID:-//Community Legal Aid - ECPv6.15.20//NONSGML v1.0//EN
CALSCALE:GREGORIAN
METHOD:PUBLISH
X-ORIGINAL-URL:https://communitylegal.org
X-WR-CALDESC:Events for Community Legal Aid
REFRESH-INTERVAL;VALUE=DURATION:PT1H
X-Robots-Tag:noindex
X-PUBLISHED-TTL:PT1H
BEGIN:VTIMEZONE
TZID:America/New_York
BEGIN:DAYLIGHT
TZOFFSETFROM:-0500
TZOFFSETTO:-0400
TZNAME:EDT
DTSTART:20190310T070000
END:DAYLIGHT
BEGIN:STANDARD
TZOFFSETFROM:-0400
TZOFFSETTO:-0500
TZNAME:EST
DTSTART:20191103T060000
END:STANDARD
BEGIN:DAYLIGHT
TZOFFSETFROM:-0500
TZOFFSETTO:-0400
TZNAME:EDT
DTSTART:20200308T070000
END:DAYLIGHT
BEGIN:STANDARD
TZOFFSETFROM:-0400
TZOFFSETTO:-0500
TZNAME:EST
DTSTART:20201101T060000
END:STANDARD
BEGIN:DAYLIGHT
TZOFFSETFROM:-0500
TZOFFSETTO:-0400
TZNAME:EDT
DTSTART:20210314T070000
END:DAYLIGHT
BEGIN:STANDARD
TZOFFSETFROM:-0400
TZOFFSETTO:-0500
TZNAME:EST
DTSTART:20211107T060000
END:STANDARD
END:VTIMEZONE
BEGIN:VEVENT
DTSTART;TZID=America/New_York:20201026T093000
DTEND;TZID=America/New_York:20201026T123000
DTSTAMP:20260424T003024
CREATED:20201013T184452Z
LAST-MODIFIED:20201013T190436Z
UID:4332-1603704600-1603715400@communitylegal.org
SUMMARY:Family Law Training: Basics and Beyond
DESCRIPTION:The Covid-19 pandemic has caused significant instability to our most vulnerable community members. In addition to unemployment\, loss of income\, inadequate childcare\, and housing and food insecurities\, many people are also navigating the breakdown of their marriages and families. Incidents of domestic violence are on the rise\, and there is a critical need for legal advocacy for these individuals. \nTo help meet this need\, Community Legal Aid and Northeast Legal Aid are offering a FREE Family Law Basics and Beyond training. Whether you are new to family law or looking to sharpen your skills\, this training will help deepen your practice and enhance your ability to provide quality legal representation to our most vulnerable community members. \nWHEN: October 26\, 2020 (9:30 AM-12:30PM)\, October 27\, 2020 (9:30AM-12:15PM)\, October 28\, 2020 (9:30AM-11:45PM; 3:00PM-4:30PM)\, and October 29\, 2020 (9:30AM-12:00PM) \nWHERE: Zoom (a link will be emailed to registered participants) \nPANELISTS: Tina Paradiso\, Senior Supervising Attorney Family Law\, CLA; Laura Gal\, Senior Supervising Attorney Family Law\, NLA; Margery Kennard\, Staff Attorney\, CLA; Lauren De Oliveira\, Staff Attorney\, CLA; and Amalia Jorns\, Staff Attorney\, NLA \nCOST OF TRAINING: Your commitment to accept at least two (2) Pro Bono Family Law cases for low-income clients. \nRSVP to Choyce McIntosh: claproponoprograms@gmail.com
URL:https://communitylegal.org/event/family-law-training-basics-and-beyond/2020-10-26/
LOCATION:Video-conference (A link will emailed to participants upon registration\, MA\, United States
CATEGORIES:Pro Bono,General Events
ATTACH;FMTTYPE=image/jpeg:https://communitylegal.org/wp-content/uploads/2020/01/domestic_abuse.jpg
GEO:42.4072107;-71.3824374
END:VEVENT
END:VCALENDAR