BEGIN:VCALENDAR
VERSION:2.0
PRODID:-//Community Legal Aid - ECPv6.15.20//NONSGML v1.0//EN
CALSCALE:GREGORIAN
METHOD:PUBLISH
X-ORIGINAL-URL:https://communitylegal.org
X-WR-CALDESC:Events for Community Legal Aid
REFRESH-INTERVAL;VALUE=DURATION:PT1H
X-Robots-Tag:noindex
X-PUBLISHED-TTL:PT1H
BEGIN:VTIMEZONE
TZID:America/New_York
BEGIN:DAYLIGHT
TZOFFSETFROM:-0500
TZOFFSETTO:-0400
TZNAME:EDT
DTSTART:20210314T070000
END:DAYLIGHT
BEGIN:STANDARD
TZOFFSETFROM:-0400
TZOFFSETTO:-0500
TZNAME:EST
DTSTART:20211107T060000
END:STANDARD
BEGIN:DAYLIGHT
TZOFFSETFROM:-0500
TZOFFSETTO:-0400
TZNAME:EDT
DTSTART:20220313T070000
END:DAYLIGHT
BEGIN:STANDARD
TZOFFSETFROM:-0400
TZOFFSETTO:-0500
TZNAME:EST
DTSTART:20221106T060000
END:STANDARD
BEGIN:DAYLIGHT
TZOFFSETFROM:-0500
TZOFFSETTO:-0400
TZNAME:EDT
DTSTART:20230312T070000
END:DAYLIGHT
BEGIN:STANDARD
TZOFFSETFROM:-0400
TZOFFSETTO:-0500
TZNAME:EST
DTSTART:20231105T060000
END:STANDARD
END:VTIMEZONE
BEGIN:VEVENT
DTSTART;TZID=America/New_York:20220301T083000
DTEND;TZID=America/New_York:20220301T110000
DTSTAMP:20260424T024428
CREATED:20220301T180942Z
LAST-MODIFIED:20220301T181834Z
UID:8022-1646123400-1646132400@communitylegal.org
SUMMARY:Worcester District Court Small Claims Session Remote Lawyer for the Day Program
DESCRIPTION:The Remote Lawyer For the Day program is a collaborative pro bono project with the Worcester County Bar Association (WCBA) that provides limited assistance to low-income debtors in the Worcester District Court\, Small Claims Session. Held every Tuesday morning between 8:45 – 11:00 A.M. via Zoom. \nPlease use the following link to to sign up to volunteer in March\, April\, and May 2022. Thank you! \nhttps://www.signupgenius.com/go/10C0444ACAB2CA0F58-worcester47 \nFor information\, please contact Pro Bono Coordinator\, Choyce McIntosh at: cmcintosh@cla-ma.org
URL:https://communitylegal.org/event/worcester-district-court-small-claims-session-remote-lawyer-for-the-day-program/2022-03-01/
LOCATION:Virtual
CATEGORIES:Pro Bono
END:VEVENT
END:VCALENDAR