BEGIN:VCALENDAR
VERSION:2.0
PRODID:-//Community Legal Aid - ECPv6.15.20//NONSGML v1.0//EN
CALSCALE:GREGORIAN
METHOD:PUBLISH
X-ORIGINAL-URL:https://communitylegal.org
X-WR-CALDESC:Events for Community Legal Aid
REFRESH-INTERVAL;VALUE=DURATION:PT1H
X-Robots-Tag:noindex
X-PUBLISHED-TTL:PT1H
BEGIN:VTIMEZONE
TZID:America/New_York
BEGIN:DAYLIGHT
TZOFFSETFROM:-0500
TZOFFSETTO:-0400
TZNAME:EDT
DTSTART:20230312T070000
END:DAYLIGHT
BEGIN:STANDARD
TZOFFSETFROM:-0400
TZOFFSETTO:-0500
TZNAME:EST
DTSTART:20231105T060000
END:STANDARD
BEGIN:DAYLIGHT
TZOFFSETFROM:-0500
TZOFFSETTO:-0400
TZNAME:EDT
DTSTART:20240310T070000
END:DAYLIGHT
BEGIN:STANDARD
TZOFFSETFROM:-0400
TZOFFSETTO:-0500
TZNAME:EST
DTSTART:20241103T060000
END:STANDARD
BEGIN:DAYLIGHT
TZOFFSETFROM:-0500
TZOFFSETTO:-0400
TZNAME:EDT
DTSTART:20250309T070000
END:DAYLIGHT
BEGIN:STANDARD
TZOFFSETFROM:-0400
TZOFFSETTO:-0500
TZNAME:EST
DTSTART:20251102T060000
END:STANDARD
BEGIN:DAYLIGHT
TZOFFSETFROM:-0500
TZOFFSETTO:-0400
TZNAME:EDT
DTSTART:20260308T070000
END:DAYLIGHT
BEGIN:STANDARD
TZOFFSETFROM:-0400
TZOFFSETTO:-0500
TZNAME:EST
DTSTART:20261101T060000
END:STANDARD
BEGIN:DAYLIGHT
TZOFFSETFROM:-0500
TZOFFSETTO:-0400
TZNAME:EDT
DTSTART:20270314T070000
END:DAYLIGHT
BEGIN:STANDARD
TZOFFSETFROM:-0400
TZOFFSETTO:-0500
TZNAME:EST
DTSTART:20271107T060000
END:STANDARD
END:VTIMEZONE
BEGIN:VEVENT
DTSTART;TZID=America/New_York:20260211T170000
DTEND;TZID=America/New_York:20260211T193000
DTSTAMP:20260423T183311
CREATED:20251217T205405Z
LAST-MODIFIED:20260205T155553Z
UID:15035-1770829200-1770838200@communitylegal.org
SUMMARY:Showing Love\, Fighting for Justice: a Worcester Access to Justice Celebration
DESCRIPTION:Showing Love\, Fighting for Justice: February 11\, 2026\nSave the date! The legal services non-profit Community Legal Aid invites you to join them for a celebration of their volunteers\, supporters\, and everyone involved in the fight for justice in Central Massachusetts. \nWho: Community Legal Aid (CLA) is a non-profit that provides FREE civil legal services to individuals who would otherwise go unrepresented in our legal system. With a team of over 100 in-house attorneys and a 140 pro bono volunteers\, the organization specializes in eviction defense\, representing survivors of domestic violence\, and fighting illegal discrimination in housing\, education\, and employment. Learn more about the types of legal issues CLA can help with at communitylegal.org. \nThis event is open to members of the Worcester County legal community and beyond! Anyone interested in learning more about CLA’s work is welcome to attend. \nWhat: Join CLA for food\, drinks\, and live music from local duo Ash & Eric as you learn more about CLA’s work in Worcester County and get to know your allies in the fight for justice in Central Massachusetts. At this event CLA will also honor its devoted pro bono volunteers and Access to Justice Campaign committee members. \nWhen: Wednesday\, February 11\, 2026 from 5:00 to 7:30 P.M. \nWhere: The Worcester PopUp at the Jean McDonough Arts Center (JMAC)\, 20B Franklin Street\, Worcester\, MA 01608 \nRegister: \n\n                \n                        \n                            RSVP - Showing Love\, Fighting for Justice on 2/11/26\n                             \n                        \n                        EmailThis field is for validation purposes and should be left unchanged.RSVPName(Required)\n                            \n                            \n                                                    First\n                                                    \n                                                \n                            \n                            \n                                                            Last\n                                                            \n                                                        \n                            \n                        AffiliationEmail(Required)\n                                \n                                    Enter Email\n                                    \n                                \n                                \n                                    Confirm Email\n                                    \n                                \n                                \n                            Names of additional guestsPhone
URL:https://communitylegal.org/event/lovejusticeworcester/
LOCATION:Jean McDonough Arts Center\, Franklin Street\, Worcester\, MA\, 01608\, United States
CATEGORIES:Pro Bono,Board Meetings,General Events
GEO:42.2619467;-71.8021892
X-APPLE-STRUCTURED-LOCATION;VALUE=URI;X-ADDRESS=Jean McDonough Arts Center Franklin Street Worcester MA 01608 United States;X-APPLE-RADIUS=500;X-TITLE=Franklin Street:geo:-71.8021892,42.2619467
END:VEVENT
BEGIN:VEVENT
DTSTART;TZID=America/New_York:20241125T051500
DTEND;TZID=America/New_York:20241125T183000
DTSTAMP:20260423T183311
CREATED:20240301T163021Z
LAST-MODIFIED:20240301T163021Z
UID:12179-1732511700-1732559400@communitylegal.org
SUMMARY:Community Legal Aid Board Meeting
DESCRIPTION:
URL:https://communitylegal.org/event/community-legal-aid-board-meeting-12/
CATEGORIES:Board Meetings,General Events
END:VEVENT
BEGIN:VEVENT
DTSTART;TZID=America/New_York:20241119T163000
DTEND;TZID=America/New_York:20241119T193000
DTSTAMP:20260423T183311
CREATED:20241029T195557Z
LAST-MODIFIED:20241029T195604Z
UID:13289-1732033800-1732044600@communitylegal.org
SUMMARY:Ripples of Justice: An Event Celebrating Access to Justice in Worcester
DESCRIPTION:Community Legal Aid invites you to join us for Ripples of Justice\, an event celebrating the Access to Justice efforts of CLA and our volunteers and partners in Worcester County. \nCo-hosted by Worcester County Access to Justice Committee Chair\, Attorney Lynette Paczkowski\, and CLA Board President\, Hon. Luis Perez (Ret.)\, this event will feature food\, a cash bar\, live music by local duo Ash & Eric\, and will honor CLA volunteers\, including Attorney Akosua Agyepong who was recently recognized for her outstanding volunteer work with CLA’s Pro Bono Program. \nHelp CLA celebrate the beginning of our 2025 Worcester Access to Justice Campaign\, an annual fundraising campaign supporting CLA’s work providing free civil legal services to low-income and elderly residents of Worcester County. \nWhat: Ripples of Justice – An Event Celebrating Access to Justice \nWhere: Worcester PopUp at the Jean McDonough Arts Center\, 20B Franklin Street\, Worcester\, MA 01608 \nWhen: Tuesday\, November 19\, 2024 from 4:30 to 7:30 P.M. \nThis event is free and open to members of the Worcester County legal community and beyond! Donations to the 2025 Worcester Access to Justice Campaign are encouraged\, but anyone interested in learning more about Community Legal Aid and our work is welcome to attend. Please help us order enough food by RSVPing in advance! \nThe Worcester PopUp at the JMAC is a free-to-use\, creative co-working space of the Worcester Cultural Coalition and in partnership with The Barr Foundation. This event does not necessarily reflect the views of either organization. 
URL:https://communitylegal.org/event/makeripplesworcester/
LOCATION:Jean McDonough Arts Center\, Franklin Street\, Worcester\, MA\, 01608\, United States
CATEGORIES:Pro Bono,Board Meetings,General Events
ATTACH;FMTTYPE=image/png:https://communitylegal.org/wp-content/uploads/2024/04/Reentry-illo-mech-e1714142729847.png
GEO:42.2619467;-71.8021892
X-APPLE-STRUCTURED-LOCATION;VALUE=URI;X-ADDRESS=Jean McDonough Arts Center Franklin Street Worcester MA 01608 United States;X-APPLE-RADIUS=500;X-TITLE=Franklin Street:geo:-71.8021892,42.2619467
END:VEVENT
BEGIN:VEVENT
DTSTART;TZID=America/New_York:20240916T051500
DTEND;TZID=America/New_York:20240916T183000
DTSTAMP:20260423T183311
CREATED:20240301T162912Z
LAST-MODIFIED:20240301T162912Z
UID:12177-1726463700-1726511400@communitylegal.org
SUMMARY:Community Legal Aid Board Meeting
DESCRIPTION:
URL:https://communitylegal.org/event/community-legal-aid-board-meeting-11/
CATEGORIES:Board Meetings,General Events
END:VEVENT
BEGIN:VEVENT
DTSTART;TZID=America/New_York:20240722T051500
DTEND;TZID=America/New_York:20240722T183000
DTSTAMP:20260423T183311
CREATED:20240301T162738Z
LAST-MODIFIED:20240301T162738Z
UID:12175-1721625300-1721673000@communitylegal.org
SUMMARY:Community Legal Aid Board Meeting
DESCRIPTION:
URL:https://communitylegal.org/event/community-legal-aid-board-meeting-10/
CATEGORIES:Board Meetings,General Events
END:VEVENT
BEGIN:VEVENT
DTSTART;TZID=America/New_York:20240325T171500
DTEND;TZID=America/New_York:20240325T183000
DTSTAMP:20260423T183311
CREATED:20240301T162613Z
LAST-MODIFIED:20240301T162613Z
UID:12173-1711386900-1711391400@communitylegal.org
SUMMARY:Community Legal Aid Board Meeting
DESCRIPTION:
URL:https://communitylegal.org/event/community-legal-aid-board-meeting-9/
CATEGORIES:Board Meetings,General Events
END:VEVENT
END:VCALENDAR