BEGIN:VCALENDAR
VERSION:2.0
PRODID:-//Community Legal Aid - ECPv6.15.20//NONSGML v1.0//EN
CALSCALE:GREGORIAN
METHOD:PUBLISH
X-ORIGINAL-URL:https://communitylegal.org
X-WR-CALDESC:Events for Community Legal Aid
REFRESH-INTERVAL;VALUE=DURATION:PT1H
X-Robots-Tag:noindex
X-PUBLISHED-TTL:PT1H
BEGIN:VTIMEZONE
TZID:America/New_York
BEGIN:DAYLIGHT
TZOFFSETFROM:-0500
TZOFFSETTO:-0400
TZNAME:EDT
DTSTART:20250309T070000
END:DAYLIGHT
BEGIN:STANDARD
TZOFFSETFROM:-0400
TZOFFSETTO:-0500
TZNAME:EST
DTSTART:20251102T060000
END:STANDARD
BEGIN:DAYLIGHT
TZOFFSETFROM:-0500
TZOFFSETTO:-0400
TZNAME:EDT
DTSTART:20260308T070000
END:DAYLIGHT
BEGIN:STANDARD
TZOFFSETFROM:-0400
TZOFFSETTO:-0500
TZNAME:EST
DTSTART:20261101T060000
END:STANDARD
BEGIN:DAYLIGHT
TZOFFSETFROM:-0500
TZOFFSETTO:-0400
TZNAME:EDT
DTSTART:20270314T070000
END:DAYLIGHT
BEGIN:STANDARD
TZOFFSETFROM:-0400
TZOFFSETTO:-0500
TZNAME:EST
DTSTART:20271107T060000
END:STANDARD
END:VTIMEZONE
BEGIN:VEVENT
DTSTART;TZID=America/New_York:20260520T130000
DTEND;TZID=America/New_York:20260520T140000
DTSTAMP:20260423T182814
CREATED:20260414T152118Z
LAST-MODIFIED:20260414T152501Z
UID:15844-1779282000-1779285600@communitylegal.org
SUMMARY:Know Your Rights: Family Law (North Adams)
DESCRIPTION:North Adams Public Library will host family law attorneys from local non-profit Community Legal Aid who will provide information on important family law topics such as divorce\, child custody/visitation\, child support\, and restraining orders for domestic violence survivors. \nWednesday\, May 20 at 1:00 PM at North Adams Public Library\, 74 Church Street\, 3rd Floor Community Room \nAll are welcome. Pizza lunch provided. \nQuestions? Contact North Adams Public Library Assistant Library Director Ryan Miller (rmiller@northadams-ma.gov). \nKYR Family Law flyer – NAPL 05-20-26 \nNorth Adams\, MA: Community Legal Aid will hold a Northern Berkshire information session on Massachusetts family law. Community Legal Aid is a non-profit organization that provides free legal services annually to over 700 low-income and elderly residents of Berkshire County. The information session\, which is free and open to the public\, will be led by Community Legal Aid Attorneys Brittany Noto and Franci Gazzaniga. It will be held on Wednesday\, May 20\, 2026\, at 1:00 p.m. in the community room at North Adams Public Library\, located at 74 Church Street. This information session\, a collaboration between Community Legal Aid and the North Adams Public Library\, is the second event in a series of Know Your Rights presentations that will be held in 2026. The first session took place in January and covered Housing Law. Other presentations may include topics such as Public Benefits Law\, Education Law\, and other topics of interest to the Northern Berkshire community. \nAt the event\, Community Legal Aid will provide important general information on common issues people may have related to Massachusetts family law\, including filing for divorce\, obtaining restraining orders\, child custody and support\, and other court-related family law issues. The info session will not include one-on-one consultations with an attorney\, but attendees may apply for Community Legal Aid’s assistance at the event. \nAbout Community Legal Aid: Community Legal Aid provides free civil legal services to the low-income and elderly residents of the five counties of Western and Central Massachusetts (Berkshire\, Franklin\, Hampden\, Hampshire\, and Worcester)\, and maintains offices in North Adams\, Pittsfield\, Worcester\, Fitchburg\, Springfield\, Greenfield\, and Northampton. Community Legal Aid works to assure fairness for all in the justice system\, protecting homes\, livelihoods\, health and families. For more information\, please visit www.communitylegal.org. To apply for Community Legal Aid’s services\, call (855) 252-5342 or visit https://communitylegal.org/get-help/.
URL:https://communitylegal.org/event/know-your-rights-family-law-north-adams/
CATEGORIES:General Events,General Event
ATTACH;FMTTYPE=image/jpeg:https://communitylegal.org/wp-content/uploads/2026/04/KYR-Family-Law-flyer-NAPL-05-20-26.jpg
END:VEVENT
END:VCALENDAR