BEGIN:VCALENDAR
VERSION:2.0
PRODID:-//Community Legal Aid - ECPv6.15.20//NONSGML v1.0//EN
CALSCALE:GREGORIAN
METHOD:PUBLISH
X-WR-CALNAME:Community Legal Aid
X-ORIGINAL-URL:https://communitylegal.org
X-WR-CALDESC:Events for Community Legal Aid
REFRESH-INTERVAL;VALUE=DURATION:PT1H
X-Robots-Tag:noindex
X-PUBLISHED-TTL:PT1H
BEGIN:VTIMEZONE
TZID:America/New_York
BEGIN:DAYLIGHT
TZOFFSETFROM:-0500
TZOFFSETTO:-0400
TZNAME:EDT
DTSTART:20240310T070000
END:DAYLIGHT
BEGIN:STANDARD
TZOFFSETFROM:-0400
TZOFFSETTO:-0500
TZNAME:EST
DTSTART:20241103T060000
END:STANDARD
BEGIN:DAYLIGHT
TZOFFSETFROM:-0500
TZOFFSETTO:-0400
TZNAME:EDT
DTSTART:20250309T070000
END:DAYLIGHT
BEGIN:STANDARD
TZOFFSETFROM:-0400
TZOFFSETTO:-0500
TZNAME:EST
DTSTART:20251102T060000
END:STANDARD
BEGIN:DAYLIGHT
TZOFFSETFROM:-0500
TZOFFSETTO:-0400
TZNAME:EDT
DTSTART:20260308T070000
END:DAYLIGHT
BEGIN:STANDARD
TZOFFSETFROM:-0400
TZOFFSETTO:-0500
TZNAME:EST
DTSTART:20261101T060000
END:STANDARD
END:VTIMEZONE
BEGIN:VEVENT
DTSTART;TZID=America/New_York:20250703T090000
DTEND;TZID=America/New_York:20250703T130000
DTSTAMP:20260424T031324
CREATED:20250603T153759Z
LAST-MODIFIED:20250603T153759Z
UID:14146-1751533200-1751547600@communitylegal.org
SUMMARY:Worcester Eviction Sealing Clinic
DESCRIPTION:Under a NEW LAW you may be able to remove an eviction from your record. Go to SealMyEviction.org to learn more. NEED HELP? Community Legal Aid and MetroWest Legal Services are running an eviction sealing clinic to help eligible tenants. \nThursdays\, 9 A.M. to 1 P.M.\, May 15 – Aug. 21\, 2025\nCourt Services Center\, Worcester Courthouse\, 1st Floor\, 225 Main Street\, Worcester \nSign up in advance by calling (855) 252-5342 (Worcester County residents) or (508) 620-1830 (Middlesex or Norfolk County residents) or walk in during clinic hours. \n— \nBajo una NUEVA LEY usted puede ser capaz de eliminar un desalojo de su registro. Visite SealMyEviction.org para obtener más información. ¿NECESITA AYUDA? Community Legal Aid y MetroWest Legal Services están llevando a cabo una clínica de sellado de desalojos para ayudar a los inquilinos elegibles a llenar las peticiones de sellado. \nJueves\, 9 A.M. a 1 P.M.\, Mayo 15 – Agosto 21\, 2025\nCentro de Servicios de la Corte\, Corte de Worcester\, 1er Piso\, 225 Main Street\, Worcester \nInscríbase por adelantado llamando al (855) 252-5342 (residentes del condado de Worcester) o (508) 620-1830 (residentes de los condados de Middlesex y Norfolk) o venga durante las horas de la clínica. \nDownload Flyer / Descargar folleto
URL:https://communitylegal.org/event/worcester-eviction-sealing-clinic/2025-07-03/
LOCATION:Worcester Court Service Center\, 225 Main St\, 1st Floor\, Worcester\, 01608\, United States
CATEGORIES:General Events
ATTACH;FMTTYPE=image/jpeg:https://communitylegal.org/wp-content/uploads/2025/06/Pro-Bono-Eviction-Sealing-Clinic-Training-Flyer-Spring-Summer-2025.jpg
GEO:42.261272;-71.8022812
X-APPLE-STRUCTURED-LOCATION;VALUE=URI;X-ADDRESS=Worcester Court Service Center 225 Main St 1st Floor Worcester 01608 United States;X-APPLE-RADIUS=500;X-TITLE=225 Main St\, 1st Floor:geo:-71.8022812,42.261272
END:VEVENT
BEGIN:VEVENT
DTSTART;TZID=America/New_York:20250710T090000
DTEND;TZID=America/New_York:20250710T130000
DTSTAMP:20260424T031324
CREATED:20250603T153759Z
LAST-MODIFIED:20250603T153759Z
UID:14147-1752138000-1752152400@communitylegal.org
SUMMARY:Worcester Eviction Sealing Clinic
DESCRIPTION:Under a NEW LAW you may be able to remove an eviction from your record. Go to SealMyEviction.org to learn more. NEED HELP? Community Legal Aid and MetroWest Legal Services are running an eviction sealing clinic to help eligible tenants. \nThursdays\, 9 A.M. to 1 P.M.\, May 15 – Aug. 21\, 2025\nCourt Services Center\, Worcester Courthouse\, 1st Floor\, 225 Main Street\, Worcester \nSign up in advance by calling (855) 252-5342 (Worcester County residents) or (508) 620-1830 (Middlesex or Norfolk County residents) or walk in during clinic hours. \n— \nBajo una NUEVA LEY usted puede ser capaz de eliminar un desalojo de su registro. Visite SealMyEviction.org para obtener más información. ¿NECESITA AYUDA? Community Legal Aid y MetroWest Legal Services están llevando a cabo una clínica de sellado de desalojos para ayudar a los inquilinos elegibles a llenar las peticiones de sellado. \nJueves\, 9 A.M. a 1 P.M.\, Mayo 15 – Agosto 21\, 2025\nCentro de Servicios de la Corte\, Corte de Worcester\, 1er Piso\, 225 Main Street\, Worcester \nInscríbase por adelantado llamando al (855) 252-5342 (residentes del condado de Worcester) o (508) 620-1830 (residentes de los condados de Middlesex y Norfolk) o venga durante las horas de la clínica. \nDownload Flyer / Descargar folleto
URL:https://communitylegal.org/event/worcester-eviction-sealing-clinic/2025-07-10/
LOCATION:Worcester Court Service Center\, 225 Main St\, 1st Floor\, Worcester\, 01608\, United States
CATEGORIES:General Events
ATTACH;FMTTYPE=image/jpeg:https://communitylegal.org/wp-content/uploads/2025/06/Pro-Bono-Eviction-Sealing-Clinic-Training-Flyer-Spring-Summer-2025.jpg
GEO:42.261272;-71.8022812
X-APPLE-STRUCTURED-LOCATION;VALUE=URI;X-ADDRESS=Worcester Court Service Center 225 Main St 1st Floor Worcester 01608 United States;X-APPLE-RADIUS=500;X-TITLE=225 Main St\, 1st Floor:geo:-71.8022812,42.261272
END:VEVENT
BEGIN:VEVENT
DTSTART;TZID=America/New_York:20250717T090000
DTEND;TZID=America/New_York:20250717T130000
DTSTAMP:20260424T031324
CREATED:20250603T153759Z
LAST-MODIFIED:20250603T153759Z
UID:14148-1752742800-1752757200@communitylegal.org
SUMMARY:Worcester Eviction Sealing Clinic
DESCRIPTION:Under a NEW LAW you may be able to remove an eviction from your record. Go to SealMyEviction.org to learn more. NEED HELP? Community Legal Aid and MetroWest Legal Services are running an eviction sealing clinic to help eligible tenants. \nThursdays\, 9 A.M. to 1 P.M.\, May 15 – Aug. 21\, 2025\nCourt Services Center\, Worcester Courthouse\, 1st Floor\, 225 Main Street\, Worcester \nSign up in advance by calling (855) 252-5342 (Worcester County residents) or (508) 620-1830 (Middlesex or Norfolk County residents) or walk in during clinic hours. \n— \nBajo una NUEVA LEY usted puede ser capaz de eliminar un desalojo de su registro. Visite SealMyEviction.org para obtener más información. ¿NECESITA AYUDA? Community Legal Aid y MetroWest Legal Services están llevando a cabo una clínica de sellado de desalojos para ayudar a los inquilinos elegibles a llenar las peticiones de sellado. \nJueves\, 9 A.M. a 1 P.M.\, Mayo 15 – Agosto 21\, 2025\nCentro de Servicios de la Corte\, Corte de Worcester\, 1er Piso\, 225 Main Street\, Worcester \nInscríbase por adelantado llamando al (855) 252-5342 (residentes del condado de Worcester) o (508) 620-1830 (residentes de los condados de Middlesex y Norfolk) o venga durante las horas de la clínica. \nDownload Flyer / Descargar folleto
URL:https://communitylegal.org/event/worcester-eviction-sealing-clinic/2025-07-17/
LOCATION:Worcester Court Service Center\, 225 Main St\, 1st Floor\, Worcester\, 01608\, United States
CATEGORIES:General Events
ATTACH;FMTTYPE=image/jpeg:https://communitylegal.org/wp-content/uploads/2025/06/Pro-Bono-Eviction-Sealing-Clinic-Training-Flyer-Spring-Summer-2025.jpg
GEO:42.261272;-71.8022812
X-APPLE-STRUCTURED-LOCATION;VALUE=URI;X-ADDRESS=Worcester Court Service Center 225 Main St 1st Floor Worcester 01608 United States;X-APPLE-RADIUS=500;X-TITLE=225 Main St\, 1st Floor:geo:-71.8022812,42.261272
END:VEVENT
BEGIN:VEVENT
DTSTART;TZID=America/New_York:20250724T090000
DTEND;TZID=America/New_York:20250724T130000
DTSTAMP:20260424T031324
CREATED:20250603T153759Z
LAST-MODIFIED:20250603T153759Z
UID:14149-1753347600-1753362000@communitylegal.org
SUMMARY:Worcester Eviction Sealing Clinic
DESCRIPTION:Under a NEW LAW you may be able to remove an eviction from your record. Go to SealMyEviction.org to learn more. NEED HELP? Community Legal Aid and MetroWest Legal Services are running an eviction sealing clinic to help eligible tenants. \nThursdays\, 9 A.M. to 1 P.M.\, May 15 – Aug. 21\, 2025\nCourt Services Center\, Worcester Courthouse\, 1st Floor\, 225 Main Street\, Worcester \nSign up in advance by calling (855) 252-5342 (Worcester County residents) or (508) 620-1830 (Middlesex or Norfolk County residents) or walk in during clinic hours. \n— \nBajo una NUEVA LEY usted puede ser capaz de eliminar un desalojo de su registro. Visite SealMyEviction.org para obtener más información. ¿NECESITA AYUDA? Community Legal Aid y MetroWest Legal Services están llevando a cabo una clínica de sellado de desalojos para ayudar a los inquilinos elegibles a llenar las peticiones de sellado. \nJueves\, 9 A.M. a 1 P.M.\, Mayo 15 – Agosto 21\, 2025\nCentro de Servicios de la Corte\, Corte de Worcester\, 1er Piso\, 225 Main Street\, Worcester \nInscríbase por adelantado llamando al (855) 252-5342 (residentes del condado de Worcester) o (508) 620-1830 (residentes de los condados de Middlesex y Norfolk) o venga durante las horas de la clínica. \nDownload Flyer / Descargar folleto
URL:https://communitylegal.org/event/worcester-eviction-sealing-clinic/2025-07-24/
LOCATION:Worcester Court Service Center\, 225 Main St\, 1st Floor\, Worcester\, 01608\, United States
CATEGORIES:General Events
ATTACH;FMTTYPE=image/jpeg:https://communitylegal.org/wp-content/uploads/2025/06/Pro-Bono-Eviction-Sealing-Clinic-Training-Flyer-Spring-Summer-2025.jpg
GEO:42.261272;-71.8022812
X-APPLE-STRUCTURED-LOCATION;VALUE=URI;X-ADDRESS=Worcester Court Service Center 225 Main St 1st Floor Worcester 01608 United States;X-APPLE-RADIUS=500;X-TITLE=225 Main St\, 1st Floor:geo:-71.8022812,42.261272
END:VEVENT
BEGIN:VEVENT
DTSTART;TZID=America/New_York:20250725T130000
DTEND;TZID=America/New_York:20250725T160000
DTSTAMP:20260424T031324
CREATED:20250603T172026Z
LAST-MODIFIED:20250609T144543Z
UID:14140-1753448400-1753459200@communitylegal.org
SUMMARY:Fitchburg Eviction Sealing Clinic
DESCRIPTION:Under a NEW LAW you may be able to remove an eviction from your record. Go to SealMyEviction.org to learn more. NEED HELP? Community Legal Aid is running an eviction sealing clinic to help eligible tenants. \nLast Fridays of the month\, 1:00 P.M. – 4:00 P.M.\nJune 27\, 2025\, July 25\, 2025\, August 29\, 2025\nMaking Opportunity Count (MOC) Family Resource Center\, 76 Summer Street\, #230\, Fitchburg\, MA 01420\nSign up in advance by calling (855) 252-5342 or walk in during clinic hours. \n\nBajo una NUEVA LEY usted puede ser capaz de eliminar un desalojo de su registro. Visite SealMyEviction.org para obtener más información. ¿NECESITA AYUDA? Community Legal Aid está llevando a cabo una clínica de sellado de desalojos para ayudar a los inquilinos elegibles a llenar las peticiones de sellado. \nViernes: 27 de junio de 2025\, 25 de julio de 2025\, y 29 de agosto de 2025\, de 1:00 a 4:00.\nMaking Opportunity Count (MOC) Family Resource Center\, 76 Summer Street\, #230\, Fitchburg\, MA 01420\nInscríbase por adelantado llamando al (978) 516-5155 o venga durante las horas de la clínica. \nDownload Flyer / Descargar folleto
URL:https://communitylegal.org/event/fitchburg-eviction-sealing-clinic/2025-07-25/
LOCATION:MOC Family Resource Center\, 76 Summer Street\, #230\, Fitchburg\, 01420\, United States
CATEGORIES:General Events
ATTACH;FMTTYPE=image/jpeg:https://communitylegal.org/wp-content/uploads/2025/06/Pro-Bono-Eviction-Sealing-Clinic-Training-Flyer-Spring-Summer-2025.jpg
GEO:42.5793818;-71.7866973
X-APPLE-STRUCTURED-LOCATION;VALUE=URI;X-ADDRESS=MOC Family Resource Center 76 Summer Street #230 Fitchburg 01420 United States;X-APPLE-RADIUS=500;X-TITLE=76 Summer Street\, #230:geo:-71.7866973,42.5793818
END:VEVENT
BEGIN:VEVENT
DTSTART;TZID=America/New_York:20250731T090000
DTEND;TZID=America/New_York:20250731T130000
DTSTAMP:20260424T031324
CREATED:20250603T153759Z
LAST-MODIFIED:20250603T153759Z
UID:14150-1753952400-1753966800@communitylegal.org
SUMMARY:Worcester Eviction Sealing Clinic
DESCRIPTION:Under a NEW LAW you may be able to remove an eviction from your record. Go to SealMyEviction.org to learn more. NEED HELP? Community Legal Aid and MetroWest Legal Services are running an eviction sealing clinic to help eligible tenants. \nThursdays\, 9 A.M. to 1 P.M.\, May 15 – Aug. 21\, 2025\nCourt Services Center\, Worcester Courthouse\, 1st Floor\, 225 Main Street\, Worcester \nSign up in advance by calling (855) 252-5342 (Worcester County residents) or (508) 620-1830 (Middlesex or Norfolk County residents) or walk in during clinic hours. \n— \nBajo una NUEVA LEY usted puede ser capaz de eliminar un desalojo de su registro. Visite SealMyEviction.org para obtener más información. ¿NECESITA AYUDA? Community Legal Aid y MetroWest Legal Services están llevando a cabo una clínica de sellado de desalojos para ayudar a los inquilinos elegibles a llenar las peticiones de sellado. \nJueves\, 9 A.M. a 1 P.M.\, Mayo 15 – Agosto 21\, 2025\nCentro de Servicios de la Corte\, Corte de Worcester\, 1er Piso\, 225 Main Street\, Worcester \nInscríbase por adelantado llamando al (855) 252-5342 (residentes del condado de Worcester) o (508) 620-1830 (residentes de los condados de Middlesex y Norfolk) o venga durante las horas de la clínica. \nDownload Flyer / Descargar folleto
URL:https://communitylegal.org/event/worcester-eviction-sealing-clinic/2025-07-31/
LOCATION:Worcester Court Service Center\, 225 Main St\, 1st Floor\, Worcester\, 01608\, United States
CATEGORIES:General Events
ATTACH;FMTTYPE=image/jpeg:https://communitylegal.org/wp-content/uploads/2025/06/Pro-Bono-Eviction-Sealing-Clinic-Training-Flyer-Spring-Summer-2025.jpg
GEO:42.261272;-71.8022812
X-APPLE-STRUCTURED-LOCATION;VALUE=URI;X-ADDRESS=Worcester Court Service Center 225 Main St 1st Floor Worcester 01608 United States;X-APPLE-RADIUS=500;X-TITLE=225 Main St\, 1st Floor:geo:-71.8022812,42.261272
END:VEVENT
END:VCALENDAR