BEGIN:VCALENDAR
VERSION:2.0
PRODID:-//Community Legal Aid - ECPv6.15.20//NONSGML v1.0//EN
CALSCALE:GREGORIAN
METHOD:PUBLISH
X-WR-CALNAME:Community Legal Aid
X-ORIGINAL-URL:https://communitylegal.org
X-WR-CALDESC:Events for Community Legal Aid
REFRESH-INTERVAL;VALUE=DURATION:PT1H
X-Robots-Tag:noindex
X-PUBLISHED-TTL:PT1H
BEGIN:VTIMEZONE
TZID:America/New_York
BEGIN:DAYLIGHT
TZOFFSETFROM:-0500
TZOFFSETTO:-0400
TZNAME:EDT
DTSTART:20240310T070000
END:DAYLIGHT
BEGIN:STANDARD
TZOFFSETFROM:-0400
TZOFFSETTO:-0500
TZNAME:EST
DTSTART:20241103T060000
END:STANDARD
BEGIN:DAYLIGHT
TZOFFSETFROM:-0500
TZOFFSETTO:-0400
TZNAME:EDT
DTSTART:20250309T070000
END:DAYLIGHT
BEGIN:STANDARD
TZOFFSETFROM:-0400
TZOFFSETTO:-0500
TZNAME:EST
DTSTART:20251102T060000
END:STANDARD
BEGIN:DAYLIGHT
TZOFFSETFROM:-0500
TZOFFSETTO:-0400
TZNAME:EDT
DTSTART:20260308T070000
END:DAYLIGHT
BEGIN:STANDARD
TZOFFSETFROM:-0400
TZOFFSETTO:-0500
TZNAME:EST
DTSTART:20261101T060000
END:STANDARD
END:VTIMEZONE
BEGIN:VEVENT
DTSTART;TZID=America/New_York:20251008T033000
DTEND;TZID=America/New_York:20251008T053000
DTSTAMP:20260424T002907
CREATED:20250929T194652Z
LAST-MODIFIED:20251002T212409Z
UID:14792-1759894200-1759901400@communitylegal.org
SUMMARY:Know Your Rights: Sexual Harassment in Housing
DESCRIPTION:Join Community Legal Aid\, Western New England University’s Women’s Law Association\, and Heisler\, Feldman & Ordorica\, PC for an important event raising awareness about sexual harassment in housing. \n\nExperienced attorneys will lead a Know Your Rights training on fair housing laws and renter protections\nLearn about your rights as a tenant and how to address housing issues\nGet guidance on landlord disputes and protections\nJoin a community conversation on sexual harassment in housing where you can share your experiences\, ask questions\, and collaborate on strategies for change\n\nWHEN: Wednesday\, October 8\, 2025\, 3:30 – 5:30 PM \nWHERE: Western New England University\, Blake Law Center – 2nd Floor – Room B\, 1215 Wilbraham Road\, Springfield\, MA 01119 \nRegister in advance.
URL:https://communitylegal.org/event/harassment-housing/
LOCATION:Western New England University\, 1215 Wilbraham Road\, Springfield\, MA\, 01119\, United States
CATEGORIES:General Events
ATTACH;FMTTYPE=image/jpeg:https://communitylegal.org/wp-content/uploads/2025/09/Sexual-Harassment-in-Housing-Flyer.jpeg
GEO:42.116076;-72.5198801
X-APPLE-STRUCTURED-LOCATION;VALUE=URI;X-ADDRESS=Western New England University 1215 Wilbraham Road Springfield MA 01119 United States;X-APPLE-RADIUS=500;X-TITLE=1215 Wilbraham Road:geo:-72.5198801,42.116076
END:VEVENT
END:VCALENDAR