BEGIN:VCALENDAR
VERSION:2.0
PRODID:-//Community Legal Aid - ECPv6.15.20//NONSGML v1.0//EN
CALSCALE:GREGORIAN
METHOD:PUBLISH
X-WR-CALNAME:Community Legal Aid
X-ORIGINAL-URL:https://communitylegal.org
X-WR-CALDESC:Events for Community Legal Aid
REFRESH-INTERVAL;VALUE=DURATION:PT1H
X-Robots-Tag:noindex
X-PUBLISHED-TTL:PT1H
BEGIN:VTIMEZONE
TZID:America/New_York
BEGIN:DAYLIGHT
TZOFFSETFROM:-0500
TZOFFSETTO:-0400
TZNAME:EDT
DTSTART:20250309T070000
END:DAYLIGHT
BEGIN:STANDARD
TZOFFSETFROM:-0400
TZOFFSETTO:-0500
TZNAME:EST
DTSTART:20251102T060000
END:STANDARD
BEGIN:DAYLIGHT
TZOFFSETFROM:-0500
TZOFFSETTO:-0400
TZNAME:EDT
DTSTART:20260308T070000
END:DAYLIGHT
BEGIN:STANDARD
TZOFFSETFROM:-0400
TZOFFSETTO:-0500
TZNAME:EST
DTSTART:20261101T060000
END:STANDARD
BEGIN:DAYLIGHT
TZOFFSETFROM:-0500
TZOFFSETTO:-0400
TZNAME:EDT
DTSTART:20270314T070000
END:DAYLIGHT
BEGIN:STANDARD
TZOFFSETFROM:-0400
TZOFFSETTO:-0500
TZNAME:EST
DTSTART:20271107T060000
END:STANDARD
END:VTIMEZONE
BEGIN:VEVENT
DTSTART;TZID=America/New_York:20260422T090000
DTEND;TZID=America/New_York:20260422T120000
DTSTAMP:20260423T172534
CREATED:20260317T161127Z
LAST-MODIFIED:20260317T161254Z
UID:15556-1776848400-1776859200@communitylegal.org
SUMMARY:Hampden County Conciliation Project (Virtual)
DESCRIPTION:The Hampden County Conciliation Project\, a collaboration between Community Legal Aid (CLA) and the Hampden County Bar Association (HCBA)\, assists litigants who have made a court appearance and whose case the presiding Judge believes would be better resolved through the assistance of a trained neutral conciliator. \nCLA is seeking volunteers for this Project to help with virtual conciliation. This registration page is for ATTORNEY signups only – NOT LITIGANTS.  \nVolunteers sign up for 3-hour shifts\, which occur every other Wednesday from 9AM to 12PM. CLA and HCBA staff assist with scheduling two cases per shift. Staff will reach out to the respective parties to schedule their conciliation\, will be available on Zoom to assist the volunteer\, and can assist in executing agreements and sending them to the Court.
URL:https://communitylegal.org/event/hampden-county-conciliation-project-virtual/2026-04-22/
CATEGORIES:Pro Bono,General Events
END:VEVENT
END:VCALENDAR