BEGIN:VCALENDAR
VERSION:2.0
PRODID:-//Community Legal Aid - ECPv6.15.20//NONSGML v1.0//EN
CALSCALE:GREGORIAN
METHOD:PUBLISH
X-ORIGINAL-URL:https://communitylegal.org
X-WR-CALDESC:Events for Community Legal Aid
REFRESH-INTERVAL;VALUE=DURATION:PT1H
X-Robots-Tag:noindex
X-PUBLISHED-TTL:PT1H
BEGIN:VTIMEZONE
TZID:America/New_York
BEGIN:DAYLIGHT
TZOFFSETFROM:-0500
TZOFFSETTO:-0400
TZNAME:EDT
DTSTART:20240310T070000
END:DAYLIGHT
BEGIN:STANDARD
TZOFFSETFROM:-0400
TZOFFSETTO:-0500
TZNAME:EST
DTSTART:20241103T060000
END:STANDARD
BEGIN:DAYLIGHT
TZOFFSETFROM:-0500
TZOFFSETTO:-0400
TZNAME:EDT
DTSTART:20250309T070000
END:DAYLIGHT
BEGIN:STANDARD
TZOFFSETFROM:-0400
TZOFFSETTO:-0500
TZNAME:EST
DTSTART:20251102T060000
END:STANDARD
BEGIN:DAYLIGHT
TZOFFSETFROM:-0500
TZOFFSETTO:-0400
TZNAME:EDT
DTSTART:20260308T070000
END:DAYLIGHT
BEGIN:STANDARD
TZOFFSETFROM:-0400
TZOFFSETTO:-0500
TZNAME:EST
DTSTART:20261101T060000
END:STANDARD
END:VTIMEZONE
BEGIN:VEVENT
DTSTART;TZID=America/New_York:20250502T090000
DTEND;TZID=America/New_York:20250502T110000
DTSTAMP:20260424T033057
CREATED:20250326T190934Z
LAST-MODIFIED:20250326T191001Z
UID:13720-1746176400-1746183600@communitylegal.org
SUMMARY:Bloom and Brew: A Volunteer Appreciation Event
DESCRIPTION:Community Legal Aid cordially invites you to “Bloom and Brew\,” a volunteer appreciation event. Join us for coffee and breakfast at Nosh Restaurant and Café in Downtown Springfield as we thank all of our pro bono attorneys\, Access to Justice Campaign volunteers\, and community partners for your ongoing support. \nLet us know if you will be joining us! Register HERE
URL:https://communitylegal.org/event/bloom-and-brew-a-volunteer-appreciation-event/
LOCATION:Nosh Cafe\, 1341 Main Street\, Springfield\, MA\, United States
CATEGORIES:Pro Bono,General Events
GEO:42.1022523;-72.5888622
X-APPLE-STRUCTURED-LOCATION;VALUE=URI;X-ADDRESS=Nosh Cafe 1341 Main Street Springfield MA United States;X-APPLE-RADIUS=500;X-TITLE=1341 Main Street:geo:-72.5888622,42.1022523
END:VEVENT
BEGIN:VEVENT
DTSTART;TZID=America/New_York:20250506T084500
DTEND;TZID=America/New_York:20250506T110000
DTSTAMP:20260424T033057
CREATED:20230209T181704Z
LAST-MODIFIED:20260122T145120Z
UID:10353-1746521100-1746529200@communitylegal.org
SUMMARY:Worcester District Court Small Claims Lawyer for the Day
DESCRIPTION:VOLUNTEER CALL TO ACTION! \nThis remote Lawyer for the Day program is a collaborative pro bono project with the Worcester County Bar Association (WCBA) that provides Limited Assistance Representation (LAR) to low-income debtors in the Worcester District Court\, Small Claims Session. This program takes places every Tuesday morning between 8:45 – 11:00 A.M. via Zoom. \nSIGN UP HERE for a session between January and March 2026! \n 
URL:https://communitylegal.org/event/worcester-district-court-small-claims-lawyer-for-the-day/2025-05-06/
LOCATION:via Zoom\, MA\, United States
CATEGORIES:Pro Bono
GEO:42.4072107;-71.3824374
END:VEVENT
BEGIN:VEVENT
DTSTART;TZID=America/New_York:20250508T130000
DTEND;TZID=America/New_York:20250508T143000
DTSTAMP:20260424T033057
CREATED:20250321T184843Z
LAST-MODIFIED:20250326T184755Z
UID:13682-1746709200-1746714600@communitylegal.org
SUMMARY:Legal Name Changes: A Pro Bono Attorney's Guide (Free Training)
DESCRIPTION:FREE training opportunity!\n\nJoin Community Legal Aid (CLA)\, Northeast Legal Aid (NLA)\, the MA LGBTQ Bar Association\, and the Gender Identity Validation Services (GIVS) for a pro bono attorney training on legal name changes in Massachusetts for transgender\, nonbinary\, and gender-diverse individuals. \nThe training is FREE with your commitment to assist with at least one pro bono referral in the coming year. \nPlease register for the training HERE. \n 
URL:https://communitylegal.org/event/legal-name-changes-a-pro-bono-attorneys-guide-free-training/
LOCATION:Virtual
CATEGORIES:Pro Bono
ATTACH;FMTTYPE=image/png:https://communitylegal.org/wp-content/uploads/2025/03/With-MA-LGBTQ-Logo.png
END:VEVENT
BEGIN:VEVENT
DTSTART;TZID=America/New_York:20250513T084500
DTEND;TZID=America/New_York:20250513T110000
DTSTAMP:20260424T033057
CREATED:20230209T181704Z
LAST-MODIFIED:20260122T145122Z
UID:10359-1747125900-1747134000@communitylegal.org
SUMMARY:Worcester District Court Small Claims Lawyer for the Day
DESCRIPTION:VOLUNTEER CALL TO ACTION! \nThis remote Lawyer for the Day program is a collaborative pro bono project with the Worcester County Bar Association (WCBA) that provides Limited Assistance Representation (LAR) to low-income debtors in the Worcester District Court\, Small Claims Session. This program takes places every Tuesday morning between 8:45 – 11:00 A.M. via Zoom. \nSIGN UP HERE for a session between January and March 2026! \n 
URL:https://communitylegal.org/event/worcester-district-court-small-claims-lawyer-for-the-day/2025-05-13/
LOCATION:via Zoom\, MA\, United States
CATEGORIES:Pro Bono
GEO:42.4072107;-71.3824374
END:VEVENT
BEGIN:VEVENT
DTSTART;TZID=America/New_York:20250515T090000
DTEND;TZID=America/New_York:20250515T130000
DTSTAMP:20260424T033057
CREATED:20250515T183029Z
LAST-MODIFIED:20250603T152737Z
UID:13986-1747299600-1747314000@communitylegal.org
SUMMARY:Worcester Eviction Sealing Clinic (Pro Bono Opportunity)
DESCRIPTION:Under a new law\, tenants in Massachusetts will be able to remove certain evictions from their record so that they do not show up when future landlords or creditors search for their names. However\, these evictions are not automatically sealed. Tenants must file a petition with the Court where the eviction was filed to request that the eviction be sealed. \nWe need YOUR HELP! Join Community Legal Aid and MetroWest Legal Services at the Worcester Court Service Center on Thursdays from 9 a.m. to 1 p.m. for an Eviction Sealing Clinic. Draft petitions for eligible tenants which they can file on their own. This is an exciting opportunity to get hands-on experience conducting client interviews and drafting court forms. \nPlease review the dates below and sign up. Thank you! \nTrainings and opportunities to shadow experience CLA and MWLS housing attorneys are available to all volunteers.
URL:https://communitylegal.org/event/worcester-eviction-record-sealing-clinic/2025-05-15/
LOCATION:Worcester Court Service Center\, 225 Main St\, 1st Floor\, Worcester\, 01608\, United States
CATEGORIES:Pro Bono
GEO:42.261272;-71.8022812
X-APPLE-STRUCTURED-LOCATION;VALUE=URI;X-ADDRESS=Worcester Court Service Center 225 Main St 1st Floor Worcester 01608 United States;X-APPLE-RADIUS=500;X-TITLE=225 Main St\, 1st Floor:geo:-71.8022812,42.261272
END:VEVENT
BEGIN:VEVENT
DTSTART;TZID=America/New_York:20250516T120000
DTEND;TZID=America/New_York:20250516T140000
DTSTAMP:20260424T033057
CREATED:20250326T185512Z
LAST-MODIFIED:20250411T143027Z
UID:13717-1747396800-1747404000@communitylegal.org
SUMMARY:Estate Planning 101: Free Pro Bono Training (Virtual)
DESCRIPTION:FREE Virtual Training Opportunity!\nJoin Community Legal Aid (CLA) and Linda Cammuso\, Esq. for a comprehensive virtual training on how to prepare estate planning documents\, including Wills\, Health Care Proxies\, and Powers of Attorney. New practitioners are encouraged to attend. \nThis training is FREE with your commitment to assist with at least one pro bono referral in the coming year. \nRegister now for the Zoom! \nAttorney Linda Cammuso is a founding partner at Estate Preservation Law Offices\, with offices in Worcester\, Uxbridge\, Leominster\, Braintree\, and Hyannis. Attorney Cammuso’s practice focuses on estate and asset protection planning\, estate and trust administration\, tax planning\, elder and disability law\, and corporate and business planning. Attorney Cammuso previously worked in the nursing home industry\, where she gained valuable insight into elder law and long-term care issues. Her knowledge in this field is a distinct benefit in working with clients who are facing long-term care planning challenges. \nAttorney Cammuso is accredited by the Department of Veterans Affairs and provides veterans and their families with advice on the complex areas of law regarding VA pension benefits\, also known as Aid & Attendance. She has served as a member of the Board of Directors for various nonprofit organizations including Girls Inc. of Worcester (of which she was also the Secretary and Second Vice President)\, LUK Inc. and Spring House. She has provided pro bono estate planning assistance to CLA’s clients for 10 years.
URL:https://communitylegal.org/event/estate-planning-101-free-training/
LOCATION:Virtual
CATEGORIES:Pro Bono,General Events
END:VEVENT
BEGIN:VEVENT
DTSTART;TZID=America/New_York:20250520T084500
DTEND;TZID=America/New_York:20250520T110000
DTSTAMP:20260424T033057
CREATED:20230209T181704Z
LAST-MODIFIED:20260122T145125Z
UID:10380-1747730700-1747738800@communitylegal.org
SUMMARY:Worcester District Court Small Claims Lawyer for the Day
DESCRIPTION:VOLUNTEER CALL TO ACTION! \nThis remote Lawyer for the Day program is a collaborative pro bono project with the Worcester County Bar Association (WCBA) that provides Limited Assistance Representation (LAR) to low-income debtors in the Worcester District Court\, Small Claims Session. This program takes places every Tuesday morning between 8:45 – 11:00 A.M. via Zoom. \nSIGN UP HERE for a session between January and March 2026! \n 
URL:https://communitylegal.org/event/worcester-district-court-small-claims-lawyer-for-the-day/2025-05-20/
LOCATION:via Zoom\, MA\, United States
CATEGORIES:Pro Bono
GEO:42.4072107;-71.3824374
END:VEVENT
BEGIN:VEVENT
DTSTART;TZID=America/New_York:20250522T090000
DTEND;TZID=America/New_York:20250522T130000
DTSTAMP:20260424T033057
CREATED:20250515T183029Z
LAST-MODIFIED:20250603T152739Z
UID:13987-1747904400-1747918800@communitylegal.org
SUMMARY:Worcester Eviction Sealing Clinic (Pro Bono Opportunity)
DESCRIPTION:Under a new law\, tenants in Massachusetts will be able to remove certain evictions from their record so that they do not show up when future landlords or creditors search for their names. However\, these evictions are not automatically sealed. Tenants must file a petition with the Court where the eviction was filed to request that the eviction be sealed. \nWe need YOUR HELP! Join Community Legal Aid and MetroWest Legal Services at the Worcester Court Service Center on Thursdays from 9 a.m. to 1 p.m. for an Eviction Sealing Clinic. Draft petitions for eligible tenants which they can file on their own. This is an exciting opportunity to get hands-on experience conducting client interviews and drafting court forms. \nPlease review the dates below and sign up. Thank you! \nTrainings and opportunities to shadow experience CLA and MWLS housing attorneys are available to all volunteers.
URL:https://communitylegal.org/event/worcester-eviction-record-sealing-clinic/2025-05-22/
LOCATION:Worcester Court Service Center\, 225 Main St\, 1st Floor\, Worcester\, 01608\, United States
CATEGORIES:Pro Bono
GEO:42.261272;-71.8022812
X-APPLE-STRUCTURED-LOCATION;VALUE=URI;X-ADDRESS=Worcester Court Service Center 225 Main St 1st Floor Worcester 01608 United States;X-APPLE-RADIUS=500;X-TITLE=225 Main St\, 1st Floor:geo:-71.8022812,42.261272
END:VEVENT
BEGIN:VEVENT
DTSTART;TZID=America/New_York:20250527T084500
DTEND;TZID=America/New_York:20250527T110000
DTSTAMP:20260424T033057
CREATED:20230209T181704Z
LAST-MODIFIED:20260122T145135Z
UID:10477-1748335500-1748343600@communitylegal.org
SUMMARY:Worcester District Court Small Claims Lawyer for the Day
DESCRIPTION:VOLUNTEER CALL TO ACTION! \nThis remote Lawyer for the Day program is a collaborative pro bono project with the Worcester County Bar Association (WCBA) that provides Limited Assistance Representation (LAR) to low-income debtors in the Worcester District Court\, Small Claims Session. This program takes places every Tuesday morning between 8:45 – 11:00 A.M. via Zoom. \nSIGN UP HERE for a session between January and March 2026! \n 
URL:https://communitylegal.org/event/worcester-district-court-small-claims-lawyer-for-the-day/2025-05-27/
LOCATION:via Zoom\, MA\, United States
CATEGORIES:Pro Bono
GEO:42.4072107;-71.3824374
END:VEVENT
BEGIN:VEVENT
DTSTART;TZID=America/New_York:20250529T090000
DTEND;TZID=America/New_York:20250529T130000
DTSTAMP:20260424T033057
CREATED:20250515T183029Z
LAST-MODIFIED:20250603T152741Z
UID:13988-1748509200-1748523600@communitylegal.org
SUMMARY:Worcester Eviction Sealing Clinic (Pro Bono Opportunity)
DESCRIPTION:Under a new law\, tenants in Massachusetts will be able to remove certain evictions from their record so that they do not show up when future landlords or creditors search for their names. However\, these evictions are not automatically sealed. Tenants must file a petition with the Court where the eviction was filed to request that the eviction be sealed. \nWe need YOUR HELP! Join Community Legal Aid and MetroWest Legal Services at the Worcester Court Service Center on Thursdays from 9 a.m. to 1 p.m. for an Eviction Sealing Clinic. Draft petitions for eligible tenants which they can file on their own. This is an exciting opportunity to get hands-on experience conducting client interviews and drafting court forms. \nPlease review the dates below and sign up. Thank you! \nTrainings and opportunities to shadow experience CLA and MWLS housing attorneys are available to all volunteers.
URL:https://communitylegal.org/event/worcester-eviction-record-sealing-clinic/2025-05-29/
LOCATION:Worcester Court Service Center\, 225 Main St\, 1st Floor\, Worcester\, 01608\, United States
CATEGORIES:Pro Bono
GEO:42.261272;-71.8022812
X-APPLE-STRUCTURED-LOCATION;VALUE=URI;X-ADDRESS=Worcester Court Service Center 225 Main St 1st Floor Worcester 01608 United States;X-APPLE-RADIUS=500;X-TITLE=225 Main St\, 1st Floor:geo:-71.8022812,42.261272
END:VEVENT
END:VCALENDAR