BEGIN:VCALENDAR
VERSION:2.0
PRODID:-//Community Legal Aid - ECPv6.15.20//NONSGML v1.0//EN
CALSCALE:GREGORIAN
METHOD:PUBLISH
X-WR-CALNAME:Community Legal Aid
X-ORIGINAL-URL:https://communitylegal.org
X-WR-CALDESC:Events for Community Legal Aid
REFRESH-INTERVAL;VALUE=DURATION:PT1H
X-Robots-Tag:noindex
X-PUBLISHED-TTL:PT1H
BEGIN:VTIMEZONE
TZID:America/New_York
BEGIN:DAYLIGHT
TZOFFSETFROM:-0500
TZOFFSETTO:-0400
TZNAME:EDT
DTSTART:20240310T070000
END:DAYLIGHT
BEGIN:STANDARD
TZOFFSETFROM:-0400
TZOFFSETTO:-0500
TZNAME:EST
DTSTART:20241103T060000
END:STANDARD
BEGIN:DAYLIGHT
TZOFFSETFROM:-0500
TZOFFSETTO:-0400
TZNAME:EDT
DTSTART:20250309T070000
END:DAYLIGHT
BEGIN:STANDARD
TZOFFSETFROM:-0400
TZOFFSETTO:-0500
TZNAME:EST
DTSTART:20251102T060000
END:STANDARD
BEGIN:DAYLIGHT
TZOFFSETFROM:-0500
TZOFFSETTO:-0400
TZNAME:EDT
DTSTART:20260308T070000
END:DAYLIGHT
BEGIN:STANDARD
TZOFFSETFROM:-0400
TZOFFSETTO:-0500
TZNAME:EST
DTSTART:20261101T060000
END:STANDARD
END:VTIMEZONE
BEGIN:VEVENT
DTSTART;TZID=America/New_York:20250805T084500
DTEND;TZID=America/New_York:20250805T110000
DTSTAMP:20260423T232828
CREATED:20230209T181704Z
LAST-MODIFIED:20260122T145209Z
UID:10640-1754383500-1754391600@communitylegal.org
SUMMARY:Worcester District Court Small Claims Lawyer for the Day
DESCRIPTION:VOLUNTEER CALL TO ACTION! \nThis remote Lawyer for the Day program is a collaborative pro bono project with the Worcester County Bar Association (WCBA) that provides Limited Assistance Representation (LAR) to low-income debtors in the Worcester District Court\, Small Claims Session. This program takes places every Tuesday morning between 8:45 – 11:00 A.M. via Zoom. \nSIGN UP HERE for a session between January and March 2026! \n 
URL:https://communitylegal.org/event/worcester-district-court-small-claims-lawyer-for-the-day/2025-08-05/
LOCATION:via Zoom\, MA\, United States
CATEGORIES:Pro Bono
GEO:42.4072107;-71.3824374
END:VEVENT
BEGIN:VEVENT
DTSTART;TZID=America/New_York:20250807T090000
DTEND;TZID=America/New_York:20250807T130000
DTSTAMP:20260423T232828
CREATED:20250515T183029Z
LAST-MODIFIED:20250603T152808Z
UID:13999-1754557200-1754571600@communitylegal.org
SUMMARY:Worcester Eviction Sealing Clinic (Pro Bono Opportunity)
DESCRIPTION:Under a new law\, tenants in Massachusetts will be able to remove certain evictions from their record so that they do not show up when future landlords or creditors search for their names. However\, these evictions are not automatically sealed. Tenants must file a petition with the Court where the eviction was filed to request that the eviction be sealed. \nWe need YOUR HELP! Join Community Legal Aid and MetroWest Legal Services at the Worcester Court Service Center on Thursdays from 9 a.m. to 1 p.m. for an Eviction Sealing Clinic. Draft petitions for eligible tenants which they can file on their own. This is an exciting opportunity to get hands-on experience conducting client interviews and drafting court forms. \nPlease review the dates below and sign up. Thank you! \nTrainings and opportunities to shadow experience CLA and MWLS housing attorneys are available to all volunteers.
URL:https://communitylegal.org/event/worcester-eviction-record-sealing-clinic/2025-08-07/
LOCATION:Worcester Court Service Center\, 225 Main St\, 1st Floor\, Worcester\, 01608\, United States
CATEGORIES:Pro Bono
GEO:42.261272;-71.8022812
X-APPLE-STRUCTURED-LOCATION;VALUE=URI;X-ADDRESS=Worcester Court Service Center 225 Main St 1st Floor Worcester 01608 United States;X-APPLE-RADIUS=500;X-TITLE=225 Main St\, 1st Floor:geo:-71.8022812,42.261272
END:VEVENT
BEGIN:VEVENT
DTSTART;TZID=America/New_York:20250812T084500
DTEND;TZID=America/New_York:20250812T110000
DTSTAMP:20260423T232828
CREATED:20230209T181704Z
LAST-MODIFIED:20260122T145210Z
UID:10649-1754988300-1754996400@communitylegal.org
SUMMARY:Worcester District Court Small Claims Lawyer for the Day
DESCRIPTION:VOLUNTEER CALL TO ACTION! \nThis remote Lawyer for the Day program is a collaborative pro bono project with the Worcester County Bar Association (WCBA) that provides Limited Assistance Representation (LAR) to low-income debtors in the Worcester District Court\, Small Claims Session. This program takes places every Tuesday morning between 8:45 – 11:00 A.M. via Zoom. \nSIGN UP HERE for a session between January and March 2026! \n 
URL:https://communitylegal.org/event/worcester-district-court-small-claims-lawyer-for-the-day/2025-08-12/
LOCATION:via Zoom\, MA\, United States
CATEGORIES:Pro Bono
GEO:42.4072107;-71.3824374
END:VEVENT
BEGIN:VEVENT
DTSTART;TZID=America/New_York:20250814T090000
DTEND;TZID=America/New_York:20250814T130000
DTSTAMP:20260423T232828
CREATED:20250515T183029Z
LAST-MODIFIED:20250603T152808Z
UID:14000-1755162000-1755176400@communitylegal.org
SUMMARY:Worcester Eviction Sealing Clinic (Pro Bono Opportunity)
DESCRIPTION:Under a new law\, tenants in Massachusetts will be able to remove certain evictions from their record so that they do not show up when future landlords or creditors search for their names. However\, these evictions are not automatically sealed. Tenants must file a petition with the Court where the eviction was filed to request that the eviction be sealed. \nWe need YOUR HELP! Join Community Legal Aid and MetroWest Legal Services at the Worcester Court Service Center on Thursdays from 9 a.m. to 1 p.m. for an Eviction Sealing Clinic. Draft petitions for eligible tenants which they can file on their own. This is an exciting opportunity to get hands-on experience conducting client interviews and drafting court forms. \nPlease review the dates below and sign up. Thank you! \nTrainings and opportunities to shadow experience CLA and MWLS housing attorneys are available to all volunteers.
URL:https://communitylegal.org/event/worcester-eviction-record-sealing-clinic/2025-08-14/
LOCATION:Worcester Court Service Center\, 225 Main St\, 1st Floor\, Worcester\, 01608\, United States
CATEGORIES:Pro Bono
GEO:42.261272;-71.8022812
X-APPLE-STRUCTURED-LOCATION;VALUE=URI;X-ADDRESS=Worcester Court Service Center 225 Main St 1st Floor Worcester 01608 United States;X-APPLE-RADIUS=500;X-TITLE=225 Main St\, 1st Floor:geo:-71.8022812,42.261272
END:VEVENT
BEGIN:VEVENT
DTSTART;TZID=America/New_York:20250819T084500
DTEND;TZID=America/New_York:20250819T110000
DTSTAMP:20260423T232828
CREATED:20230209T181704Z
LAST-MODIFIED:20260122T145210Z
UID:10704-1755593100-1755601200@communitylegal.org
SUMMARY:Worcester District Court Small Claims Lawyer for the Day
DESCRIPTION:VOLUNTEER CALL TO ACTION! \nThis remote Lawyer for the Day program is a collaborative pro bono project with the Worcester County Bar Association (WCBA) that provides Limited Assistance Representation (LAR) to low-income debtors in the Worcester District Court\, Small Claims Session. This program takes places every Tuesday morning between 8:45 – 11:00 A.M. via Zoom. \nSIGN UP HERE for a session between January and March 2026! \n 
URL:https://communitylegal.org/event/worcester-district-court-small-claims-lawyer-for-the-day/2025-08-19/
LOCATION:via Zoom\, MA\, United States
CATEGORIES:Pro Bono
GEO:42.4072107;-71.3824374
END:VEVENT
BEGIN:VEVENT
DTSTART;TZID=America/New_York:20250821T090000
DTEND;TZID=America/New_York:20250821T130000
DTSTAMP:20260423T232828
CREATED:20250515T183029Z
LAST-MODIFIED:20250603T152808Z
UID:14001-1755766800-1755781200@communitylegal.org
SUMMARY:Worcester Eviction Sealing Clinic (Pro Bono Opportunity)
DESCRIPTION:Under a new law\, tenants in Massachusetts will be able to remove certain evictions from their record so that they do not show up when future landlords or creditors search for their names. However\, these evictions are not automatically sealed. Tenants must file a petition with the Court where the eviction was filed to request that the eviction be sealed. \nWe need YOUR HELP! Join Community Legal Aid and MetroWest Legal Services at the Worcester Court Service Center on Thursdays from 9 a.m. to 1 p.m. for an Eviction Sealing Clinic. Draft petitions for eligible tenants which they can file on their own. This is an exciting opportunity to get hands-on experience conducting client interviews and drafting court forms. \nPlease review the dates below and sign up. Thank you! \nTrainings and opportunities to shadow experience CLA and MWLS housing attorneys are available to all volunteers.
URL:https://communitylegal.org/event/worcester-eviction-record-sealing-clinic/2025-08-21/
LOCATION:Worcester Court Service Center\, 225 Main St\, 1st Floor\, Worcester\, 01608\, United States
CATEGORIES:Pro Bono
GEO:42.261272;-71.8022812
X-APPLE-STRUCTURED-LOCATION;VALUE=URI;X-ADDRESS=Worcester Court Service Center 225 Main St 1st Floor Worcester 01608 United States;X-APPLE-RADIUS=500;X-TITLE=225 Main St\, 1st Floor:geo:-71.8022812,42.261272
END:VEVENT
BEGIN:VEVENT
DTSTART;TZID=America/New_York:20250826T084500
DTEND;TZID=America/New_York:20250826T110000
DTSTAMP:20260423T232828
CREATED:20230209T181704Z
LAST-MODIFIED:20260122T145211Z
UID:10717-1756197900-1756206000@communitylegal.org
SUMMARY:Worcester District Court Small Claims Lawyer for the Day
DESCRIPTION:VOLUNTEER CALL TO ACTION! \nThis remote Lawyer for the Day program is a collaborative pro bono project with the Worcester County Bar Association (WCBA) that provides Limited Assistance Representation (LAR) to low-income debtors in the Worcester District Court\, Small Claims Session. This program takes places every Tuesday morning between 8:45 – 11:00 A.M. via Zoom. \nSIGN UP HERE for a session between January and March 2026! \n 
URL:https://communitylegal.org/event/worcester-district-court-small-claims-lawyer-for-the-day/2025-08-26/
LOCATION:via Zoom\, MA\, United States
CATEGORIES:Pro Bono
GEO:42.4072107;-71.3824374
END:VEVENT
END:VCALENDAR