BEGIN:VCALENDAR
VERSION:2.0
PRODID:-//Community Legal Aid - ECPv6.15.20//NONSGML v1.0//EN
CALSCALE:GREGORIAN
METHOD:PUBLISH
X-WR-CALNAME:Community Legal Aid
X-ORIGINAL-URL:https://communitylegal.org
X-WR-CALDESC:Events for Community Legal Aid
REFRESH-INTERVAL;VALUE=DURATION:PT1H
X-Robots-Tag:noindex
X-PUBLISHED-TTL:PT1H
BEGIN:VTIMEZONE
TZID:America/New_York
BEGIN:DAYLIGHT
TZOFFSETFROM:-0500
TZOFFSETTO:-0400
TZNAME:EDT
DTSTART:20240310T070000
END:DAYLIGHT
BEGIN:STANDARD
TZOFFSETFROM:-0400
TZOFFSETTO:-0500
TZNAME:EST
DTSTART:20241103T060000
END:STANDARD
BEGIN:DAYLIGHT
TZOFFSETFROM:-0500
TZOFFSETTO:-0400
TZNAME:EDT
DTSTART:20250309T070000
END:DAYLIGHT
BEGIN:STANDARD
TZOFFSETFROM:-0400
TZOFFSETTO:-0500
TZNAME:EST
DTSTART:20251102T060000
END:STANDARD
BEGIN:DAYLIGHT
TZOFFSETFROM:-0500
TZOFFSETTO:-0400
TZNAME:EDT
DTSTART:20260308T070000
END:DAYLIGHT
BEGIN:STANDARD
TZOFFSETFROM:-0400
TZOFFSETTO:-0500
TZNAME:EST
DTSTART:20261101T060000
END:STANDARD
END:VTIMEZONE
BEGIN:VEVENT
DTSTART;TZID=America/New_York:20251001T090000
DTEND;TZID=America/New_York:20251001T130000
DTSTAMP:20260423T201728
CREATED:20250829T191343Z
LAST-MODIFIED:20250829T191859Z
UID:14582-1759309200-1759323600@communitylegal.org
SUMMARY:Worcester Probate and Family Court Lawyer for the Day Program
DESCRIPTION:Sign up to be a Lawyer for the Day! Advise litigants on their family law matters at the Worcester Probate and Family Court and assist with the drafting of emergency motions. Sessions are held every Wednesday from 9 a.m. to 1 p.m. \nCLA Pro Bono staff are on-site to assist with prescreening and file collection. \nSIGN UP HERE for a 2- or 4-hour session on Wednesday mornings from September 24\, 2025 – June 24\, 2026. \nCan’t volunteer for a half or full session? Join our on-call emergency email list. If there is a cancelation or the program is at capacity\, we will send a blast email to ask for volunteers for a 30- to 60-minute emergency session.
URL:https://communitylegal.org/event/worcester-and-family-court-lawyer-for-the-day-program/2025-10-01/
LOCATION:Worcester Probate and Family Court Registry\, 225 Main St\, 2nd Floor\, Worcester\, 01608\, United States
CATEGORIES:Pro Bono
GEO:42.267369;-71.7999815
X-APPLE-STRUCTURED-LOCATION;VALUE=URI;X-ADDRESS=Worcester Probate and Family Court Registry 225 Main St 2nd Floor Worcester 01608 United States;X-APPLE-RADIUS=500;X-TITLE=225 Main St\, 2nd Floor:geo:-71.7999815,42.267369
END:VEVENT
BEGIN:VEVENT
DTSTART;TZID=America/New_York:20251007T084500
DTEND;TZID=America/New_York:20251007T110000
DTSTAMP:20260423T201728
CREATED:20230209T181704Z
LAST-MODIFIED:20260122T145214Z
UID:11226-1759826700-1759834800@communitylegal.org
SUMMARY:Worcester District Court Small Claims Lawyer for the Day
DESCRIPTION:VOLUNTEER CALL TO ACTION! \nThis remote Lawyer for the Day program is a collaborative pro bono project with the Worcester County Bar Association (WCBA) that provides Limited Assistance Representation (LAR) to low-income debtors in the Worcester District Court\, Small Claims Session. This program takes places every Tuesday morning between 8:45 – 11:00 A.M. via Zoom. \nSIGN UP HERE for a session between January and March 2026! \n 
URL:https://communitylegal.org/event/worcester-district-court-small-claims-lawyer-for-the-day/2025-10-07/
LOCATION:via Zoom\, MA\, United States
CATEGORIES:Pro Bono
GEO:42.4072107;-71.3824374
END:VEVENT
BEGIN:VEVENT
DTSTART;TZID=America/New_York:20251008T090000
DTEND;TZID=America/New_York:20251008T130000
DTSTAMP:20260423T201728
CREATED:20250829T191343Z
LAST-MODIFIED:20250829T191901Z
UID:14583-1759914000-1759928400@communitylegal.org
SUMMARY:Worcester Probate and Family Court Lawyer for the Day Program
DESCRIPTION:Sign up to be a Lawyer for the Day! Advise litigants on their family law matters at the Worcester Probate and Family Court and assist with the drafting of emergency motions. Sessions are held every Wednesday from 9 a.m. to 1 p.m. \nCLA Pro Bono staff are on-site to assist with prescreening and file collection. \nSIGN UP HERE for a 2- or 4-hour session on Wednesday mornings from September 24\, 2025 – June 24\, 2026. \nCan’t volunteer for a half or full session? Join our on-call emergency email list. If there is a cancelation or the program is at capacity\, we will send a blast email to ask for volunteers for a 30- to 60-minute emergency session.
URL:https://communitylegal.org/event/worcester-and-family-court-lawyer-for-the-day-program/2025-10-08/
LOCATION:Worcester Probate and Family Court Registry\, 225 Main St\, 2nd Floor\, Worcester\, 01608\, United States
CATEGORIES:Pro Bono
GEO:42.267369;-71.7999815
X-APPLE-STRUCTURED-LOCATION;VALUE=URI;X-ADDRESS=Worcester Probate and Family Court Registry 225 Main St 2nd Floor Worcester 01608 United States;X-APPLE-RADIUS=500;X-TITLE=225 Main St\, 2nd Floor:geo:-71.7999815,42.267369
END:VEVENT
BEGIN:VEVENT
DTSTART;TZID=America/New_York:20251014T084500
DTEND;TZID=America/New_York:20251014T110000
DTSTAMP:20260423T201728
CREATED:20230209T181704Z
LAST-MODIFIED:20260122T145215Z
UID:11254-1760431500-1760439600@communitylegal.org
SUMMARY:Worcester District Court Small Claims Lawyer for the Day
DESCRIPTION:VOLUNTEER CALL TO ACTION! \nThis remote Lawyer for the Day program is a collaborative pro bono project with the Worcester County Bar Association (WCBA) that provides Limited Assistance Representation (LAR) to low-income debtors in the Worcester District Court\, Small Claims Session. This program takes places every Tuesday morning between 8:45 – 11:00 A.M. via Zoom. \nSIGN UP HERE for a session between January and March 2026! \n 
URL:https://communitylegal.org/event/worcester-district-court-small-claims-lawyer-for-the-day/2025-10-14/
LOCATION:via Zoom\, MA\, United States
CATEGORIES:Pro Bono
GEO:42.4072107;-71.3824374
END:VEVENT
BEGIN:VEVENT
DTSTART;TZID=America/New_York:20251015T090000
DTEND;TZID=America/New_York:20251015T130000
DTSTAMP:20260423T201728
CREATED:20250829T191343Z
LAST-MODIFIED:20250829T191903Z
UID:14584-1760518800-1760533200@communitylegal.org
SUMMARY:Worcester Probate and Family Court Lawyer for the Day Program
DESCRIPTION:Sign up to be a Lawyer for the Day! Advise litigants on their family law matters at the Worcester Probate and Family Court and assist with the drafting of emergency motions. Sessions are held every Wednesday from 9 a.m. to 1 p.m. \nCLA Pro Bono staff are on-site to assist with prescreening and file collection. \nSIGN UP HERE for a 2- or 4-hour session on Wednesday mornings from September 24\, 2025 – June 24\, 2026. \nCan’t volunteer for a half or full session? Join our on-call emergency email list. If there is a cancelation or the program is at capacity\, we will send a blast email to ask for volunteers for a 30- to 60-minute emergency session.
URL:https://communitylegal.org/event/worcester-and-family-court-lawyer-for-the-day-program/2025-10-15/
LOCATION:Worcester Probate and Family Court Registry\, 225 Main St\, 2nd Floor\, Worcester\, 01608\, United States
CATEGORIES:Pro Bono
GEO:42.267369;-71.7999815
X-APPLE-STRUCTURED-LOCATION;VALUE=URI;X-ADDRESS=Worcester Probate and Family Court Registry 225 Main St 2nd Floor Worcester 01608 United States;X-APPLE-RADIUS=500;X-TITLE=225 Main St\, 2nd Floor:geo:-71.7999815,42.267369
END:VEVENT
BEGIN:VEVENT
DTSTART;TZID=America/New_York:20251021T084500
DTEND;TZID=America/New_York:20251021T110000
DTSTAMP:20260423T201728
CREATED:20230209T181704Z
LAST-MODIFIED:20260122T145216Z
UID:11291-1761036300-1761044400@communitylegal.org
SUMMARY:Worcester District Court Small Claims Lawyer for the Day
DESCRIPTION:VOLUNTEER CALL TO ACTION! \nThis remote Lawyer for the Day program is a collaborative pro bono project with the Worcester County Bar Association (WCBA) that provides Limited Assistance Representation (LAR) to low-income debtors in the Worcester District Court\, Small Claims Session. This program takes places every Tuesday morning between 8:45 – 11:00 A.M. via Zoom. \nSIGN UP HERE for a session between January and March 2026! \n 
URL:https://communitylegal.org/event/worcester-district-court-small-claims-lawyer-for-the-day/2025-10-21/
LOCATION:via Zoom\, MA\, United States
CATEGORIES:Pro Bono
GEO:42.4072107;-71.3824374
END:VEVENT
BEGIN:VEVENT
DTSTART;TZID=America/New_York:20251022T090000
DTEND;TZID=America/New_York:20251022T130000
DTSTAMP:20260423T201728
CREATED:20250829T191343Z
LAST-MODIFIED:20250829T191906Z
UID:14585-1761123600-1761138000@communitylegal.org
SUMMARY:Worcester Probate and Family Court Lawyer for the Day Program
DESCRIPTION:Sign up to be a Lawyer for the Day! Advise litigants on their family law matters at the Worcester Probate and Family Court and assist with the drafting of emergency motions. Sessions are held every Wednesday from 9 a.m. to 1 p.m. \nCLA Pro Bono staff are on-site to assist with prescreening and file collection. \nSIGN UP HERE for a 2- or 4-hour session on Wednesday mornings from September 24\, 2025 – June 24\, 2026. \nCan’t volunteer for a half or full session? Join our on-call emergency email list. If there is a cancelation or the program is at capacity\, we will send a blast email to ask for volunteers for a 30- to 60-minute emergency session.
URL:https://communitylegal.org/event/worcester-and-family-court-lawyer-for-the-day-program/2025-10-22/
LOCATION:Worcester Probate and Family Court Registry\, 225 Main St\, 2nd Floor\, Worcester\, 01608\, United States
CATEGORIES:Pro Bono
GEO:42.267369;-71.7999815
X-APPLE-STRUCTURED-LOCATION;VALUE=URI;X-ADDRESS=Worcester Probate and Family Court Registry 225 Main St 2nd Floor Worcester 01608 United States;X-APPLE-RADIUS=500;X-TITLE=225 Main St\, 2nd Floor:geo:-71.7999815,42.267369
END:VEVENT
BEGIN:VEVENT
DTSTART;TZID=America/New_York:20251028T084500
DTEND;TZID=America/New_York:20251028T110000
DTSTAMP:20260423T201728
CREATED:20230209T181704Z
LAST-MODIFIED:20260122T145216Z
UID:11320-1761641100-1761649200@communitylegal.org
SUMMARY:Worcester District Court Small Claims Lawyer for the Day
DESCRIPTION:VOLUNTEER CALL TO ACTION! \nThis remote Lawyer for the Day program is a collaborative pro bono project with the Worcester County Bar Association (WCBA) that provides Limited Assistance Representation (LAR) to low-income debtors in the Worcester District Court\, Small Claims Session. This program takes places every Tuesday morning between 8:45 – 11:00 A.M. via Zoom. \nSIGN UP HERE for a session between January and March 2026! \n 
URL:https://communitylegal.org/event/worcester-district-court-small-claims-lawyer-for-the-day/2025-10-28/
LOCATION:via Zoom\, MA\, United States
CATEGORIES:Pro Bono
GEO:42.4072107;-71.3824374
END:VEVENT
BEGIN:VEVENT
DTSTART;TZID=America/New_York:20251029T090000
DTEND;TZID=America/New_York:20251029T130000
DTSTAMP:20260423T201728
CREATED:20250829T191343Z
LAST-MODIFIED:20250829T191908Z
UID:14586-1761728400-1761742800@communitylegal.org
SUMMARY:Worcester Probate and Family Court Lawyer for the Day Program
DESCRIPTION:Sign up to be a Lawyer for the Day! Advise litigants on their family law matters at the Worcester Probate and Family Court and assist with the drafting of emergency motions. Sessions are held every Wednesday from 9 a.m. to 1 p.m. \nCLA Pro Bono staff are on-site to assist with prescreening and file collection. \nSIGN UP HERE for a 2- or 4-hour session on Wednesday mornings from September 24\, 2025 – June 24\, 2026. \nCan’t volunteer for a half or full session? Join our on-call emergency email list. If there is a cancelation or the program is at capacity\, we will send a blast email to ask for volunteers for a 30- to 60-minute emergency session.
URL:https://communitylegal.org/event/worcester-and-family-court-lawyer-for-the-day-program/2025-10-29/
LOCATION:Worcester Probate and Family Court Registry\, 225 Main St\, 2nd Floor\, Worcester\, 01608\, United States
CATEGORIES:Pro Bono
GEO:42.267369;-71.7999815
X-APPLE-STRUCTURED-LOCATION;VALUE=URI;X-ADDRESS=Worcester Probate and Family Court Registry 225 Main St 2nd Floor Worcester 01608 United States;X-APPLE-RADIUS=500;X-TITLE=225 Main St\, 2nd Floor:geo:-71.7999815,42.267369
END:VEVENT
END:VCALENDAR