BEGIN:VCALENDAR
VERSION:2.0
PRODID:-//Community Legal Aid - ECPv6.15.20//NONSGML v1.0//EN
CALSCALE:GREGORIAN
METHOD:PUBLISH
X-ORIGINAL-URL:https://communitylegal.org
X-WR-CALDESC:Events for Community Legal Aid
REFRESH-INTERVAL;VALUE=DURATION:PT1H
X-Robots-Tag:noindex
X-PUBLISHED-TTL:PT1H
BEGIN:VTIMEZONE
TZID:America/New_York
BEGIN:DAYLIGHT
TZOFFSETFROM:-0500
TZOFFSETTO:-0400
TZNAME:EDT
DTSTART:20240310T070000
END:DAYLIGHT
BEGIN:STANDARD
TZOFFSETFROM:-0400
TZOFFSETTO:-0500
TZNAME:EST
DTSTART:20241103T060000
END:STANDARD
BEGIN:DAYLIGHT
TZOFFSETFROM:-0500
TZOFFSETTO:-0400
TZNAME:EDT
DTSTART:20250309T070000
END:DAYLIGHT
BEGIN:STANDARD
TZOFFSETFROM:-0400
TZOFFSETTO:-0500
TZNAME:EST
DTSTART:20251102T060000
END:STANDARD
BEGIN:DAYLIGHT
TZOFFSETFROM:-0500
TZOFFSETTO:-0400
TZNAME:EDT
DTSTART:20260308T070000
END:DAYLIGHT
BEGIN:STANDARD
TZOFFSETFROM:-0400
TZOFFSETTO:-0500
TZNAME:EST
DTSTART:20261101T060000
END:STANDARD
END:VTIMEZONE
BEGIN:VEVENT
DTSTART;TZID=America/New_York:20251104T084500
DTEND;TZID=America/New_York:20251104T110000
DTSTAMP:20260423T185000
CREATED:20230209T181704Z
LAST-MODIFIED:20260122T145217Z
UID:11344-1762245900-1762254000@communitylegal.org
SUMMARY:Worcester District Court Small Claims Lawyer for the Day
DESCRIPTION:VOLUNTEER CALL TO ACTION! \nThis remote Lawyer for the Day program is a collaborative pro bono project with the Worcester County Bar Association (WCBA) that provides Limited Assistance Representation (LAR) to low-income debtors in the Worcester District Court\, Small Claims Session. This program takes places every Tuesday morning between 8:45 – 11:00 A.M. via Zoom. \nSIGN UP HERE for a session between January and March 2026! \n 
URL:https://communitylegal.org/event/worcester-district-court-small-claims-lawyer-for-the-day/2025-11-04/
LOCATION:via Zoom\, MA\, United States
CATEGORIES:Pro Bono
GEO:42.4072107;-71.3824374
END:VEVENT
BEGIN:VEVENT
DTSTART;TZID=America/New_York:20251105T090000
DTEND;TZID=America/New_York:20251105T130000
DTSTAMP:20260423T185000
CREATED:20250829T191343Z
LAST-MODIFIED:20250829T191910Z
UID:14587-1762333200-1762347600@communitylegal.org
SUMMARY:Worcester Probate and Family Court Lawyer for the Day Program
DESCRIPTION:Sign up to be a Lawyer for the Day! Advise litigants on their family law matters at the Worcester Probate and Family Court and assist with the drafting of emergency motions. Sessions are held every Wednesday from 9 a.m. to 1 p.m. \nCLA Pro Bono staff are on-site to assist with prescreening and file collection. \nSIGN UP HERE for a 2- or 4-hour session on Wednesday mornings from September 24\, 2025 – June 24\, 2026. \nCan’t volunteer for a half or full session? Join our on-call emergency email list. If there is a cancelation or the program is at capacity\, we will send a blast email to ask for volunteers for a 30- to 60-minute emergency session.
URL:https://communitylegal.org/event/worcester-and-family-court-lawyer-for-the-day-program/2025-11-05/
LOCATION:Worcester Probate and Family Court Registry\, 225 Main St\, 2nd Floor\, Worcester\, 01608\, United States
CATEGORIES:Pro Bono
GEO:42.267369;-71.7999815
X-APPLE-STRUCTURED-LOCATION;VALUE=URI;X-ADDRESS=Worcester Probate and Family Court Registry 225 Main St 2nd Floor Worcester 01608 United States;X-APPLE-RADIUS=500;X-TITLE=225 Main St\, 2nd Floor:geo:-71.7999815,42.267369
END:VEVENT
BEGIN:VEVENT
DTSTART;TZID=America/New_York:20251106T170000
DTEND;TZID=America/New_York:20251106T190000
DTSTAMP:20260423T185000
CREATED:20251014T193920Z
LAST-MODIFIED:20251022T174625Z
UID:14840-1762448400-1762455600@communitylegal.org
SUMMARY:AMPLIFY JUSTICE: A Pioneer Valley Access to Justice Campaign Event!
DESCRIPTION:Community Legal Aid (CLA) invites you to join us for Amplify Justice\, an event celebrating our volunteers and partners in the fight for justice in the Pioneer Valley. \nHosted by the Hampden and Hampshire County Access to Justice Committees and CLA’s Pro Bono Program\, this event will feature food\, a cash bar\, live music by local duo Ash & Eric\, and will honor CLA volunteers. \nHelp CLA celebrate the beginning of our 2026 Access to Justice Campaign\, an annual fundraising campaign supporting CLA’s work providing free civil legal services to low-income and elderly residents of the Pioneer Valley. \nWhat: Amplify Justice – An Event Celebrating Access to Justice \nWhere: The Glass Room at Elegant Affairs\, 1380 Main Street\, Springfield\, MA 01103 \nWhen: Thursday\, November 6\, 2025\, 5:00 – 7:00 PM \nRSVP: This event is free and open to members of the Valley legal community and beyond! Anyone interested in learning more about Community Legal Aid and our work is welcome to attend. Please help us order enough food by RSVPing in advance! \nDonations to the 2026 Access to Justice Campaign are encouraged. Now more than ever\, we need your support in the fight for justice on behalf of our most vulnerable neighbors. \n 
URL:https://communitylegal.org/event/amplify-justice-springfield/
LOCATION:The Glass Room at Elegant Affairs\, 1380 Main Street\, Springfield\, MA\, 01103\, United States
CATEGORIES:Pro Bono,General Events
ATTACH;FMTTYPE=image/png:https://communitylegal.org/wp-content/uploads/2025/04/Untitled-design-17.png
GEO:42.1022311;-72.590009
X-APPLE-STRUCTURED-LOCATION;VALUE=URI;X-ADDRESS=The Glass Room at Elegant Affairs 1380 Main Street Springfield MA 01103 United States;X-APPLE-RADIUS=500;X-TITLE=1380 Main Street:geo:-72.590009,42.1022311
END:VEVENT
BEGIN:VEVENT
DTSTART;TZID=America/New_York:20251111T084500
DTEND;TZID=America/New_York:20251111T110000
DTSTAMP:20260423T185000
CREATED:20230209T181704Z
LAST-MODIFIED:20260122T145217Z
UID:11361-1762850700-1762858800@communitylegal.org
SUMMARY:Worcester District Court Small Claims Lawyer for the Day
DESCRIPTION:VOLUNTEER CALL TO ACTION! \nThis remote Lawyer for the Day program is a collaborative pro bono project with the Worcester County Bar Association (WCBA) that provides Limited Assistance Representation (LAR) to low-income debtors in the Worcester District Court\, Small Claims Session. This program takes places every Tuesday morning between 8:45 – 11:00 A.M. via Zoom. \nSIGN UP HERE for a session between January and March 2026! \n 
URL:https://communitylegal.org/event/worcester-district-court-small-claims-lawyer-for-the-day/2025-11-11/
LOCATION:via Zoom\, MA\, United States
CATEGORIES:Pro Bono
GEO:42.4072107;-71.3824374
END:VEVENT
BEGIN:VEVENT
DTSTART;TZID=America/New_York:20251112T090000
DTEND;TZID=America/New_York:20251112T130000
DTSTAMP:20260423T185000
CREATED:20250829T191343Z
LAST-MODIFIED:20250829T191912Z
UID:14588-1762938000-1762952400@communitylegal.org
SUMMARY:Worcester Probate and Family Court Lawyer for the Day Program
DESCRIPTION:Sign up to be a Lawyer for the Day! Advise litigants on their family law matters at the Worcester Probate and Family Court and assist with the drafting of emergency motions. Sessions are held every Wednesday from 9 a.m. to 1 p.m. \nCLA Pro Bono staff are on-site to assist with prescreening and file collection. \nSIGN UP HERE for a 2- or 4-hour session on Wednesday mornings from September 24\, 2025 – June 24\, 2026. \nCan’t volunteer for a half or full session? Join our on-call emergency email list. If there is a cancelation or the program is at capacity\, we will send a blast email to ask for volunteers for a 30- to 60-minute emergency session.
URL:https://communitylegal.org/event/worcester-and-family-court-lawyer-for-the-day-program/2025-11-12/
LOCATION:Worcester Probate and Family Court Registry\, 225 Main St\, 2nd Floor\, Worcester\, 01608\, United States
CATEGORIES:Pro Bono
GEO:42.267369;-71.7999815
X-APPLE-STRUCTURED-LOCATION;VALUE=URI;X-ADDRESS=Worcester Probate and Family Court Registry 225 Main St 2nd Floor Worcester 01608 United States;X-APPLE-RADIUS=500;X-TITLE=225 Main St\, 2nd Floor:geo:-71.7999815,42.267369
END:VEVENT
BEGIN:VEVENT
DTSTART;TZID=America/New_York:20251118T084500
DTEND;TZID=America/New_York:20251118T110000
DTSTAMP:20260423T185000
CREATED:20230209T181704Z
LAST-MODIFIED:20260122T145218Z
UID:11492-1763455500-1763463600@communitylegal.org
SUMMARY:Worcester District Court Small Claims Lawyer for the Day
DESCRIPTION:VOLUNTEER CALL TO ACTION! \nThis remote Lawyer for the Day program is a collaborative pro bono project with the Worcester County Bar Association (WCBA) that provides Limited Assistance Representation (LAR) to low-income debtors in the Worcester District Court\, Small Claims Session. This program takes places every Tuesday morning between 8:45 – 11:00 A.M. via Zoom. \nSIGN UP HERE for a session between January and March 2026! \n 
URL:https://communitylegal.org/event/worcester-district-court-small-claims-lawyer-for-the-day/2025-11-18/
LOCATION:via Zoom\, MA\, United States
CATEGORIES:Pro Bono
GEO:42.4072107;-71.3824374
END:VEVENT
BEGIN:VEVENT
DTSTART;TZID=America/New_York:20251119T090000
DTEND;TZID=America/New_York:20251119T130000
DTSTAMP:20260423T185000
CREATED:20250829T191343Z
LAST-MODIFIED:20250829T191914Z
UID:14589-1763542800-1763557200@communitylegal.org
SUMMARY:Worcester Probate and Family Court Lawyer for the Day Program
DESCRIPTION:Sign up to be a Lawyer for the Day! Advise litigants on their family law matters at the Worcester Probate and Family Court and assist with the drafting of emergency motions. Sessions are held every Wednesday from 9 a.m. to 1 p.m. \nCLA Pro Bono staff are on-site to assist with prescreening and file collection. \nSIGN UP HERE for a 2- or 4-hour session on Wednesday mornings from September 24\, 2025 – June 24\, 2026. \nCan’t volunteer for a half or full session? Join our on-call emergency email list. If there is a cancelation or the program is at capacity\, we will send a blast email to ask for volunteers for a 30- to 60-minute emergency session.
URL:https://communitylegal.org/event/worcester-and-family-court-lawyer-for-the-day-program/2025-11-19/
LOCATION:Worcester Probate and Family Court Registry\, 225 Main St\, 2nd Floor\, Worcester\, 01608\, United States
CATEGORIES:Pro Bono
GEO:42.267369;-71.7999815
X-APPLE-STRUCTURED-LOCATION;VALUE=URI;X-ADDRESS=Worcester Probate and Family Court Registry 225 Main St 2nd Floor Worcester 01608 United States;X-APPLE-RADIUS=500;X-TITLE=225 Main St\, 2nd Floor:geo:-71.7999815,42.267369
END:VEVENT
BEGIN:VEVENT
DTSTART;TZID=America/New_York:20251119T123000
DTEND;TZID=America/New_York:20251119T140000
DTSTAMP:20260423T185000
CREATED:20251117T212541Z
LAST-MODIFIED:20251117T212608Z
UID:14903-1763555400-1763560800@communitylegal.org
SUMMARY:Franklin County Access to Justice Campaign Luncheon
DESCRIPTION:Please join us for a free fundraising luncheon at 12:30 on November 19\, 2025 at CLA’s Greenfield office at 14 Hope Street. This will be a great opportunity to learn more about CLA’s work in our community and give you the opportunity to meet your allies in the fight for justice in Franklin County. \nWhat: Franklin County Access to Justice Campaign Luncheon \nWhere: Community Legal Aid’s Greenfield Office\, 14 Hope Street\, Greenfield\, MA 01301 \nWhen:Wednesday\, November 19\, 2025\, 12:30 – 2:00 PM. Lunch served at 1:00 PM. \nWe hope to see you at the Greenfield luncheon. Please RSVP HERE or by calling Tom Navin at 413.727.7115.  If you can’t join us at the lunch\, we hope you will consider donating generously to this essential work. \n \n 
URL:https://communitylegal.org/event/franklin-county-access-to-justice-campaign-luncheon/
LOCATION:Community Legal Aid: Greenfield\, 14 Hope Street\, Suite 104\, Greenfield\, MA\, United States
CATEGORIES:Pro Bono,General Events
GEO:42.5890613;-72.5981828
X-APPLE-STRUCTURED-LOCATION;VALUE=URI;X-ADDRESS=Community Legal Aid: Greenfield 14 Hope Street Suite 104 Greenfield MA United States;X-APPLE-RADIUS=500;X-TITLE=14 Hope Street\, Suite 104:geo:-72.5981828,42.5890613
END:VEVENT
BEGIN:VEVENT
DTSTART;TZID=America/New_York:20251125T084500
DTEND;TZID=America/New_York:20251125T110000
DTSTAMP:20260423T185000
CREATED:20230209T181704Z
LAST-MODIFIED:20260122T145218Z
UID:11511-1764060300-1764068400@communitylegal.org
SUMMARY:Worcester District Court Small Claims Lawyer for the Day
DESCRIPTION:VOLUNTEER CALL TO ACTION! \nThis remote Lawyer for the Day program is a collaborative pro bono project with the Worcester County Bar Association (WCBA) that provides Limited Assistance Representation (LAR) to low-income debtors in the Worcester District Court\, Small Claims Session. This program takes places every Tuesday morning between 8:45 – 11:00 A.M. via Zoom. \nSIGN UP HERE for a session between January and March 2026! \n 
URL:https://communitylegal.org/event/worcester-district-court-small-claims-lawyer-for-the-day/2025-11-25/
LOCATION:via Zoom\, MA\, United States
CATEGORIES:Pro Bono
GEO:42.4072107;-71.3824374
END:VEVENT
BEGIN:VEVENT
DTSTART;TZID=America/New_York:20251126T090000
DTEND;TZID=America/New_York:20251126T130000
DTSTAMP:20260423T185000
CREATED:20250829T191343Z
LAST-MODIFIED:20250829T191917Z
UID:14590-1764147600-1764162000@communitylegal.org
SUMMARY:Worcester Probate and Family Court Lawyer for the Day Program
DESCRIPTION:Sign up to be a Lawyer for the Day! Advise litigants on their family law matters at the Worcester Probate and Family Court and assist with the drafting of emergency motions. Sessions are held every Wednesday from 9 a.m. to 1 p.m. \nCLA Pro Bono staff are on-site to assist with prescreening and file collection. \nSIGN UP HERE for a 2- or 4-hour session on Wednesday mornings from September 24\, 2025 – June 24\, 2026. \nCan’t volunteer for a half or full session? Join our on-call emergency email list. If there is a cancelation or the program is at capacity\, we will send a blast email to ask for volunteers for a 30- to 60-minute emergency session.
URL:https://communitylegal.org/event/worcester-and-family-court-lawyer-for-the-day-program/2025-11-26/
LOCATION:Worcester Probate and Family Court Registry\, 225 Main St\, 2nd Floor\, Worcester\, 01608\, United States
CATEGORIES:Pro Bono
GEO:42.267369;-71.7999815
X-APPLE-STRUCTURED-LOCATION;VALUE=URI;X-ADDRESS=Worcester Probate and Family Court Registry 225 Main St 2nd Floor Worcester 01608 United States;X-APPLE-RADIUS=500;X-TITLE=225 Main St\, 2nd Floor:geo:-71.7999815,42.267369
END:VEVENT
END:VCALENDAR