BEGIN:VCALENDAR
VERSION:2.0
PRODID:-//Community Legal Aid - ECPv6.15.20//NONSGML v1.0//EN
CALSCALE:GREGORIAN
METHOD:PUBLISH
X-ORIGINAL-URL:https://communitylegal.org
X-WR-CALDESC:Events for Community Legal Aid
REFRESH-INTERVAL;VALUE=DURATION:PT1H
X-Robots-Tag:noindex
X-PUBLISHED-TTL:PT1H
BEGIN:VTIMEZONE
TZID:America/New_York
BEGIN:DAYLIGHT
TZOFFSETFROM:-0500
TZOFFSETTO:-0400
TZNAME:EDT
DTSTART:20240310T070000
END:DAYLIGHT
BEGIN:STANDARD
TZOFFSETFROM:-0400
TZOFFSETTO:-0500
TZNAME:EST
DTSTART:20241103T060000
END:STANDARD
BEGIN:DAYLIGHT
TZOFFSETFROM:-0500
TZOFFSETTO:-0400
TZNAME:EDT
DTSTART:20250309T070000
END:DAYLIGHT
BEGIN:STANDARD
TZOFFSETFROM:-0400
TZOFFSETTO:-0500
TZNAME:EST
DTSTART:20251102T060000
END:STANDARD
BEGIN:DAYLIGHT
TZOFFSETFROM:-0500
TZOFFSETTO:-0400
TZNAME:EDT
DTSTART:20260308T070000
END:DAYLIGHT
BEGIN:STANDARD
TZOFFSETFROM:-0400
TZOFFSETTO:-0500
TZNAME:EST
DTSTART:20261101T060000
END:STANDARD
END:VTIMEZONE
BEGIN:VEVENT
DTSTART;TZID=America/New_York:20251202T084500
DTEND;TZID=America/New_York:20251202T110000
DTSTAMP:20260423T171801
CREATED:20230209T181704Z
LAST-MODIFIED:20260122T145219Z
UID:11552-1764665100-1764673200@communitylegal.org
SUMMARY:Worcester District Court Small Claims Lawyer for the Day
DESCRIPTION:VOLUNTEER CALL TO ACTION! \nThis remote Lawyer for the Day program is a collaborative pro bono project with the Worcester County Bar Association (WCBA) that provides Limited Assistance Representation (LAR) to low-income debtors in the Worcester District Court\, Small Claims Session. This program takes places every Tuesday morning between 8:45 – 11:00 A.M. via Zoom. \nSIGN UP HERE for a session between January and March 2026! \n 
URL:https://communitylegal.org/event/worcester-district-court-small-claims-lawyer-for-the-day/2025-12-02/
LOCATION:via Zoom\, MA\, United States
CATEGORIES:Pro Bono
GEO:42.4072107;-71.3824374
END:VEVENT
BEGIN:VEVENT
DTSTART;TZID=America/New_York:20251203T090000
DTEND;TZID=America/New_York:20251203T130000
DTSTAMP:20260423T171801
CREATED:20250829T191343Z
LAST-MODIFIED:20250829T191919Z
UID:14591-1764752400-1764766800@communitylegal.org
SUMMARY:Worcester Probate and Family Court Lawyer for the Day Program
DESCRIPTION:Sign up to be a Lawyer for the Day! Advise litigants on their family law matters at the Worcester Probate and Family Court and assist with the drafting of emergency motions. Sessions are held every Wednesday from 9 a.m. to 1 p.m. \nCLA Pro Bono staff are on-site to assist with prescreening and file collection. \nSIGN UP HERE for a 2- or 4-hour session on Wednesday mornings from September 24\, 2025 – June 24\, 2026. \nCan’t volunteer for a half or full session? Join our on-call emergency email list. If there is a cancelation or the program is at capacity\, we will send a blast email to ask for volunteers for a 30- to 60-minute emergency session.
URL:https://communitylegal.org/event/worcester-and-family-court-lawyer-for-the-day-program/2025-12-03/
LOCATION:Worcester Probate and Family Court Registry\, 225 Main St\, 2nd Floor\, Worcester\, 01608\, United States
CATEGORIES:Pro Bono
GEO:42.267369;-71.7999815
X-APPLE-STRUCTURED-LOCATION;VALUE=URI;X-ADDRESS=Worcester Probate and Family Court Registry 225 Main St 2nd Floor Worcester 01608 United States;X-APPLE-RADIUS=500;X-TITLE=225 Main St\, 2nd Floor:geo:-71.7999815,42.267369
END:VEVENT
BEGIN:VEVENT
DTSTART;TZID=America/New_York:20251209T084500
DTEND;TZID=America/New_York:20251209T110000
DTSTAMP:20260423T171801
CREATED:20230209T181704Z
LAST-MODIFIED:20260122T145219Z
UID:11573-1765269900-1765278000@communitylegal.org
SUMMARY:Worcester District Court Small Claims Lawyer for the Day
DESCRIPTION:VOLUNTEER CALL TO ACTION! \nThis remote Lawyer for the Day program is a collaborative pro bono project with the Worcester County Bar Association (WCBA) that provides Limited Assistance Representation (LAR) to low-income debtors in the Worcester District Court\, Small Claims Session. This program takes places every Tuesday morning between 8:45 – 11:00 A.M. via Zoom. \nSIGN UP HERE for a session between January and March 2026! \n 
URL:https://communitylegal.org/event/worcester-district-court-small-claims-lawyer-for-the-day/2025-12-09/
LOCATION:via Zoom\, MA\, United States
CATEGORIES:Pro Bono
GEO:42.4072107;-71.3824374
END:VEVENT
BEGIN:VEVENT
DTSTART;TZID=America/New_York:20251210T090000
DTEND;TZID=America/New_York:20251210T130000
DTSTAMP:20260423T171801
CREATED:20250829T191343Z
LAST-MODIFIED:20250829T191931Z
UID:14593-1765357200-1765371600@communitylegal.org
SUMMARY:Worcester Probate and Family Court Lawyer for the Day Program
DESCRIPTION:Sign up to be a Lawyer for the Day! Advise litigants on their family law matters at the Worcester Probate and Family Court and assist with the drafting of emergency motions. Sessions are held every Wednesday from 9 a.m. to 1 p.m. \nCLA Pro Bono staff are on-site to assist with prescreening and file collection. \nSIGN UP HERE for a 2- or 4-hour session on Wednesday mornings from September 24\, 2025 – June 24\, 2026. \nCan’t volunteer for a half or full session? Join our on-call emergency email list. If there is a cancelation or the program is at capacity\, we will send a blast email to ask for volunteers for a 30- to 60-minute emergency session.
URL:https://communitylegal.org/event/worcester-and-family-court-lawyer-for-the-day-program/2025-12-10/
LOCATION:Worcester Probate and Family Court Registry\, 225 Main St\, 2nd Floor\, Worcester\, 01608\, United States
CATEGORIES:Pro Bono
GEO:42.267369;-71.7999815
X-APPLE-STRUCTURED-LOCATION;VALUE=URI;X-ADDRESS=Worcester Probate and Family Court Registry 225 Main St 2nd Floor Worcester 01608 United States;X-APPLE-RADIUS=500;X-TITLE=225 Main St\, 2nd Floor:geo:-71.7999815,42.267369
END:VEVENT
BEGIN:VEVENT
DTSTART;TZID=America/New_York:20251216T084500
DTEND;TZID=America/New_York:20251216T110000
DTSTAMP:20260423T171801
CREATED:20230209T181704Z
LAST-MODIFIED:20260122T145220Z
UID:11594-1765874700-1765882800@communitylegal.org
SUMMARY:Worcester District Court Small Claims Lawyer for the Day
DESCRIPTION:VOLUNTEER CALL TO ACTION! \nThis remote Lawyer for the Day program is a collaborative pro bono project with the Worcester County Bar Association (WCBA) that provides Limited Assistance Representation (LAR) to low-income debtors in the Worcester District Court\, Small Claims Session. This program takes places every Tuesday morning between 8:45 – 11:00 A.M. via Zoom. \nSIGN UP HERE for a session between January and March 2026! \n 
URL:https://communitylegal.org/event/worcester-district-court-small-claims-lawyer-for-the-day/2025-12-16/
LOCATION:via Zoom\, MA\, United States
CATEGORIES:Pro Bono
GEO:42.4072107;-71.3824374
END:VEVENT
BEGIN:VEVENT
DTSTART;TZID=America/New_York:20251217T090000
DTEND;TZID=America/New_York:20251217T130000
DTSTAMP:20260423T171801
CREATED:20250829T191343Z
LAST-MODIFIED:20250829T191931Z
UID:14594-1765962000-1765976400@communitylegal.org
SUMMARY:Worcester Probate and Family Court Lawyer for the Day Program
DESCRIPTION:Sign up to be a Lawyer for the Day! Advise litigants on their family law matters at the Worcester Probate and Family Court and assist with the drafting of emergency motions. Sessions are held every Wednesday from 9 a.m. to 1 p.m. \nCLA Pro Bono staff are on-site to assist with prescreening and file collection. \nSIGN UP HERE for a 2- or 4-hour session on Wednesday mornings from September 24\, 2025 – June 24\, 2026. \nCan’t volunteer for a half or full session? Join our on-call emergency email list. If there is a cancelation or the program is at capacity\, we will send a blast email to ask for volunteers for a 30- to 60-minute emergency session.
URL:https://communitylegal.org/event/worcester-and-family-court-lawyer-for-the-day-program/2025-12-17/
LOCATION:Worcester Probate and Family Court Registry\, 225 Main St\, 2nd Floor\, Worcester\, 01608\, United States
CATEGORIES:Pro Bono
GEO:42.267369;-71.7999815
X-APPLE-STRUCTURED-LOCATION;VALUE=URI;X-ADDRESS=Worcester Probate and Family Court Registry 225 Main St 2nd Floor Worcester 01608 United States;X-APPLE-RADIUS=500;X-TITLE=225 Main St\, 2nd Floor:geo:-71.7999815,42.267369
END:VEVENT
BEGIN:VEVENT
DTSTART;TZID=America/New_York:20251223T084500
DTEND;TZID=America/New_York:20251223T110000
DTSTAMP:20260423T171801
CREATED:20230209T181704Z
LAST-MODIFIED:20260122T145221Z
UID:11635-1766479500-1766487600@communitylegal.org
SUMMARY:Worcester District Court Small Claims Lawyer for the Day
DESCRIPTION:VOLUNTEER CALL TO ACTION! \nThis remote Lawyer for the Day program is a collaborative pro bono project with the Worcester County Bar Association (WCBA) that provides Limited Assistance Representation (LAR) to low-income debtors in the Worcester District Court\, Small Claims Session. This program takes places every Tuesday morning between 8:45 – 11:00 A.M. via Zoom. \nSIGN UP HERE for a session between January and March 2026! \n 
URL:https://communitylegal.org/event/worcester-district-court-small-claims-lawyer-for-the-day/2025-12-23/
LOCATION:via Zoom\, MA\, United States
CATEGORIES:Pro Bono
GEO:42.4072107;-71.3824374
END:VEVENT
BEGIN:VEVENT
DTSTART;TZID=America/New_York:20251224T090000
DTEND;TZID=America/New_York:20251224T130000
DTSTAMP:20260423T171801
CREATED:20250829T191343Z
LAST-MODIFIED:20250829T191931Z
UID:14595-1766566800-1766581200@communitylegal.org
SUMMARY:Worcester Probate and Family Court Lawyer for the Day Program
DESCRIPTION:Sign up to be a Lawyer for the Day! Advise litigants on their family law matters at the Worcester Probate and Family Court and assist with the drafting of emergency motions. Sessions are held every Wednesday from 9 a.m. to 1 p.m. \nCLA Pro Bono staff are on-site to assist with prescreening and file collection. \nSIGN UP HERE for a 2- or 4-hour session on Wednesday mornings from September 24\, 2025 – June 24\, 2026. \nCan’t volunteer for a half or full session? Join our on-call emergency email list. If there is a cancelation or the program is at capacity\, we will send a blast email to ask for volunteers for a 30- to 60-minute emergency session.
URL:https://communitylegal.org/event/worcester-and-family-court-lawyer-for-the-day-program/2025-12-24/
LOCATION:Worcester Probate and Family Court Registry\, 225 Main St\, 2nd Floor\, Worcester\, 01608\, United States
CATEGORIES:Pro Bono
GEO:42.267369;-71.7999815
X-APPLE-STRUCTURED-LOCATION;VALUE=URI;X-ADDRESS=Worcester Probate and Family Court Registry 225 Main St 2nd Floor Worcester 01608 United States;X-APPLE-RADIUS=500;X-TITLE=225 Main St\, 2nd Floor:geo:-71.7999815,42.267369
END:VEVENT
BEGIN:VEVENT
DTSTART;TZID=America/New_York:20251230T084500
DTEND;TZID=America/New_York:20251230T110000
DTSTAMP:20260423T171801
CREATED:20230209T181704Z
LAST-MODIFIED:20260122T145223Z
UID:11665-1767084300-1767092400@communitylegal.org
SUMMARY:Worcester District Court Small Claims Lawyer for the Day
DESCRIPTION:VOLUNTEER CALL TO ACTION! \nThis remote Lawyer for the Day program is a collaborative pro bono project with the Worcester County Bar Association (WCBA) that provides Limited Assistance Representation (LAR) to low-income debtors in the Worcester District Court\, Small Claims Session. This program takes places every Tuesday morning between 8:45 – 11:00 A.M. via Zoom. \nSIGN UP HERE for a session between January and March 2026! \n 
URL:https://communitylegal.org/event/worcester-district-court-small-claims-lawyer-for-the-day/2025-12-30/
LOCATION:via Zoom\, MA\, United States
CATEGORIES:Pro Bono
GEO:42.4072107;-71.3824374
END:VEVENT
BEGIN:VEVENT
DTSTART;TZID=America/New_York:20251231T090000
DTEND;TZID=America/New_York:20251231T130000
DTSTAMP:20260423T171801
CREATED:20250829T191343Z
LAST-MODIFIED:20250829T191931Z
UID:14596-1767171600-1767186000@communitylegal.org
SUMMARY:Worcester Probate and Family Court Lawyer for the Day Program
DESCRIPTION:Sign up to be a Lawyer for the Day! Advise litigants on their family law matters at the Worcester Probate and Family Court and assist with the drafting of emergency motions. Sessions are held every Wednesday from 9 a.m. to 1 p.m. \nCLA Pro Bono staff are on-site to assist with prescreening and file collection. \nSIGN UP HERE for a 2- or 4-hour session on Wednesday mornings from September 24\, 2025 – June 24\, 2026. \nCan’t volunteer for a half or full session? Join our on-call emergency email list. If there is a cancelation or the program is at capacity\, we will send a blast email to ask for volunteers for a 30- to 60-minute emergency session.
URL:https://communitylegal.org/event/worcester-and-family-court-lawyer-for-the-day-program/2025-12-31/
LOCATION:Worcester Probate and Family Court Registry\, 225 Main St\, 2nd Floor\, Worcester\, 01608\, United States
CATEGORIES:Pro Bono
GEO:42.267369;-71.7999815
X-APPLE-STRUCTURED-LOCATION;VALUE=URI;X-ADDRESS=Worcester Probate and Family Court Registry 225 Main St 2nd Floor Worcester 01608 United States;X-APPLE-RADIUS=500;X-TITLE=225 Main St\, 2nd Floor:geo:-71.7999815,42.267369
END:VEVENT
END:VCALENDAR