BEGIN:VCALENDAR
VERSION:2.0
PRODID:-//Community Legal Aid - ECPv6.15.20//NONSGML v1.0//EN
CALSCALE:GREGORIAN
METHOD:PUBLISH
X-ORIGINAL-URL:https://communitylegal.org
X-WR-CALDESC:Events for Community Legal Aid
REFRESH-INTERVAL;VALUE=DURATION:PT1H
X-Robots-Tag:noindex
X-PUBLISHED-TTL:PT1H
BEGIN:VTIMEZONE
TZID:America/New_York
BEGIN:DAYLIGHT
TZOFFSETFROM:-0500
TZOFFSETTO:-0400
TZNAME:EDT
DTSTART:20250309T070000
END:DAYLIGHT
BEGIN:STANDARD
TZOFFSETFROM:-0400
TZOFFSETTO:-0500
TZNAME:EST
DTSTART:20251102T060000
END:STANDARD
BEGIN:DAYLIGHT
TZOFFSETFROM:-0500
TZOFFSETTO:-0400
TZNAME:EDT
DTSTART:20260308T070000
END:DAYLIGHT
BEGIN:STANDARD
TZOFFSETFROM:-0400
TZOFFSETTO:-0500
TZNAME:EST
DTSTART:20261101T060000
END:STANDARD
BEGIN:DAYLIGHT
TZOFFSETFROM:-0500
TZOFFSETTO:-0400
TZNAME:EDT
DTSTART:20270314T070000
END:DAYLIGHT
BEGIN:STANDARD
TZOFFSETFROM:-0400
TZOFFSETTO:-0500
TZNAME:EST
DTSTART:20271107T060000
END:STANDARD
END:VTIMEZONE
BEGIN:VEVENT
DTSTART;TZID=America/New_York:20260115T140000
DTEND;TZID=America/New_York:20260115T160000
DTSTAMP:20260423T173234
CREATED:20251120T184013Z
LAST-MODIFIED:20251120T210803Z
UID:14917-1768485600-1768492800@communitylegal.org
SUMMARY:Consumer Debt DEFENSE 101 Training for Pro Bono Attorneys
DESCRIPTION:An introductory overview of consumer debt law\, this training is perfect for those interested in building a consumer debt practice and volunteering for debt collection Lawyer for the Day programs. \nPresented by:\nCourtney Mayo\, Esq.\, Hassett & Donnelly\, P.C.\nCaroline Robillard\, Esq.\, Robillard Law Offices \nJanuary 15\, 2026\, 2PM-4PM \nVIA Zoom – Link to be provided after registration \nREGISTER HERE. \nFor more information\, contact: Choyce McIntosh-Rodriguez (cmcintosh-rodriguez@cla-ma.org). \nAll CLA Pro Bono trainings are FREE with your commitment to accept at least one pro bono referral from Community Legal Aid. \n 
URL:https://communitylegal.org/event/debt-defense/
LOCATION:via Zoom\, MA\, United States
CATEGORIES:Pro Bono
ATTACH;FMTTYPE=image/jpeg:https://communitylegal.org/wp-content/uploads/2025/11/Consumer-Debt-Training-Flyer-1.jpg
GEO:42.4072107;-71.3824374
END:VEVENT
END:VCALENDAR