BEGIN:VCALENDAR
VERSION:2.0
PRODID:-//Community Legal Aid - ECPv6.15.20//NONSGML v1.0//EN
CALSCALE:GREGORIAN
METHOD:PUBLISH
X-ORIGINAL-URL:https://communitylegal.org
X-WR-CALDESC:Events for Community Legal Aid
REFRESH-INTERVAL;VALUE=DURATION:PT1H
X-Robots-Tag:noindex
X-PUBLISHED-TTL:PT1H
BEGIN:VTIMEZONE
TZID:America/New_York
BEGIN:DAYLIGHT
TZOFFSETFROM:-0500
TZOFFSETTO:-0400
TZNAME:EDT
DTSTART:20260308T070000
END:DAYLIGHT
BEGIN:STANDARD
TZOFFSETFROM:-0400
TZOFFSETTO:-0500
TZNAME:EST
DTSTART:20261101T060000
END:STANDARD
BEGIN:DAYLIGHT
TZOFFSETFROM:-0500
TZOFFSETTO:-0400
TZNAME:EDT
DTSTART:20270314T070000
END:DAYLIGHT
BEGIN:STANDARD
TZOFFSETFROM:-0400
TZOFFSETTO:-0500
TZNAME:EST
DTSTART:20271107T060000
END:STANDARD
BEGIN:DAYLIGHT
TZOFFSETFROM:-0500
TZOFFSETTO:-0400
TZNAME:EDT
DTSTART:20280312T070000
END:DAYLIGHT
BEGIN:STANDARD
TZOFFSETFROM:-0400
TZOFFSETTO:-0500
TZNAME:EST
DTSTART:20281105T060000
END:STANDARD
BEGIN:DAYLIGHT
TZOFFSETFROM:-0500
TZOFFSETTO:-0400
TZNAME:EDT
DTSTART:20290311T070000
END:DAYLIGHT
BEGIN:STANDARD
TZOFFSETFROM:-0400
TZOFFSETTO:-0500
TZNAME:EST
DTSTART:20291104T060000
END:STANDARD
END:VTIMEZONE
BEGIN:VEVENT
DTSTART;TZID=America/New_York:20271228T084500
DTEND;TZID=America/New_York:20271228T110000
DTSTAMP:20260424T092940
CREATED:20230209T181704Z
LAST-MODIFIED:20260122T145448Z
UID:15140-1829983500-1829991600@communitylegal.org
SUMMARY:Worcester District Court Small Claims Lawyer for the Day
DESCRIPTION:VOLUNTEER CALL TO ACTION! \nThis remote Lawyer for the Day program is a collaborative pro bono project with the Worcester County Bar Association (WCBA) that provides Limited Assistance Representation (LAR) to low-income debtors in the Worcester District Court\, Small Claims Session. This program takes places every Tuesday morning between 8:45 – 11:00 A.M. via Zoom. \nSIGN UP HERE for a session between January and March 2026! \n 
URL:https://communitylegal.org/event/worcester-district-court-small-claims-lawyer-for-the-day/2027-12-28/
LOCATION:via Zoom\, MA\, United States
CATEGORIES:Pro Bono
GEO:42.4072107;-71.3824374
END:VEVENT
BEGIN:VEVENT
DTSTART;TZID=America/New_York:20271229T090000
DTEND;TZID=America/New_York:20271229T120000
DTSTAMP:20260424T092940
CREATED:20260317T161127Z
LAST-MODIFIED:20260317T161319Z
UID:15601-1830070800-1830081600@communitylegal.org
SUMMARY:Hampden County Conciliation Project (Virtual)
DESCRIPTION:The Hampden County Conciliation Project\, a collaboration between Community Legal Aid (CLA) and the Hampden County Bar Association (HCBA)\, assists litigants who have made a court appearance and whose case the presiding Judge believes would be better resolved through the assistance of a trained neutral conciliator. \nCLA is seeking volunteers for this Project to help with virtual conciliation. This registration page is for ATTORNEY signups only – NOT LITIGANTS.  \nVolunteers sign up for 3-hour shifts\, which occur every other Wednesday from 9AM to 12PM. CLA and HCBA staff assist with scheduling two cases per shift. Staff will reach out to the respective parties to schedule their conciliation\, will be available on Zoom to assist the volunteer\, and can assist in executing agreements and sending them to the Court.
URL:https://communitylegal.org/event/hampden-county-conciliation-project-virtual/2027-12-29/
LOCATION:Massachusetts
CATEGORIES:Pro Bono,General Events
END:VEVENT
BEGIN:VEVENT
DTSTART;TZID=America/New_York:20280104T084500
DTEND;TZID=America/New_York:20280104T110000
DTSTAMP:20260424T092940
CREATED:20230209T181704Z
LAST-MODIFIED:20260122T145448Z
UID:15141-1830588300-1830596400@communitylegal.org
SUMMARY:Worcester District Court Small Claims Lawyer for the Day
DESCRIPTION:VOLUNTEER CALL TO ACTION! \nThis remote Lawyer for the Day program is a collaborative pro bono project with the Worcester County Bar Association (WCBA) that provides Limited Assistance Representation (LAR) to low-income debtors in the Worcester District Court\, Small Claims Session. This program takes places every Tuesday morning between 8:45 – 11:00 A.M. via Zoom. \nSIGN UP HERE for a session between January and March 2026! \n 
URL:https://communitylegal.org/event/worcester-district-court-small-claims-lawyer-for-the-day/2028-01-04/
LOCATION:via Zoom\, MA\, United States
CATEGORIES:Pro Bono
GEO:42.4072107;-71.3824374
END:VEVENT
BEGIN:VEVENT
DTSTART;TZID=America/New_York:20280111T084500
DTEND;TZID=America/New_York:20280111T110000
DTSTAMP:20260424T092940
CREATED:20230209T181704Z
LAST-MODIFIED:20260122T145449Z
UID:15142-1831193100-1831201200@communitylegal.org
SUMMARY:Worcester District Court Small Claims Lawyer for the Day
DESCRIPTION:VOLUNTEER CALL TO ACTION! \nThis remote Lawyer for the Day program is a collaborative pro bono project with the Worcester County Bar Association (WCBA) that provides Limited Assistance Representation (LAR) to low-income debtors in the Worcester District Court\, Small Claims Session. This program takes places every Tuesday morning between 8:45 – 11:00 A.M. via Zoom. \nSIGN UP HERE for a session between January and March 2026! \n 
URL:https://communitylegal.org/event/worcester-district-court-small-claims-lawyer-for-the-day/2028-01-11/
LOCATION:via Zoom\, MA\, United States
CATEGORIES:Pro Bono
GEO:42.4072107;-71.3824374
END:VEVENT
BEGIN:VEVENT
DTSTART;TZID=America/New_York:20280112T090000
DTEND;TZID=America/New_York:20280112T120000
DTSTAMP:20260424T092940
CREATED:20260317T161127Z
LAST-MODIFIED:20260317T161319Z
UID:15602-1831280400-1831291200@communitylegal.org
SUMMARY:Hampden County Conciliation Project (Virtual)
DESCRIPTION:The Hampden County Conciliation Project\, a collaboration between Community Legal Aid (CLA) and the Hampden County Bar Association (HCBA)\, assists litigants who have made a court appearance and whose case the presiding Judge believes would be better resolved through the assistance of a trained neutral conciliator. \nCLA is seeking volunteers for this Project to help with virtual conciliation. This registration page is for ATTORNEY signups only – NOT LITIGANTS.  \nVolunteers sign up for 3-hour shifts\, which occur every other Wednesday from 9AM to 12PM. CLA and HCBA staff assist with scheduling two cases per shift. Staff will reach out to the respective parties to schedule their conciliation\, will be available on Zoom to assist the volunteer\, and can assist in executing agreements and sending them to the Court.
URL:https://communitylegal.org/event/hampden-county-conciliation-project-virtual/2028-01-12/
LOCATION:Massachusetts
CATEGORIES:Pro Bono,General Events
END:VEVENT
BEGIN:VEVENT
DTSTART;TZID=America/New_York:20280118T084500
DTEND;TZID=America/New_York:20280118T110000
DTSTAMP:20260424T092940
CREATED:20230209T181704Z
LAST-MODIFIED:20260122T145449Z
UID:15143-1831797900-1831806000@communitylegal.org
SUMMARY:Worcester District Court Small Claims Lawyer for the Day
DESCRIPTION:VOLUNTEER CALL TO ACTION! \nThis remote Lawyer for the Day program is a collaborative pro bono project with the Worcester County Bar Association (WCBA) that provides Limited Assistance Representation (LAR) to low-income debtors in the Worcester District Court\, Small Claims Session. This program takes places every Tuesday morning between 8:45 – 11:00 A.M. via Zoom. \nSIGN UP HERE for a session between January and March 2026! \n 
URL:https://communitylegal.org/event/worcester-district-court-small-claims-lawyer-for-the-day/2028-01-18/
LOCATION:via Zoom\, MA\, United States
CATEGORIES:Pro Bono
GEO:42.4072107;-71.3824374
END:VEVENT
BEGIN:VEVENT
DTSTART;TZID=America/New_York:20280125T084500
DTEND;TZID=America/New_York:20280125T110000
DTSTAMP:20260424T092940
CREATED:20230209T181704Z
LAST-MODIFIED:20230209T181704Z
UID:15368-1832402700-1832410800@communitylegal.org
SUMMARY:Worcester District Court Small Claims Lawyer for the Day
DESCRIPTION:VOLUNTEER CALL TO ACTION! \nThis remote Lawyer for the Day program is a collaborative pro bono project with the Worcester County Bar Association (WCBA) that provides Limited Assistance Representation (LAR) to low-income debtors in the Worcester District Court\, Small Claims Session. This program takes places every Tuesday morning between 8:45 – 11:00 A.M. via Zoom. \nSIGN UP HERE for a session between January and March 2026! \n 
URL:https://communitylegal.org/event/worcester-district-court-small-claims-lawyer-for-the-day/2028-01-25/
LOCATION:via Zoom\, MA\, United States
CATEGORIES:Pro Bono
GEO:42.4072107;-71.3824374
END:VEVENT
BEGIN:VEVENT
DTSTART;TZID=America/New_York:20280126T090000
DTEND;TZID=America/New_York:20280126T120000
DTSTAMP:20260424T092940
CREATED:20260317T161127Z
LAST-MODIFIED:20260317T161320Z
UID:15603-1832490000-1832500800@communitylegal.org
SUMMARY:Hampden County Conciliation Project (Virtual)
DESCRIPTION:The Hampden County Conciliation Project\, a collaboration between Community Legal Aid (CLA) and the Hampden County Bar Association (HCBA)\, assists litigants who have made a court appearance and whose case the presiding Judge believes would be better resolved through the assistance of a trained neutral conciliator. \nCLA is seeking volunteers for this Project to help with virtual conciliation. This registration page is for ATTORNEY signups only – NOT LITIGANTS.  \nVolunteers sign up for 3-hour shifts\, which occur every other Wednesday from 9AM to 12PM. CLA and HCBA staff assist with scheduling two cases per shift. Staff will reach out to the respective parties to schedule their conciliation\, will be available on Zoom to assist the volunteer\, and can assist in executing agreements and sending them to the Court.
URL:https://communitylegal.org/event/hampden-county-conciliation-project-virtual/2028-01-26/
LOCATION:Massachusetts
CATEGORIES:Pro Bono,General Events
END:VEVENT
BEGIN:VEVENT
DTSTART;TZID=America/New_York:20280201T084500
DTEND;TZID=America/New_York:20280201T110000
DTSTAMP:20260424T092940
CREATED:20230209T181704Z
LAST-MODIFIED:20230209T181704Z
UID:15397-1833007500-1833015600@communitylegal.org
SUMMARY:Worcester District Court Small Claims Lawyer for the Day
DESCRIPTION:VOLUNTEER CALL TO ACTION! \nThis remote Lawyer for the Day program is a collaborative pro bono project with the Worcester County Bar Association (WCBA) that provides Limited Assistance Representation (LAR) to low-income debtors in the Worcester District Court\, Small Claims Session. This program takes places every Tuesday morning between 8:45 – 11:00 A.M. via Zoom. \nSIGN UP HERE for a session between January and March 2026! \n 
URL:https://communitylegal.org/event/worcester-district-court-small-claims-lawyer-for-the-day/2028-02-01/
LOCATION:via Zoom\, MA\, United States
CATEGORIES:Pro Bono
GEO:42.4072107;-71.3824374
END:VEVENT
BEGIN:VEVENT
DTSTART;TZID=America/New_York:20280208T084500
DTEND;TZID=America/New_York:20280208T110000
DTSTAMP:20260424T092940
CREATED:20230209T181704Z
LAST-MODIFIED:20230209T181704Z
UID:15411-1833612300-1833620400@communitylegal.org
SUMMARY:Worcester District Court Small Claims Lawyer for the Day
DESCRIPTION:VOLUNTEER CALL TO ACTION! \nThis remote Lawyer for the Day program is a collaborative pro bono project with the Worcester County Bar Association (WCBA) that provides Limited Assistance Representation (LAR) to low-income debtors in the Worcester District Court\, Small Claims Session. This program takes places every Tuesday morning between 8:45 – 11:00 A.M. via Zoom. \nSIGN UP HERE for a session between January and March 2026! \n 
URL:https://communitylegal.org/event/worcester-district-court-small-claims-lawyer-for-the-day/2028-02-08/
LOCATION:via Zoom\, MA\, United States
CATEGORIES:Pro Bono
GEO:42.4072107;-71.3824374
END:VEVENT
BEGIN:VEVENT
DTSTART;TZID=America/New_York:20280209T090000
DTEND;TZID=America/New_York:20280209T120000
DTSTAMP:20260424T092940
CREATED:20260317T161127Z
LAST-MODIFIED:20260317T161320Z
UID:15604-1833699600-1833710400@communitylegal.org
SUMMARY:Hampden County Conciliation Project (Virtual)
DESCRIPTION:The Hampden County Conciliation Project\, a collaboration between Community Legal Aid (CLA) and the Hampden County Bar Association (HCBA)\, assists litigants who have made a court appearance and whose case the presiding Judge believes would be better resolved through the assistance of a trained neutral conciliator. \nCLA is seeking volunteers for this Project to help with virtual conciliation. This registration page is for ATTORNEY signups only – NOT LITIGANTS.  \nVolunteers sign up for 3-hour shifts\, which occur every other Wednesday from 9AM to 12PM. CLA and HCBA staff assist with scheduling two cases per shift. Staff will reach out to the respective parties to schedule their conciliation\, will be available on Zoom to assist the volunteer\, and can assist in executing agreements and sending them to the Court.
URL:https://communitylegal.org/event/hampden-county-conciliation-project-virtual/2028-02-09/
LOCATION:Massachusetts
CATEGORIES:Pro Bono,General Events
END:VEVENT
BEGIN:VEVENT
DTSTART;TZID=America/New_York:20280215T084500
DTEND;TZID=America/New_York:20280215T110000
DTSTAMP:20260424T092940
CREATED:20230209T181704Z
LAST-MODIFIED:20230209T181704Z
UID:15420-1834217100-1834225200@communitylegal.org
SUMMARY:Worcester District Court Small Claims Lawyer for the Day
DESCRIPTION:VOLUNTEER CALL TO ACTION! \nThis remote Lawyer for the Day program is a collaborative pro bono project with the Worcester County Bar Association (WCBA) that provides Limited Assistance Representation (LAR) to low-income debtors in the Worcester District Court\, Small Claims Session. This program takes places every Tuesday morning between 8:45 – 11:00 A.M. via Zoom. \nSIGN UP HERE for a session between January and March 2026! \n 
URL:https://communitylegal.org/event/worcester-district-court-small-claims-lawyer-for-the-day/2028-02-15/
LOCATION:via Zoom\, MA\, United States
CATEGORIES:Pro Bono
GEO:42.4072107;-71.3824374
END:VEVENT
BEGIN:VEVENT
DTSTART;TZID=America/New_York:20280222T084500
DTEND;TZID=America/New_York:20280222T110000
DTSTAMP:20260424T092940
CREATED:20230209T181704Z
LAST-MODIFIED:20230209T181704Z
UID:15478-1834821900-1834830000@communitylegal.org
SUMMARY:Worcester District Court Small Claims Lawyer for the Day
DESCRIPTION:VOLUNTEER CALL TO ACTION! \nThis remote Lawyer for the Day program is a collaborative pro bono project with the Worcester County Bar Association (WCBA) that provides Limited Assistance Representation (LAR) to low-income debtors in the Worcester District Court\, Small Claims Session. This program takes places every Tuesday morning between 8:45 – 11:00 A.M. via Zoom. \nSIGN UP HERE for a session between January and March 2026! \n 
URL:https://communitylegal.org/event/worcester-district-court-small-claims-lawyer-for-the-day/2028-02-22/
LOCATION:via Zoom\, MA\, United States
CATEGORIES:Pro Bono
GEO:42.4072107;-71.3824374
END:VEVENT
BEGIN:VEVENT
DTSTART;TZID=America/New_York:20280223T090000
DTEND;TZID=America/New_York:20280223T120000
DTSTAMP:20260424T092940
CREATED:20260317T161127Z
LAST-MODIFIED:20260317T161320Z
UID:15605-1834909200-1834920000@communitylegal.org
SUMMARY:Hampden County Conciliation Project (Virtual)
DESCRIPTION:The Hampden County Conciliation Project\, a collaboration between Community Legal Aid (CLA) and the Hampden County Bar Association (HCBA)\, assists litigants who have made a court appearance and whose case the presiding Judge believes would be better resolved through the assistance of a trained neutral conciliator. \nCLA is seeking volunteers for this Project to help with virtual conciliation. This registration page is for ATTORNEY signups only – NOT LITIGANTS.  \nVolunteers sign up for 3-hour shifts\, which occur every other Wednesday from 9AM to 12PM. CLA and HCBA staff assist with scheduling two cases per shift. Staff will reach out to the respective parties to schedule their conciliation\, will be available on Zoom to assist the volunteer\, and can assist in executing agreements and sending them to the Court.
URL:https://communitylegal.org/event/hampden-county-conciliation-project-virtual/2028-02-23/
LOCATION:Massachusetts
CATEGORIES:Pro Bono,General Events
END:VEVENT
BEGIN:VEVENT
DTSTART;TZID=America/New_York:20280229T084500
DTEND;TZID=America/New_York:20280229T110000
DTSTAMP:20260424T092940
CREATED:20230209T181704Z
LAST-MODIFIED:20230209T181704Z
UID:15514-1835426700-1835434800@communitylegal.org
SUMMARY:Worcester District Court Small Claims Lawyer for the Day
DESCRIPTION:VOLUNTEER CALL TO ACTION! \nThis remote Lawyer for the Day program is a collaborative pro bono project with the Worcester County Bar Association (WCBA) that provides Limited Assistance Representation (LAR) to low-income debtors in the Worcester District Court\, Small Claims Session. This program takes places every Tuesday morning between 8:45 – 11:00 A.M. via Zoom. \nSIGN UP HERE for a session between January and March 2026! \n 
URL:https://communitylegal.org/event/worcester-district-court-small-claims-lawyer-for-the-day/2028-02-29/
LOCATION:via Zoom\, MA\, United States
CATEGORIES:Pro Bono
GEO:42.4072107;-71.3824374
END:VEVENT
BEGIN:VEVENT
DTSTART;TZID=America/New_York:20280307T084500
DTEND;TZID=America/New_York:20280307T110000
DTSTAMP:20260424T092940
CREATED:20230209T181704Z
LAST-MODIFIED:20230209T181704Z
UID:15530-1836031500-1836039600@communitylegal.org
SUMMARY:Worcester District Court Small Claims Lawyer for the Day
DESCRIPTION:VOLUNTEER CALL TO ACTION! \nThis remote Lawyer for the Day program is a collaborative pro bono project with the Worcester County Bar Association (WCBA) that provides Limited Assistance Representation (LAR) to low-income debtors in the Worcester District Court\, Small Claims Session. This program takes places every Tuesday morning between 8:45 – 11:00 A.M. via Zoom. \nSIGN UP HERE for a session between January and March 2026! \n 
URL:https://communitylegal.org/event/worcester-district-court-small-claims-lawyer-for-the-day/2028-03-07/
LOCATION:via Zoom\, MA\, United States
CATEGORIES:Pro Bono
GEO:42.4072107;-71.3824374
END:VEVENT
BEGIN:VEVENT
DTSTART;TZID=America/New_York:20280308T090000
DTEND;TZID=America/New_York:20280308T120000
DTSTAMP:20260424T092940
CREATED:20260317T161127Z
LAST-MODIFIED:20260317T161320Z
UID:15606-1836118800-1836129600@communitylegal.org
SUMMARY:Hampden County Conciliation Project (Virtual)
DESCRIPTION:The Hampden County Conciliation Project\, a collaboration between Community Legal Aid (CLA) and the Hampden County Bar Association (HCBA)\, assists litigants who have made a court appearance and whose case the presiding Judge believes would be better resolved through the assistance of a trained neutral conciliator. \nCLA is seeking volunteers for this Project to help with virtual conciliation. This registration page is for ATTORNEY signups only – NOT LITIGANTS.  \nVolunteers sign up for 3-hour shifts\, which occur every other Wednesday from 9AM to 12PM. CLA and HCBA staff assist with scheduling two cases per shift. Staff will reach out to the respective parties to schedule their conciliation\, will be available on Zoom to assist the volunteer\, and can assist in executing agreements and sending them to the Court.
URL:https://communitylegal.org/event/hampden-county-conciliation-project-virtual/2028-03-08/
LOCATION:Massachusetts
CATEGORIES:Pro Bono,General Events
END:VEVENT
BEGIN:VEVENT
DTSTART;TZID=America/New_York:20280314T084500
DTEND;TZID=America/New_York:20280314T110000
DTSTAMP:20260424T092940
CREATED:20230209T181704Z
LAST-MODIFIED:20230209T181704Z
UID:15551-1836636300-1836644400@communitylegal.org
SUMMARY:Worcester District Court Small Claims Lawyer for the Day
DESCRIPTION:VOLUNTEER CALL TO ACTION! \nThis remote Lawyer for the Day program is a collaborative pro bono project with the Worcester County Bar Association (WCBA) that provides Limited Assistance Representation (LAR) to low-income debtors in the Worcester District Court\, Small Claims Session. This program takes places every Tuesday morning between 8:45 – 11:00 A.M. via Zoom. \nSIGN UP HERE for a session between January and March 2026! \n 
URL:https://communitylegal.org/event/worcester-district-court-small-claims-lawyer-for-the-day/2028-03-14/
LOCATION:via Zoom\, MA\, United States
CATEGORIES:Pro Bono
GEO:42.4072107;-71.3824374
END:VEVENT
BEGIN:VEVENT
DTSTART;TZID=America/New_York:20280321T084500
DTEND;TZID=America/New_York:20280321T110000
DTSTAMP:20260424T092940
CREATED:20230209T181704Z
LAST-MODIFIED:20230209T181704Z
UID:15631-1837241100-1837249200@communitylegal.org
SUMMARY:Worcester District Court Small Claims Lawyer for the Day
DESCRIPTION:VOLUNTEER CALL TO ACTION! \nThis remote Lawyer for the Day program is a collaborative pro bono project with the Worcester County Bar Association (WCBA) that provides Limited Assistance Representation (LAR) to low-income debtors in the Worcester District Court\, Small Claims Session. This program takes places every Tuesday morning between 8:45 – 11:00 A.M. via Zoom. \nSIGN UP HERE for a session between January and March 2026! \n 
URL:https://communitylegal.org/event/worcester-district-court-small-claims-lawyer-for-the-day/2028-03-21/
LOCATION:via Zoom\, MA\, United States
CATEGORIES:Pro Bono
GEO:42.4072107;-71.3824374
END:VEVENT
BEGIN:VEVENT
DTSTART;TZID=America/New_York:20280322T090000
DTEND;TZID=America/New_York:20280322T120000
DTSTAMP:20260424T092940
CREATED:20260317T161127Z
LAST-MODIFIED:20260317T161127Z
UID:15632-1837328400-1837339200@communitylegal.org
SUMMARY:Hampden County Conciliation Project (Virtual)
DESCRIPTION:The Hampden County Conciliation Project\, a collaboration between Community Legal Aid (CLA) and the Hampden County Bar Association (HCBA)\, assists litigants who have made a court appearance and whose case the presiding Judge believes would be better resolved through the assistance of a trained neutral conciliator. \nCLA is seeking volunteers for this Project to help with virtual conciliation. This registration page is for ATTORNEY signups only – NOT LITIGANTS.  \nVolunteers sign up for 3-hour shifts\, which occur every other Wednesday from 9AM to 12PM. CLA and HCBA staff assist with scheduling two cases per shift. Staff will reach out to the respective parties to schedule their conciliation\, will be available on Zoom to assist the volunteer\, and can assist in executing agreements and sending them to the Court.
URL:https://communitylegal.org/event/hampden-county-conciliation-project-virtual/2028-03-22/
LOCATION:Massachusetts
CATEGORIES:Pro Bono,General Events
END:VEVENT
BEGIN:VEVENT
DTSTART;TZID=America/New_York:20280328T084500
DTEND;TZID=America/New_York:20280328T110000
DTSTAMP:20260424T092940
CREATED:20230209T181704Z
LAST-MODIFIED:20230209T181704Z
UID:15652-1837845900-1837854000@communitylegal.org
SUMMARY:Worcester District Court Small Claims Lawyer for the Day
DESCRIPTION:VOLUNTEER CALL TO ACTION! \nThis remote Lawyer for the Day program is a collaborative pro bono project with the Worcester County Bar Association (WCBA) that provides Limited Assistance Representation (LAR) to low-income debtors in the Worcester District Court\, Small Claims Session. This program takes places every Tuesday morning between 8:45 – 11:00 A.M. via Zoom. \nSIGN UP HERE for a session between January and March 2026! \n 
URL:https://communitylegal.org/event/worcester-district-court-small-claims-lawyer-for-the-day/2028-03-28/
LOCATION:via Zoom\, MA\, United States
CATEGORIES:Pro Bono
GEO:42.4072107;-71.3824374
END:VEVENT
BEGIN:VEVENT
DTSTART;TZID=America/New_York:20280404T084500
DTEND;TZID=America/New_York:20280404T110000
DTSTAMP:20260424T092940
CREATED:20230209T181704Z
LAST-MODIFIED:20230209T181704Z
UID:15734-1838450700-1838458800@communitylegal.org
SUMMARY:Worcester District Court Small Claims Lawyer for the Day
DESCRIPTION:VOLUNTEER CALL TO ACTION! \nThis remote Lawyer for the Day program is a collaborative pro bono project with the Worcester County Bar Association (WCBA) that provides Limited Assistance Representation (LAR) to low-income debtors in the Worcester District Court\, Small Claims Session. This program takes places every Tuesday morning between 8:45 – 11:00 A.M. via Zoom. \nSIGN UP HERE for a session between January and March 2026! \n 
URL:https://communitylegal.org/event/worcester-district-court-small-claims-lawyer-for-the-day/2028-04-04/
LOCATION:via Zoom\, MA\, United States
CATEGORIES:Pro Bono
GEO:42.4072107;-71.3824374
END:VEVENT
BEGIN:VEVENT
DTSTART;TZID=America/New_York:20280405T090000
DTEND;TZID=America/New_York:20280405T120000
DTSTAMP:20260424T092940
CREATED:20260317T161127Z
LAST-MODIFIED:20260317T161127Z
UID:15735-1838538000-1838548800@communitylegal.org
SUMMARY:Hampden County Conciliation Project (Virtual)
DESCRIPTION:The Hampden County Conciliation Project\, a collaboration between Community Legal Aid (CLA) and the Hampden County Bar Association (HCBA)\, assists litigants who have made a court appearance and whose case the presiding Judge believes would be better resolved through the assistance of a trained neutral conciliator. \nCLA is seeking volunteers for this Project to help with virtual conciliation. This registration page is for ATTORNEY signups only – NOT LITIGANTS.  \nVolunteers sign up for 3-hour shifts\, which occur every other Wednesday from 9AM to 12PM. CLA and HCBA staff assist with scheduling two cases per shift. Staff will reach out to the respective parties to schedule their conciliation\, will be available on Zoom to assist the volunteer\, and can assist in executing agreements and sending them to the Court.
URL:https://communitylegal.org/event/hampden-county-conciliation-project-virtual/2028-04-05/
LOCATION:Massachusetts
CATEGORIES:Pro Bono,General Events
END:VEVENT
BEGIN:VEVENT
DTSTART;TZID=America/New_York:20280411T084500
DTEND;TZID=America/New_York:20280411T110000
DTSTAMP:20260424T092940
CREATED:20230209T181704Z
LAST-MODIFIED:20230209T181704Z
UID:15779-1839055500-1839063600@communitylegal.org
SUMMARY:Worcester District Court Small Claims Lawyer for the Day
DESCRIPTION:VOLUNTEER CALL TO ACTION! \nThis remote Lawyer for the Day program is a collaborative pro bono project with the Worcester County Bar Association (WCBA) that provides Limited Assistance Representation (LAR) to low-income debtors in the Worcester District Court\, Small Claims Session. This program takes places every Tuesday morning between 8:45 – 11:00 A.M. via Zoom. \nSIGN UP HERE for a session between January and March 2026! \n 
URL:https://communitylegal.org/event/worcester-district-court-small-claims-lawyer-for-the-day/2028-04-11/
LOCATION:via Zoom\, MA\, United States
CATEGORIES:Pro Bono
GEO:42.4072107;-71.3824374
END:VEVENT
BEGIN:VEVENT
DTSTART;TZID=America/New_York:20280418T084500
DTEND;TZID=America/New_York:20280418T110000
DTSTAMP:20260424T092940
CREATED:20230209T181704Z
LAST-MODIFIED:20230209T181704Z
UID:15868-1839660300-1839668400@communitylegal.org
SUMMARY:Worcester District Court Small Claims Lawyer for the Day
DESCRIPTION:VOLUNTEER CALL TO ACTION! \nThis remote Lawyer for the Day program is a collaborative pro bono project with the Worcester County Bar Association (WCBA) that provides Limited Assistance Representation (LAR) to low-income debtors in the Worcester District Court\, Small Claims Session. This program takes places every Tuesday morning between 8:45 – 11:00 A.M. via Zoom. \nSIGN UP HERE for a session between January and March 2026! \n 
URL:https://communitylegal.org/event/worcester-district-court-small-claims-lawyer-for-the-day/2028-04-18/
LOCATION:via Zoom\, MA\, United States
CATEGORIES:Pro Bono
GEO:42.4072107;-71.3824374
END:VEVENT
BEGIN:VEVENT
DTSTART;TZID=America/New_York:20280419T090000
DTEND;TZID=America/New_York:20280419T120000
DTSTAMP:20260424T092940
CREATED:20260317T161127Z
LAST-MODIFIED:20260317T161127Z
UID:15870-1839747600-1839758400@communitylegal.org
SUMMARY:Hampden County Conciliation Project (Virtual)
DESCRIPTION:The Hampden County Conciliation Project\, a collaboration between Community Legal Aid (CLA) and the Hampden County Bar Association (HCBA)\, assists litigants who have made a court appearance and whose case the presiding Judge believes would be better resolved through the assistance of a trained neutral conciliator. \nCLA is seeking volunteers for this Project to help with virtual conciliation. This registration page is for ATTORNEY signups only – NOT LITIGANTS.  \nVolunteers sign up for 3-hour shifts\, which occur every other Wednesday from 9AM to 12PM. CLA and HCBA staff assist with scheduling two cases per shift. Staff will reach out to the respective parties to schedule their conciliation\, will be available on Zoom to assist the volunteer\, and can assist in executing agreements and sending them to the Court.
URL:https://communitylegal.org/event/hampden-county-conciliation-project-virtual/2028-04-19/
LOCATION:Massachusetts
CATEGORIES:Pro Bono,General Events
END:VEVENT
END:VCALENDAR