BEGIN:VCALENDAR
VERSION:2.0
PRODID:-//Community Legal Aid - ECPv6.15.20//NONSGML v1.0//EN
CALSCALE:GREGORIAN
METHOD:PUBLISH
X-ORIGINAL-URL:https://communitylegal.org
X-WR-CALDESC:Events for Community Legal Aid
REFRESH-INTERVAL;VALUE=DURATION:PT1H
X-Robots-Tag:noindex
X-PUBLISHED-TTL:PT1H
BEGIN:VTIMEZONE
TZID:America/New_York
BEGIN:DAYLIGHT
TZOFFSETFROM:-0500
TZOFFSETTO:-0400
TZNAME:EDT
DTSTART:20190310T070000
END:DAYLIGHT
BEGIN:STANDARD
TZOFFSETFROM:-0400
TZOFFSETTO:-0500
TZNAME:EST
DTSTART:20191103T060000
END:STANDARD
BEGIN:DAYLIGHT
TZOFFSETFROM:-0500
TZOFFSETTO:-0400
TZNAME:EDT
DTSTART:20200308T070000
END:DAYLIGHT
BEGIN:STANDARD
TZOFFSETFROM:-0400
TZOFFSETTO:-0500
TZNAME:EST
DTSTART:20201101T060000
END:STANDARD
BEGIN:DAYLIGHT
TZOFFSETFROM:-0500
TZOFFSETTO:-0400
TZNAME:EDT
DTSTART:20210314T070000
END:DAYLIGHT
BEGIN:STANDARD
TZOFFSETFROM:-0400
TZOFFSETTO:-0500
TZNAME:EST
DTSTART:20211107T060000
END:STANDARD
END:VTIMEZONE
BEGIN:VEVENT
DTSTART;TZID=America/New_York:20200417T100000
DTEND;TZID=America/New_York:20200417T160000
DTSTAMP:20260424T032459
CREATED:20200406T195229Z
LAST-MODIFIED:20200407T150558Z
UID:2819-1587117600-1587139200@communitylegal.org
SUMMARY:Senior Partners Conciliation Project
DESCRIPTION:Location:  Hampden Probate and Family Court\nA lawyer for the day project in the Hampden Probate and Family Court in which lawyers serve as volunteer conciliators in family law cases referred by a justice of the court.\nFor more information contact: Carmen Gonzalez\, cgonzalez@cla-ma.org.
URL:https://communitylegal.org/event/senior-partners-conciliation-project/
LOCATION:Hampden Family & Probate Court\, 50 State Street\, Springfield\, MA\, 01103\, United States
CATEGORIES:Pro Bono
ORGANIZER;CN="Carmen Gonzalez%2C Pro Bono Coordinator":MAILTO:cgonzalez@cla-ma.org
GEO:42.0997859;-72.5892436
X-APPLE-STRUCTURED-LOCATION;VALUE=URI;X-ADDRESS=Hampden Family & Probate Court 50 State Street Springfield MA 01103 United States;X-APPLE-RADIUS=500;X-TITLE=50 State Street:geo:-72.5892436,42.0997859
END:VEVENT
END:VCALENDAR