BEGIN:VCALENDAR
VERSION:2.0
PRODID:-//Community Legal Aid - ECPv6.15.20//NONSGML v1.0//EN
CALSCALE:GREGORIAN
METHOD:PUBLISH
X-WR-CALNAME:Community Legal Aid
X-ORIGINAL-URL:https://communitylegal.org
X-WR-CALDESC:Events for Community Legal Aid
REFRESH-INTERVAL;VALUE=DURATION:PT1H
X-Robots-Tag:noindex
X-PUBLISHED-TTL:PT1H
BEGIN:VTIMEZONE
TZID:America/New_York
BEGIN:DAYLIGHT
TZOFFSETFROM:-0500
TZOFFSETTO:-0400
TZNAME:EDT
DTSTART:20230312T070000
END:DAYLIGHT
BEGIN:STANDARD
TZOFFSETFROM:-0400
TZOFFSETTO:-0500
TZNAME:EST
DTSTART:20231105T060000
END:STANDARD
BEGIN:DAYLIGHT
TZOFFSETFROM:-0500
TZOFFSETTO:-0400
TZNAME:EDT
DTSTART:20240310T070000
END:DAYLIGHT
BEGIN:STANDARD
TZOFFSETFROM:-0400
TZOFFSETTO:-0500
TZNAME:EST
DTSTART:20241103T060000
END:STANDARD
BEGIN:DAYLIGHT
TZOFFSETFROM:-0500
TZOFFSETTO:-0400
TZNAME:EDT
DTSTART:20250309T070000
END:DAYLIGHT
BEGIN:STANDARD
TZOFFSETFROM:-0400
TZOFFSETTO:-0500
TZNAME:EST
DTSTART:20251102T060000
END:STANDARD
END:VTIMEZONE
BEGIN:VEVENT
DTSTART;TZID=America/New_York:20240129T160000
DTEND;TZID=America/New_York:20240129T180000
DTSTAMP:20260423T165836
CREATED:20231212T202121Z
LAST-MODIFIED:20231212T202121Z
UID:11581-1706544000-1706551200@communitylegal.org
SUMMARY:Consumer Debt Training- Advising and Representing Debtors in Small Claims Court
DESCRIPTION:A CLE webinar produced by the Social Law Library featuring: \n\nJoy Sun\, Attorney\, Consumer Rights Unit at Greater Boston Legal Services\nSarah Perlman\, Attorney\, Consumer Rights Unit at Greater Boston Legal Services\nChoyce McIntosh\, Pro Bono Coordinator\, Community Legal Aid\n\nThis training will provide you with the resources necessary to do so\, whether you‘re a pro bono volunteer or just starting your consumer law practice. Topics covered will include: \n\nAn overview of consumer debt collection\nHow to validate & dispute debt\nStopping harassment by debt collectors\nWhat income is exempt from collection\nAdvising and representing debtors in small claims court\nRelevant consumer resources in Massachusetts\nAnswering your consumer debt questions
URL:https://communitylegal.org/event/consumer-debt-training-advising-and-representing-debtors-in-small-claims-court/
LOCATION:via Zoom\, MA\, United States
CATEGORIES:Pro Bono
GEO:42.4072107;-71.3824374
END:VEVENT
END:VCALENDAR