BEGIN:VCALENDAR
VERSION:2.0
PRODID:-//Community Legal Aid - ECPv6.15.20//NONSGML v1.0//EN
CALSCALE:GREGORIAN
METHOD:PUBLISH
X-WR-CALNAME:Community Legal Aid
X-ORIGINAL-URL:https://communitylegal.org
X-WR-CALDESC:Events for Community Legal Aid
REFRESH-INTERVAL;VALUE=DURATION:PT1H
X-Robots-Tag:noindex
X-PUBLISHED-TTL:PT1H
BEGIN:VTIMEZONE
TZID:America/New_York
BEGIN:DAYLIGHT
TZOFFSETFROM:-0500
TZOFFSETTO:-0400
TZNAME:EDT
DTSTART:20220313T070000
END:DAYLIGHT
BEGIN:STANDARD
TZOFFSETFROM:-0400
TZOFFSETTO:-0500
TZNAME:EST
DTSTART:20221106T060000
END:STANDARD
BEGIN:DAYLIGHT
TZOFFSETFROM:-0500
TZOFFSETTO:-0400
TZNAME:EDT
DTSTART:20230312T070000
END:DAYLIGHT
BEGIN:STANDARD
TZOFFSETFROM:-0400
TZOFFSETTO:-0500
TZNAME:EST
DTSTART:20231105T060000
END:STANDARD
BEGIN:DAYLIGHT
TZOFFSETFROM:-0500
TZOFFSETTO:-0400
TZNAME:EDT
DTSTART:20240310T070000
END:DAYLIGHT
BEGIN:STANDARD
TZOFFSETFROM:-0400
TZOFFSETTO:-0500
TZNAME:EST
DTSTART:20241103T060000
END:STANDARD
END:VTIMEZONE
BEGIN:VEVENT
DTSTART;TZID=America/New_York:20230426T130000
DTEND;TZID=America/New_York:20230426T140000
DTSTAMP:20260424T010322
CREATED:20230425T141759Z
LAST-MODIFIED:20230425T142335Z
UID:10289-1682514000-1682517600@communitylegal.org
SUMMARY:April SPJ Luncheon: View from the Appeals Court
DESCRIPTION:Date & Time: Apr 26\, 2023 01:00 PM\nDescription: Justice Amy Lyn Blake graduated from the University of Rochester\, New York\, in 1987. She attended New England Law School and graduated\, cum laude\, in 1992. While in law school she was named a New England Scholar and awarded the Amos L. Taylor Award for Excellence In Achievement. \nAdmitted to the bar in 1992\, she served as an Assistant District Attorney until 1994\, prosecuting cases in the District Court bench and six person jury sessions while supervising the District Attorney’s Office in two district courts. From 1994 to 2008 she focused her private practice on domestic relations law with the firms of White\, Inker & Aronson\, Yasi & Yasi and Casner & Edwards\, rising from associate to partner. She represented parties in all aspects of domestic relations proceedings. As part of her practice\, she filled the roles of Guardian ad Litem\, discovery master\, attorney for the child and conciliator. She also served on the compensation and long term planning committees. She currently serves on the Board of Editors of the Boston Bar Journal\, and as an associate editor of the Massachusetts Law Review. \nIn 2008 Governor Deval Patrick appointed her to the Family & Probate Court\, where she was named “Distinguished Jurist” in 2013 by the Massachusetts Association of Women Lawyers. In 2017\, she received the Jurist of the Year Award by the Middlesex County Bar Association. Justice Blake is also a lecturer in Law at New England Law Boston. \nAppointed to the Appeals Court by Governor Patrick\, Justice Blake joined the Court on September 9\, 2014. \nRegister: https://us02web.zoom.us/meeting/register/tZElc-6orz4vGdwx_Hq4x3k6dVDOhudDMGBF#/registration
URL:https://communitylegal.org/event/april-spj-luncheon-view-from-the-appeals-court/
LOCATION:MA\, United States
CATEGORIES:Pro Bono,General Events
GEO:42.4072107;-71.3824374
END:VEVENT
END:VCALENDAR