BEGIN:VCALENDAR
VERSION:2.0
PRODID:-//Community Legal Aid - ECPv6.15.20//NONSGML v1.0//EN
CALSCALE:GREGORIAN
METHOD:PUBLISH
X-WR-CALNAME:Community Legal Aid
X-ORIGINAL-URL:https://communitylegal.org
X-WR-CALDESC:Events for Community Legal Aid
REFRESH-INTERVAL;VALUE=DURATION:PT1H
X-Robots-Tag:noindex
X-PUBLISHED-TTL:PT1H
BEGIN:VTIMEZONE
TZID:America/New_York
BEGIN:DAYLIGHT
TZOFFSETFROM:-0500
TZOFFSETTO:-0400
TZNAME:EDT
DTSTART:20220313T070000
END:DAYLIGHT
BEGIN:STANDARD
TZOFFSETFROM:-0400
TZOFFSETTO:-0500
TZNAME:EST
DTSTART:20221106T060000
END:STANDARD
BEGIN:DAYLIGHT
TZOFFSETFROM:-0500
TZOFFSETTO:-0400
TZNAME:EDT
DTSTART:20230312T070000
END:DAYLIGHT
BEGIN:STANDARD
TZOFFSETFROM:-0400
TZOFFSETTO:-0500
TZNAME:EST
DTSTART:20231105T060000
END:STANDARD
BEGIN:DAYLIGHT
TZOFFSETFROM:-0500
TZOFFSETTO:-0400
TZNAME:EDT
DTSTART:20240310T070000
END:DAYLIGHT
BEGIN:STANDARD
TZOFFSETFROM:-0400
TZOFFSETTO:-0500
TZNAME:EST
DTSTART:20241103T060000
END:STANDARD
END:VTIMEZONE
BEGIN:VEVENT
DTSTART;TZID=America/New_York:20230426T130000
DTEND;TZID=America/New_York:20230426T140000
DTSTAMP:20260424T024741
CREATED:20230323T133407Z
LAST-MODIFIED:20230411T150448Z
UID:10108-1682514000-1682517600@communitylegal.org
SUMMARY:PRO BONO SEMINAR: Bridging the access to justice gap with pro bono
DESCRIPTION:Discussion will include multiple perspectives on how pro bono work promotes a justice system that is fair and accessible to everyone\, regardless of income. Learn about pro bono opportunities at Community Legal Aid (CLA)\, and how pro bono work can enhance your legal skills and practice.  There will be time for Q & A at the end of the program \nPlease log into the member area of the Worcester County Bar Association website to participate\, zoom link is posted on the “Seminar Material” page. \nPanelists: \n  \nAssistant Clerk-Magistrate Michael D. Prosser\, \nWorcester District Court \n  \nAkosua Agyepong\, Esq. \nSequel Law\, LLC \n  \nPavel Y. Bespalko\, Esq. \nTricorne & Co.\, P.C. \n  \nMatthew Blouin\, Esq. \nWorcester Court Service Center Manager  \n  \nKathryn A. Calo\, Esq. \nBowditch & Dewey \n   \nMeredith Palmer\, Esq. \nCommunity Legal Aid Pro Bono Director \n   \nModerators: \nKathryn O’Leary\, Esq. and Leigh Woodruff\, Esq. \nCo-Chairs of the WCBA Civil Litigation Committee
URL:https://communitylegal.org/event/pro-bono-seminar-bridging-the-access-to-justice-gap-with-pro-bono/
LOCATION:Virtual
CATEGORIES:Pro Bono
END:VEVENT
END:VCALENDAR