BEGIN:VCALENDAR
VERSION:2.0
PRODID:-//Community Legal Aid - ECPv6.15.20//NONSGML v1.0//EN
CALSCALE:GREGORIAN
METHOD:PUBLISH
X-WR-CALNAME:Community Legal Aid
X-ORIGINAL-URL:https://communitylegal.org
X-WR-CALDESC:Events for Community Legal Aid
REFRESH-INTERVAL;VALUE=DURATION:PT1H
X-Robots-Tag:noindex
X-PUBLISHED-TTL:PT1H
BEGIN:VTIMEZONE
TZID:America/New_York
BEGIN:DAYLIGHT
TZOFFSETFROM:-0500
TZOFFSETTO:-0400
TZNAME:EDT
DTSTART:20210314T070000
END:DAYLIGHT
BEGIN:STANDARD
TZOFFSETFROM:-0400
TZOFFSETTO:-0500
TZNAME:EST
DTSTART:20211107T060000
END:STANDARD
BEGIN:DAYLIGHT
TZOFFSETFROM:-0500
TZOFFSETTO:-0400
TZNAME:EDT
DTSTART:20220313T070000
END:DAYLIGHT
BEGIN:STANDARD
TZOFFSETFROM:-0400
TZOFFSETTO:-0500
TZNAME:EST
DTSTART:20221106T060000
END:STANDARD
BEGIN:DAYLIGHT
TZOFFSETFROM:-0500
TZOFFSETTO:-0400
TZNAME:EDT
DTSTART:20230312T070000
END:DAYLIGHT
BEGIN:STANDARD
TZOFFSETFROM:-0400
TZOFFSETTO:-0500
TZNAME:EST
DTSTART:20231105T060000
END:STANDARD
BEGIN:DAYLIGHT
TZOFFSETFROM:-0500
TZOFFSETTO:-0400
TZNAME:EDT
DTSTART:20240310T070000
END:DAYLIGHT
BEGIN:STANDARD
TZOFFSETFROM:-0400
TZOFFSETTO:-0500
TZNAME:EST
DTSTART:20241103T060000
END:STANDARD
BEGIN:DAYLIGHT
TZOFFSETFROM:-0500
TZOFFSETTO:-0400
TZNAME:EDT
DTSTART:20250309T070000
END:DAYLIGHT
BEGIN:STANDARD
TZOFFSETFROM:-0400
TZOFFSETTO:-0500
TZNAME:EST
DTSTART:20251102T060000
END:STANDARD
BEGIN:DAYLIGHT
TZOFFSETFROM:-0500
TZOFFSETTO:-0400
TZNAME:EDT
DTSTART:20260308T070000
END:DAYLIGHT
BEGIN:STANDARD
TZOFFSETFROM:-0400
TZOFFSETTO:-0500
TZNAME:EST
DTSTART:20261101T060000
END:STANDARD
BEGIN:DAYLIGHT
TZOFFSETFROM:-0500
TZOFFSETTO:-0400
TZNAME:EDT
DTSTART:20270314T070000
END:DAYLIGHT
BEGIN:STANDARD
TZOFFSETFROM:-0400
TZOFFSETTO:-0500
TZNAME:EST
DTSTART:20271107T060000
END:STANDARD
END:VTIMEZONE
BEGIN:VEVENT
DTSTART;TZID=America/New_York:20260423T130000
DTEND;TZID=America/New_York:20260423T150000
DTSTAMP:20260423T171019
CREATED:20260414T143107Z
LAST-MODIFIED:20260414T150214Z
UID:15796-1776949200-1776956400@communitylegal.org
SUMMARY:CORI Sealing & Expungement Drop-In Hours (Pittsfield)
DESCRIPTION:A Community Legal Aid CORI/Re-Entry Attorney holds weekly office hours at 2nd Street (264 Second Street\nPittsfield\, MA 01201) in Pittsfield\, MA. \n 
URL:https://communitylegal.org/event/2nd-street-sealing/2026-04-23/
LOCATION:2nd Street\, 264 Second Street\, Pittsfield\, 01201
CATEGORIES:General Events,General Event
ATTACH;FMTTYPE=image/png:https://communitylegal.org/wp-content/uploads/2026/02/Record-Sealing-Facebook-Preview.png
GEO:42.4561568;-73.2451594
X-APPLE-STRUCTURED-LOCATION;VALUE=URI;X-ADDRESS=2nd Street 264 Second Street Pittsfield 01201;X-APPLE-RADIUS=500;X-TITLE=264 Second Street:geo:-73.2451594,42.4561568
END:VEVENT
BEGIN:VEVENT
DTSTART;TZID=America/New_York:20260416T130000
DTEND;TZID=America/New_York:20260416T150000
DTSTAMP:20260423T171019
CREATED:20260414T143107Z
LAST-MODIFIED:20260414T150212Z
UID:15795-1776344400-1776351600@communitylegal.org
SUMMARY:CORI Sealing & Expungement Drop-In Hours (Pittsfield)
DESCRIPTION:A Community Legal Aid CORI/Re-Entry Attorney holds weekly office hours at 2nd Street (264 Second Street\nPittsfield\, MA 01201) in Pittsfield\, MA. \n 
URL:https://communitylegal.org/event/2nd-street-sealing/2026-04-16/
LOCATION:2nd Street\, 264 Second Street\, Pittsfield\, 01201
CATEGORIES:General Events,General Event
ATTACH;FMTTYPE=image/png:https://communitylegal.org/wp-content/uploads/2026/02/Record-Sealing-Facebook-Preview.png
GEO:42.4561568;-73.2451594
X-APPLE-STRUCTURED-LOCATION;VALUE=URI;X-ADDRESS=2nd Street 264 Second Street Pittsfield 01201;X-APPLE-RADIUS=500;X-TITLE=264 Second Street:geo:-73.2451594,42.4561568
END:VEVENT
BEGIN:VEVENT
DTSTART;TZID=America/New_York:20260409T130000
DTEND;TZID=America/New_York:20260409T150000
DTSTAMP:20260423T171019
CREATED:20260414T143107Z
LAST-MODIFIED:20260414T150210Z
UID:15793-1775739600-1775746800@communitylegal.org
SUMMARY:CORI Sealing & Expungement Drop-In Hours (Pittsfield)
DESCRIPTION:A Community Legal Aid CORI/Re-Entry Attorney holds weekly office hours at 2nd Street (264 Second Street\nPittsfield\, MA 01201) in Pittsfield\, MA. \n 
URL:https://communitylegal.org/event/2nd-street-sealing/2026-04-09/
LOCATION:2nd Street\, 264 Second Street\, Pittsfield\, 01201
CATEGORIES:General Events,General Event
ATTACH;FMTTYPE=image/png:https://communitylegal.org/wp-content/uploads/2026/02/Record-Sealing-Facebook-Preview.png
GEO:42.4561568;-73.2451594
X-APPLE-STRUCTURED-LOCATION;VALUE=URI;X-ADDRESS=2nd Street 264 Second Street Pittsfield 01201;X-APPLE-RADIUS=500;X-TITLE=264 Second Street:geo:-73.2451594,42.4561568
END:VEVENT
BEGIN:VEVENT
DTSTART;TZID=America/New_York:20230803T130000
DTEND;TZID=America/New_York:20230803T150000
DTSTAMP:20260423T171019
CREATED:20230621T194332Z
LAST-MODIFIED:20230621T194332Z
UID:10541-1691067600-1691074800@communitylegal.org
SUMMARY:CORI Sealing Clinic (Pittsfield)
DESCRIPTION:Despite the fact that you may never have been found guilty of a charge\, or that you fulfilled any requirements of a guilty plea or verdict\, you might be having trouble finding or keeping housing or employment because of your Criminal Offender Record Information (CORI). If you want help understanding what is on your CORI and attempting to seal eligible charges\, we are here to help. \n\n\nWHAT: Expungement and Sealing Clinic Learn how to seal your criminal record. Private consultations available. \nWHERE: 2nd Street\, 264 Second Street\, Pittsfield\, MA 01201 \nWHEN: Thursday\, Aug. 3\, 2023 from 1:00 to 3:00 P.M.
URL:https://communitylegal.org/event/cori-sealing-clinic-pittsfield/
LOCATION:2nd Street\, 264 Second Street\, Pittsfield\, 01201
CATEGORIES:General Events
ATTACH;FMTTYPE=image/jpeg:https://communitylegal.org/wp-content/uploads/2023/06/CORI-Sealing-8-3-1.jpg
GEO:42.4561568;-73.2451594
X-APPLE-STRUCTURED-LOCATION;VALUE=URI;X-ADDRESS=2nd Street 264 Second Street Pittsfield 01201;X-APPLE-RADIUS=500;X-TITLE=264 Second Street:geo:-73.2451594,42.4561568
END:VEVENT
BEGIN:VEVENT
DTSTART;TZID=America/New_York:20221003T143000
DTEND;TZID=America/New_York:20221003T170000
DTSTAMP:20260423T171019
CREATED:20220927T144528Z
LAST-MODIFIED:20220927T144528Z
UID:9060-1664807400-1664816400@communitylegal.org
SUMMARY:Criminal Record Expungement and Sealing Clinic
DESCRIPTION:Despite the fact that you may never have been found guilty of a charge\, or that you fulfilled any requirements of a guilty plea or verdict\, you might be having trouble finding or keeping housing or employment because of your Criminal Offender Record Information (CORI). \nIf you want help understanding what is on your CORI and attempting to seal eligible charges\, we are here to help. \nWHAT: FREE Expungement and Sealing Clinic. Learn how to seal your criminal record. Private consultations available. \nWHERE: 2nd Street\, 264 Second Street\, Pittsfield\, MA\, 01201 \nWHEN: Monday\, October 3\, 2022 at 2:30 P.M. \nSponsored by: Community Legal Aid\, 2nd Street Second Chances\, & Committee for Public Counsel Services
URL:https://communitylegal.org/event/criminal-record-expungement-and-sealing-clinic/
LOCATION:2nd Street\, 264 Second Street\, Pittsfield\, 01201
GEO:42.4561568;-73.2451594
X-APPLE-STRUCTURED-LOCATION;VALUE=URI;X-ADDRESS=2nd Street 264 Second Street Pittsfield 01201;X-APPLE-RADIUS=500;X-TITLE=264 Second Street:geo:-73.2451594,42.4561568
END:VEVENT
END:VCALENDAR