BEGIN:VCALENDAR
VERSION:2.0
PRODID:-//Community Legal Aid - ECPv6.15.20//NONSGML v1.0//EN
CALSCALE:GREGORIAN
METHOD:PUBLISH
X-ORIGINAL-URL:https://communitylegal.org
X-WR-CALDESC:Events for Community Legal Aid
REFRESH-INTERVAL;VALUE=DURATION:PT1H
X-Robots-Tag:noindex
X-PUBLISHED-TTL:PT1H
BEGIN:VTIMEZONE
TZID:America/New_York
BEGIN:DAYLIGHT
TZOFFSETFROM:-0500
TZOFFSETTO:-0400
TZNAME:EDT
DTSTART:20250309T070000
END:DAYLIGHT
BEGIN:STANDARD
TZOFFSETFROM:-0400
TZOFFSETTO:-0500
TZNAME:EST
DTSTART:20251102T060000
END:STANDARD
BEGIN:DAYLIGHT
TZOFFSETFROM:-0500
TZOFFSETTO:-0400
TZNAME:EDT
DTSTART:20260308T070000
END:DAYLIGHT
BEGIN:STANDARD
TZOFFSETFROM:-0400
TZOFFSETTO:-0500
TZNAME:EST
DTSTART:20261101T060000
END:STANDARD
BEGIN:DAYLIGHT
TZOFFSETFROM:-0500
TZOFFSETTO:-0400
TZNAME:EDT
DTSTART:20270314T070000
END:DAYLIGHT
BEGIN:STANDARD
TZOFFSETFROM:-0400
TZOFFSETTO:-0500
TZNAME:EST
DTSTART:20271107T060000
END:STANDARD
END:VTIMEZONE
BEGIN:VEVENT
DTSTART;TZID=America/New_York:20260430T130000
DTEND;TZID=America/New_York:20260430T150000
DTSTAMP:20260423T170941
CREATED:20260414T143107Z
LAST-MODIFIED:20260414T150216Z
UID:15797-1777554000-1777561200@communitylegal.org
SUMMARY:CORI Sealing & Expungement Drop-In Hours (Pittsfield)
DESCRIPTION:A Community Legal Aid CORI/Re-Entry Attorney holds weekly office hours at 2nd Street (264 Second Street\nPittsfield\, MA 01201) in Pittsfield\, MA. \n 
URL:https://communitylegal.org/event/2nd-street-sealing/2026-04-30/
LOCATION:2nd Street\, 264 Second Street\, Pittsfield\, 01201
CATEGORIES:General Events,General Event
ATTACH;FMTTYPE=image/png:https://communitylegal.org/wp-content/uploads/2026/02/Record-Sealing-Facebook-Preview.png
GEO:42.4561568;-73.2451594
X-APPLE-STRUCTURED-LOCATION;VALUE=URI;X-ADDRESS=2nd Street 264 Second Street Pittsfield 01201;X-APPLE-RADIUS=500;X-TITLE=264 Second Street:geo:-73.2451594,42.4561568
END:VEVENT
BEGIN:VEVENT
DTSTART;TZID=America/New_York:20260507T130000
DTEND;TZID=America/New_York:20260507T150000
DTSTAMP:20260423T170941
CREATED:20260414T143107Z
LAST-MODIFIED:20260414T150218Z
UID:15798-1778158800-1778166000@communitylegal.org
SUMMARY:CORI Sealing & Expungement Drop-In Hours (Pittsfield)
DESCRIPTION:A Community Legal Aid CORI/Re-Entry Attorney holds weekly office hours at 2nd Street (264 Second Street\nPittsfield\, MA 01201) in Pittsfield\, MA. \n 
URL:https://communitylegal.org/event/2nd-street-sealing/2026-05-07/
LOCATION:2nd Street\, 264 Second Street\, Pittsfield\, 01201
CATEGORIES:General Events,General Event
ATTACH;FMTTYPE=image/png:https://communitylegal.org/wp-content/uploads/2026/02/Record-Sealing-Facebook-Preview.png
GEO:42.4561568;-73.2451594
X-APPLE-STRUCTURED-LOCATION;VALUE=URI;X-ADDRESS=2nd Street 264 Second Street Pittsfield 01201;X-APPLE-RADIUS=500;X-TITLE=264 Second Street:geo:-73.2451594,42.4561568
END:VEVENT
BEGIN:VEVENT
DTSTART;TZID=America/New_York:20260514T130000
DTEND;TZID=America/New_York:20260514T143000
DTSTAMP:20260423T170941
CREATED:20260414T143107Z
LAST-MODIFIED:20260414T150336Z
UID:15799-1778763600-1778769000@communitylegal.org
SUMMARY:CORI Sealing & Expungement Clinic (Pittsfield)
DESCRIPTION:Despite the fact that you may never have been found guilty of a charge\, or that you fulfilled any requirements of a guilty plea or verdict\, you might be having trouble finding or keeping housing or employment because of your Criminal Offender Record Information (CORI). If you want help understanding what is on your CORI and attempting to seal eligible charges\, we are here to help. \nWhat: Expungement and Sealing Clinic. Learn how to seal your criminal record. Private consultations available. \nWhere: 2nd Street (264 Second Street\, Pittsfield\, MA 01201) \nWhen: Thursday\, May 14\, 2026 from 1:00 – 2:30 \n  \n 
URL:https://communitylegal.org/event/record-sealing-clinic/
LOCATION:2nd Street\, 264 Second Street\, Pittsfield\, 01201
CATEGORIES:General Events,General Event
ATTACH;FMTTYPE=image/png:https://communitylegal.org/wp-content/uploads/2026/02/Record-Sealing-Facebook-Preview.png
GEO:42.4561568;-73.2451594
X-APPLE-STRUCTURED-LOCATION;VALUE=URI;X-ADDRESS=2nd Street 264 Second Street Pittsfield 01201;X-APPLE-RADIUS=500;X-TITLE=264 Second Street:geo:-73.2451594,42.4561568
END:VEVENT
BEGIN:VEVENT
DTSTART;TZID=America/New_York:20260521T130000
DTEND;TZID=America/New_York:20260521T150000
DTSTAMP:20260423T170941
CREATED:20260414T143107Z
LAST-MODIFIED:20260414T150220Z
UID:15800-1779368400-1779375600@communitylegal.org
SUMMARY:CORI Sealing & Expungement Drop-In Hours (Pittsfield)
DESCRIPTION:A Community Legal Aid CORI/Re-Entry Attorney holds weekly office hours at 2nd Street (264 Second Street\nPittsfield\, MA 01201) in Pittsfield\, MA. \n 
URL:https://communitylegal.org/event/2nd-street-sealing/2026-05-21/
LOCATION:2nd Street\, 264 Second Street\, Pittsfield\, 01201
CATEGORIES:General Events,General Event
ATTACH;FMTTYPE=image/png:https://communitylegal.org/wp-content/uploads/2026/02/Record-Sealing-Facebook-Preview.png
GEO:42.4561568;-73.2451594
X-APPLE-STRUCTURED-LOCATION;VALUE=URI;X-ADDRESS=2nd Street 264 Second Street Pittsfield 01201;X-APPLE-RADIUS=500;X-TITLE=264 Second Street:geo:-73.2451594,42.4561568
END:VEVENT
BEGIN:VEVENT
DTSTART;TZID=America/New_York:20260528T130000
DTEND;TZID=America/New_York:20260528T150000
DTSTAMP:20260423T170941
CREATED:20260414T143107Z
LAST-MODIFIED:20260414T150222Z
UID:15801-1779973200-1779980400@communitylegal.org
SUMMARY:CORI Sealing & Expungement Drop-In Hours (Pittsfield)
DESCRIPTION:A Community Legal Aid CORI/Re-Entry Attorney holds weekly office hours at 2nd Street (264 Second Street\nPittsfield\, MA 01201) in Pittsfield\, MA. \n 
URL:https://communitylegal.org/event/2nd-street-sealing/2026-05-28/
LOCATION:2nd Street\, 264 Second Street\, Pittsfield\, 01201
CATEGORIES:General Events,General Event
ATTACH;FMTTYPE=image/png:https://communitylegal.org/wp-content/uploads/2026/02/Record-Sealing-Facebook-Preview.png
GEO:42.4561568;-73.2451594
X-APPLE-STRUCTURED-LOCATION;VALUE=URI;X-ADDRESS=2nd Street 264 Second Street Pittsfield 01201;X-APPLE-RADIUS=500;X-TITLE=264 Second Street:geo:-73.2451594,42.4561568
END:VEVENT
BEGIN:VEVENT
DTSTART;TZID=America/New_York:20260604T130000
DTEND;TZID=America/New_York:20260604T150000
DTSTAMP:20260423T170941
CREATED:20260414T143107Z
LAST-MODIFIED:20260414T150225Z
UID:15802-1780578000-1780585200@communitylegal.org
SUMMARY:CORI Sealing & Expungement Drop-In Hours (Pittsfield)
DESCRIPTION:A Community Legal Aid CORI/Re-Entry Attorney holds weekly office hours at 2nd Street (264 Second Street\nPittsfield\, MA 01201) in Pittsfield\, MA. \n 
URL:https://communitylegal.org/event/2nd-street-sealing/2026-06-04/
LOCATION:2nd Street\, 264 Second Street\, Pittsfield\, 01201
CATEGORIES:General Events,General Event
ATTACH;FMTTYPE=image/png:https://communitylegal.org/wp-content/uploads/2026/02/Record-Sealing-Facebook-Preview.png
GEO:42.4561568;-73.2451594
X-APPLE-STRUCTURED-LOCATION;VALUE=URI;X-ADDRESS=2nd Street 264 Second Street Pittsfield 01201;X-APPLE-RADIUS=500;X-TITLE=264 Second Street:geo:-73.2451594,42.4561568
END:VEVENT
BEGIN:VEVENT
DTSTART;TZID=America/New_York:20260611T130000
DTEND;TZID=America/New_York:20260611T150000
DTSTAMP:20260423T170941
CREATED:20260414T143107Z
LAST-MODIFIED:20260414T150227Z
UID:15803-1781182800-1781190000@communitylegal.org
SUMMARY:CORI Sealing & Expungement Drop-In Hours (Pittsfield)
DESCRIPTION:A Community Legal Aid CORI/Re-Entry Attorney holds weekly office hours at 2nd Street (264 Second Street\nPittsfield\, MA 01201) in Pittsfield\, MA. \n 
URL:https://communitylegal.org/event/2nd-street-sealing/2026-06-11/
LOCATION:2nd Street\, 264 Second Street\, Pittsfield\, 01201
CATEGORIES:General Events,General Event
ATTACH;FMTTYPE=image/png:https://communitylegal.org/wp-content/uploads/2026/02/Record-Sealing-Facebook-Preview.png
GEO:42.4561568;-73.2451594
X-APPLE-STRUCTURED-LOCATION;VALUE=URI;X-ADDRESS=2nd Street 264 Second Street Pittsfield 01201;X-APPLE-RADIUS=500;X-TITLE=264 Second Street:geo:-73.2451594,42.4561568
END:VEVENT
BEGIN:VEVENT
DTSTART;TZID=America/New_York:20260618T130000
DTEND;TZID=America/New_York:20260618T150000
DTSTAMP:20260423T170941
CREATED:20260414T143107Z
LAST-MODIFIED:20260414T150229Z
UID:15804-1781787600-1781794800@communitylegal.org
SUMMARY:CORI Sealing & Expungement Drop-In Hours (Pittsfield)
DESCRIPTION:A Community Legal Aid CORI/Re-Entry Attorney holds weekly office hours at 2nd Street (264 Second Street\nPittsfield\, MA 01201) in Pittsfield\, MA. \n 
URL:https://communitylegal.org/event/2nd-street-sealing/2026-06-18/
LOCATION:2nd Street\, 264 Second Street\, Pittsfield\, 01201
CATEGORIES:General Events,General Event
ATTACH;FMTTYPE=image/png:https://communitylegal.org/wp-content/uploads/2026/02/Record-Sealing-Facebook-Preview.png
GEO:42.4561568;-73.2451594
X-APPLE-STRUCTURED-LOCATION;VALUE=URI;X-ADDRESS=2nd Street 264 Second Street Pittsfield 01201;X-APPLE-RADIUS=500;X-TITLE=264 Second Street:geo:-73.2451594,42.4561568
END:VEVENT
BEGIN:VEVENT
DTSTART;TZID=America/New_York:20260625T130000
DTEND;TZID=America/New_York:20260625T150000
DTSTAMP:20260423T170941
CREATED:20260414T143107Z
LAST-MODIFIED:20260414T150231Z
UID:15805-1782392400-1782399600@communitylegal.org
SUMMARY:CORI Sealing & Expungement Drop-In Hours (Pittsfield)
DESCRIPTION:A Community Legal Aid CORI/Re-Entry Attorney holds weekly office hours at 2nd Street (264 Second Street\nPittsfield\, MA 01201) in Pittsfield\, MA. \n 
URL:https://communitylegal.org/event/2nd-street-sealing/2026-06-25/
LOCATION:2nd Street\, 264 Second Street\, Pittsfield\, 01201
CATEGORIES:General Events,General Event
ATTACH;FMTTYPE=image/png:https://communitylegal.org/wp-content/uploads/2026/02/Record-Sealing-Facebook-Preview.png
GEO:42.4561568;-73.2451594
X-APPLE-STRUCTURED-LOCATION;VALUE=URI;X-ADDRESS=2nd Street 264 Second Street Pittsfield 01201;X-APPLE-RADIUS=500;X-TITLE=264 Second Street:geo:-73.2451594,42.4561568
END:VEVENT
BEGIN:VEVENT
DTSTART;TZID=America/New_York:20260702T130000
DTEND;TZID=America/New_York:20260702T150000
DTSTAMP:20260423T170941
CREATED:20260414T143107Z
LAST-MODIFIED:20260414T150238Z
UID:15806-1782997200-1783004400@communitylegal.org
SUMMARY:CORI Sealing & Expungement Drop-In Hours (Pittsfield)
DESCRIPTION:A Community Legal Aid CORI/Re-Entry Attorney holds weekly office hours at 2nd Street (264 Second Street\nPittsfield\, MA 01201) in Pittsfield\, MA. \n 
URL:https://communitylegal.org/event/2nd-street-sealing/2026-07-02/
LOCATION:2nd Street\, 264 Second Street\, Pittsfield\, 01201
CATEGORIES:General Events,General Event
ATTACH;FMTTYPE=image/png:https://communitylegal.org/wp-content/uploads/2026/02/Record-Sealing-Facebook-Preview.png
GEO:42.4561568;-73.2451594
X-APPLE-STRUCTURED-LOCATION;VALUE=URI;X-ADDRESS=2nd Street 264 Second Street Pittsfield 01201;X-APPLE-RADIUS=500;X-TITLE=264 Second Street:geo:-73.2451594,42.4561568
END:VEVENT
BEGIN:VEVENT
DTSTART;TZID=America/New_York:20260709T130000
DTEND;TZID=America/New_York:20260709T150000
DTSTAMP:20260423T170941
CREATED:20260414T143107Z
LAST-MODIFIED:20260414T150240Z
UID:15807-1783602000-1783609200@communitylegal.org
SUMMARY:CORI Sealing & Expungement Drop-In Hours (Pittsfield)
DESCRIPTION:A Community Legal Aid CORI/Re-Entry Attorney holds weekly office hours at 2nd Street (264 Second Street\nPittsfield\, MA 01201) in Pittsfield\, MA. \n 
URL:https://communitylegal.org/event/2nd-street-sealing/2026-07-09/
LOCATION:2nd Street\, 264 Second Street\, Pittsfield\, 01201
CATEGORIES:General Events,General Event
ATTACH;FMTTYPE=image/png:https://communitylegal.org/wp-content/uploads/2026/02/Record-Sealing-Facebook-Preview.png
GEO:42.4561568;-73.2451594
X-APPLE-STRUCTURED-LOCATION;VALUE=URI;X-ADDRESS=2nd Street 264 Second Street Pittsfield 01201;X-APPLE-RADIUS=500;X-TITLE=264 Second Street:geo:-73.2451594,42.4561568
END:VEVENT
BEGIN:VEVENT
DTSTART;TZID=America/New_York:20260716T130000
DTEND;TZID=America/New_York:20260716T150000
DTSTAMP:20260423T170941
CREATED:20260414T143107Z
LAST-MODIFIED:20260414T150242Z
UID:15808-1784206800-1784214000@communitylegal.org
SUMMARY:CORI Sealing & Expungement Drop-In Hours (Pittsfield)
DESCRIPTION:A Community Legal Aid CORI/Re-Entry Attorney holds weekly office hours at 2nd Street (264 Second Street\nPittsfield\, MA 01201) in Pittsfield\, MA. \n 
URL:https://communitylegal.org/event/2nd-street-sealing/2026-07-16/
LOCATION:2nd Street\, 264 Second Street\, Pittsfield\, 01201
CATEGORIES:General Events,General Event
ATTACH;FMTTYPE=image/png:https://communitylegal.org/wp-content/uploads/2026/02/Record-Sealing-Facebook-Preview.png
GEO:42.4561568;-73.2451594
X-APPLE-STRUCTURED-LOCATION;VALUE=URI;X-ADDRESS=2nd Street 264 Second Street Pittsfield 01201;X-APPLE-RADIUS=500;X-TITLE=264 Second Street:geo:-73.2451594,42.4561568
END:VEVENT
BEGIN:VEVENT
DTSTART;TZID=America/New_York:20260723T130000
DTEND;TZID=America/New_York:20260723T150000
DTSTAMP:20260423T170941
CREATED:20260414T143107Z
LAST-MODIFIED:20260414T150244Z
UID:15809-1784811600-1784818800@communitylegal.org
SUMMARY:CORI Sealing & Expungement Drop-In Hours (Pittsfield)
DESCRIPTION:A Community Legal Aid CORI/Re-Entry Attorney holds weekly office hours at 2nd Street (264 Second Street\nPittsfield\, MA 01201) in Pittsfield\, MA. \n 
URL:https://communitylegal.org/event/2nd-street-sealing/2026-07-23/
LOCATION:2nd Street\, 264 Second Street\, Pittsfield\, 01201
CATEGORIES:General Events,General Event
ATTACH;FMTTYPE=image/png:https://communitylegal.org/wp-content/uploads/2026/02/Record-Sealing-Facebook-Preview.png
GEO:42.4561568;-73.2451594
X-APPLE-STRUCTURED-LOCATION;VALUE=URI;X-ADDRESS=2nd Street 264 Second Street Pittsfield 01201;X-APPLE-RADIUS=500;X-TITLE=264 Second Street:geo:-73.2451594,42.4561568
END:VEVENT
BEGIN:VEVENT
DTSTART;TZID=America/New_York:20260730T130000
DTEND;TZID=America/New_York:20260730T150000
DTSTAMP:20260423T170941
CREATED:20260414T143107Z
LAST-MODIFIED:20260414T150246Z
UID:15810-1785416400-1785423600@communitylegal.org
SUMMARY:CORI Sealing & Expungement Drop-In Hours (Pittsfield)
DESCRIPTION:A Community Legal Aid CORI/Re-Entry Attorney holds weekly office hours at 2nd Street (264 Second Street\nPittsfield\, MA 01201) in Pittsfield\, MA. \n 
URL:https://communitylegal.org/event/2nd-street-sealing/2026-07-30/
LOCATION:2nd Street\, 264 Second Street\, Pittsfield\, 01201
CATEGORIES:General Events,General Event
ATTACH;FMTTYPE=image/png:https://communitylegal.org/wp-content/uploads/2026/02/Record-Sealing-Facebook-Preview.png
GEO:42.4561568;-73.2451594
X-APPLE-STRUCTURED-LOCATION;VALUE=URI;X-ADDRESS=2nd Street 264 Second Street Pittsfield 01201;X-APPLE-RADIUS=500;X-TITLE=264 Second Street:geo:-73.2451594,42.4561568
END:VEVENT
BEGIN:VEVENT
DTSTART;TZID=America/New_York:20260806T130000
DTEND;TZID=America/New_York:20260806T150000
DTSTAMP:20260423T170941
CREATED:20260414T143107Z
LAST-MODIFIED:20260414T150248Z
UID:15811-1786021200-1786028400@communitylegal.org
SUMMARY:CORI Sealing & Expungement Drop-In Hours (Pittsfield)
DESCRIPTION:A Community Legal Aid CORI/Re-Entry Attorney holds weekly office hours at 2nd Street (264 Second Street\nPittsfield\, MA 01201) in Pittsfield\, MA. \n 
URL:https://communitylegal.org/event/2nd-street-sealing/2026-08-06/
LOCATION:2nd Street\, 264 Second Street\, Pittsfield\, 01201
CATEGORIES:General Events,General Event
ATTACH;FMTTYPE=image/png:https://communitylegal.org/wp-content/uploads/2026/02/Record-Sealing-Facebook-Preview.png
GEO:42.4561568;-73.2451594
X-APPLE-STRUCTURED-LOCATION;VALUE=URI;X-ADDRESS=2nd Street 264 Second Street Pittsfield 01201;X-APPLE-RADIUS=500;X-TITLE=264 Second Street:geo:-73.2451594,42.4561568
END:VEVENT
BEGIN:VEVENT
DTSTART;TZID=America/New_York:20260813T130000
DTEND;TZID=America/New_York:20260813T150000
DTSTAMP:20260423T170941
CREATED:20260414T143107Z
LAST-MODIFIED:20260414T150250Z
UID:15812-1786626000-1786633200@communitylegal.org
SUMMARY:CORI Sealing & Expungement Drop-In Hours (Pittsfield)
DESCRIPTION:A Community Legal Aid CORI/Re-Entry Attorney holds weekly office hours at 2nd Street (264 Second Street\nPittsfield\, MA 01201) in Pittsfield\, MA. \n 
URL:https://communitylegal.org/event/2nd-street-sealing/2026-08-13/
LOCATION:2nd Street\, 264 Second Street\, Pittsfield\, 01201
CATEGORIES:General Events,General Event
ATTACH;FMTTYPE=image/png:https://communitylegal.org/wp-content/uploads/2026/02/Record-Sealing-Facebook-Preview.png
GEO:42.4561568;-73.2451594
X-APPLE-STRUCTURED-LOCATION;VALUE=URI;X-ADDRESS=2nd Street 264 Second Street Pittsfield 01201;X-APPLE-RADIUS=500;X-TITLE=264 Second Street:geo:-73.2451594,42.4561568
END:VEVENT
BEGIN:VEVENT
DTSTART;TZID=America/New_York:20260820T130000
DTEND;TZID=America/New_York:20260820T150000
DTSTAMP:20260423T170941
CREATED:20260414T143107Z
LAST-MODIFIED:20260414T150252Z
UID:15813-1787230800-1787238000@communitylegal.org
SUMMARY:CORI Sealing & Expungement Drop-In Hours (Pittsfield)
DESCRIPTION:A Community Legal Aid CORI/Re-Entry Attorney holds weekly office hours at 2nd Street (264 Second Street\nPittsfield\, MA 01201) in Pittsfield\, MA. \n 
URL:https://communitylegal.org/event/2nd-street-sealing/2026-08-20/
LOCATION:2nd Street\, 264 Second Street\, Pittsfield\, 01201
CATEGORIES:General Events,General Event
ATTACH;FMTTYPE=image/png:https://communitylegal.org/wp-content/uploads/2026/02/Record-Sealing-Facebook-Preview.png
GEO:42.4561568;-73.2451594
X-APPLE-STRUCTURED-LOCATION;VALUE=URI;X-ADDRESS=2nd Street 264 Second Street Pittsfield 01201;X-APPLE-RADIUS=500;X-TITLE=264 Second Street:geo:-73.2451594,42.4561568
END:VEVENT
BEGIN:VEVENT
DTSTART;TZID=America/New_York:20260827T130000
DTEND;TZID=America/New_York:20260827T150000
DTSTAMP:20260423T170941
CREATED:20260414T143107Z
LAST-MODIFIED:20260414T150254Z
UID:15814-1787835600-1787842800@communitylegal.org
SUMMARY:CORI Sealing & Expungement Drop-In Hours (Pittsfield)
DESCRIPTION:A Community Legal Aid CORI/Re-Entry Attorney holds weekly office hours at 2nd Street (264 Second Street\nPittsfield\, MA 01201) in Pittsfield\, MA. \n 
URL:https://communitylegal.org/event/2nd-street-sealing/2026-08-27/
LOCATION:2nd Street\, 264 Second Street\, Pittsfield\, 01201
CATEGORIES:General Events,General Event
ATTACH;FMTTYPE=image/png:https://communitylegal.org/wp-content/uploads/2026/02/Record-Sealing-Facebook-Preview.png
GEO:42.4561568;-73.2451594
X-APPLE-STRUCTURED-LOCATION;VALUE=URI;X-ADDRESS=2nd Street 264 Second Street Pittsfield 01201;X-APPLE-RADIUS=500;X-TITLE=264 Second Street:geo:-73.2451594,42.4561568
END:VEVENT
BEGIN:VEVENT
DTSTART;TZID=America/New_York:20260903T130000
DTEND;TZID=America/New_York:20260903T150000
DTSTAMP:20260423T170941
CREATED:20260414T143107Z
LAST-MODIFIED:20260414T150257Z
UID:15815-1788440400-1788447600@communitylegal.org
SUMMARY:CORI Sealing & Expungement Drop-In Hours (Pittsfield)
DESCRIPTION:A Community Legal Aid CORI/Re-Entry Attorney holds weekly office hours at 2nd Street (264 Second Street\nPittsfield\, MA 01201) in Pittsfield\, MA. \n 
URL:https://communitylegal.org/event/2nd-street-sealing/2026-09-03/
LOCATION:2nd Street\, 264 Second Street\, Pittsfield\, 01201
CATEGORIES:General Events,General Event
ATTACH;FMTTYPE=image/png:https://communitylegal.org/wp-content/uploads/2026/02/Record-Sealing-Facebook-Preview.png
GEO:42.4561568;-73.2451594
X-APPLE-STRUCTURED-LOCATION;VALUE=URI;X-ADDRESS=2nd Street 264 Second Street Pittsfield 01201;X-APPLE-RADIUS=500;X-TITLE=264 Second Street:geo:-73.2451594,42.4561568
END:VEVENT
BEGIN:VEVENT
DTSTART;TZID=America/New_York:20260910T130000
DTEND;TZID=America/New_York:20260910T150000
DTSTAMP:20260423T170941
CREATED:20260414T143107Z
LAST-MODIFIED:20260414T143107Z
UID:15816-1789045200-1789052400@communitylegal.org
SUMMARY:CORI Sealing & Expungement Drop-In Hours (Pittsfield)
DESCRIPTION:A Community Legal Aid CORI/Re-Entry Attorney holds weekly office hours at 2nd Street (264 Second Street\nPittsfield\, MA 01201) in Pittsfield\, MA. \n 
URL:https://communitylegal.org/event/2nd-street-sealing/2026-09-10/
LOCATION:2nd Street\, 264 Second Street\, Pittsfield\, 01201
CATEGORIES:General Events,General Event
ATTACH;FMTTYPE=image/png:https://communitylegal.org/wp-content/uploads/2026/02/Record-Sealing-Facebook-Preview.png
GEO:42.4561568;-73.2451594
X-APPLE-STRUCTURED-LOCATION;VALUE=URI;X-ADDRESS=2nd Street 264 Second Street Pittsfield 01201;X-APPLE-RADIUS=500;X-TITLE=264 Second Street:geo:-73.2451594,42.4561568
END:VEVENT
BEGIN:VEVENT
DTSTART;TZID=America/New_York:20260917T130000
DTEND;TZID=America/New_York:20260917T150000
DTSTAMP:20260423T170941
CREATED:20260414T143107Z
LAST-MODIFIED:20260414T143107Z
UID:15817-1789650000-1789657200@communitylegal.org
SUMMARY:CORI Sealing & Expungement Drop-In Hours (Pittsfield)
DESCRIPTION:A Community Legal Aid CORI/Re-Entry Attorney holds weekly office hours at 2nd Street (264 Second Street\nPittsfield\, MA 01201) in Pittsfield\, MA. \n 
URL:https://communitylegal.org/event/2nd-street-sealing/2026-09-17/
LOCATION:2nd Street\, 264 Second Street\, Pittsfield\, 01201
CATEGORIES:General Events,General Event
ATTACH;FMTTYPE=image/png:https://communitylegal.org/wp-content/uploads/2026/02/Record-Sealing-Facebook-Preview.png
GEO:42.4561568;-73.2451594
X-APPLE-STRUCTURED-LOCATION;VALUE=URI;X-ADDRESS=2nd Street 264 Second Street Pittsfield 01201;X-APPLE-RADIUS=500;X-TITLE=264 Second Street:geo:-73.2451594,42.4561568
END:VEVENT
BEGIN:VEVENT
DTSTART;TZID=America/New_York:20260924T130000
DTEND;TZID=America/New_York:20260924T150000
DTSTAMP:20260423T170941
CREATED:20260414T143107Z
LAST-MODIFIED:20260414T143107Z
UID:15818-1790254800-1790262000@communitylegal.org
SUMMARY:CORI Sealing & Expungement Drop-In Hours (Pittsfield)
DESCRIPTION:A Community Legal Aid CORI/Re-Entry Attorney holds weekly office hours at 2nd Street (264 Second Street\nPittsfield\, MA 01201) in Pittsfield\, MA. \n 
URL:https://communitylegal.org/event/2nd-street-sealing/2026-09-24/
LOCATION:2nd Street\, 264 Second Street\, Pittsfield\, 01201
CATEGORIES:General Events,General Event
ATTACH;FMTTYPE=image/png:https://communitylegal.org/wp-content/uploads/2026/02/Record-Sealing-Facebook-Preview.png
GEO:42.4561568;-73.2451594
X-APPLE-STRUCTURED-LOCATION;VALUE=URI;X-ADDRESS=2nd Street 264 Second Street Pittsfield 01201;X-APPLE-RADIUS=500;X-TITLE=264 Second Street:geo:-73.2451594,42.4561568
END:VEVENT
END:VCALENDAR