BEGIN:VCALENDAR
VERSION:2.0
PRODID:-//Community Legal Aid - ECPv6.15.20//NONSGML v1.0//EN
CALSCALE:GREGORIAN
METHOD:PUBLISH
X-WR-CALNAME:Community Legal Aid
X-ORIGINAL-URL:https://communitylegal.org
X-WR-CALDESC:Events for Community Legal Aid
REFRESH-INTERVAL;VALUE=DURATION:PT1H
X-Robots-Tag:noindex
X-PUBLISHED-TTL:PT1H
BEGIN:VTIMEZONE
TZID:America/New_York
BEGIN:DAYLIGHT
TZOFFSETFROM:-0500
TZOFFSETTO:-0400
TZNAME:EDT
DTSTART:20200308T070000
END:DAYLIGHT
BEGIN:STANDARD
TZOFFSETFROM:-0400
TZOFFSETTO:-0500
TZNAME:EST
DTSTART:20201101T060000
END:STANDARD
BEGIN:DAYLIGHT
TZOFFSETFROM:-0500
TZOFFSETTO:-0400
TZNAME:EDT
DTSTART:20210314T070000
END:DAYLIGHT
BEGIN:STANDARD
TZOFFSETFROM:-0400
TZOFFSETTO:-0500
TZNAME:EST
DTSTART:20211107T060000
END:STANDARD
BEGIN:DAYLIGHT
TZOFFSETFROM:-0500
TZOFFSETTO:-0400
TZNAME:EDT
DTSTART:20220313T070000
END:DAYLIGHT
BEGIN:STANDARD
TZOFFSETFROM:-0400
TZOFFSETTO:-0500
TZNAME:EST
DTSTART:20221106T060000
END:STANDARD
END:VTIMEZONE
BEGIN:VEVENT
DTSTART;TZID=America/New_York:20210913T171500
DTEND;TZID=America/New_York:20210913T183000
DTSTAMP:20260423T221857
CREATED:20210120T222720Z
LAST-MODIFIED:20210120T222720Z
UID:4778-1631553300-1631557800@communitylegal.org
SUMMARY:Community Legal Aid Board Meeting
DESCRIPTION:If interested in attending\, please contact: klee@cla-ma.org or 508-425-2809
URL:https://communitylegal.org/event/community-legal-aid-board-meeting-7/
LOCATION:MA\, United States
GEO:42.4072107;-71.3824374
END:VEVENT
BEGIN:VEVENT
DTSTART;TZID=America/New_York:20210726T171500
DTEND;TZID=America/New_York:20210726T183000
DTSTAMP:20260423T221857
CREATED:20210120T222224Z
LAST-MODIFIED:20210120T222224Z
UID:4775-1627319700-1627324200@communitylegal.org
SUMMARY:Community Legal Aid Board Meeting
DESCRIPTION:If interested in attending\, please contact: klee@cla-ma.org or 508-425-2809
URL:https://communitylegal.org/event/community-legal-aid-board-meeting-6/
LOCATION:MA\, United States
GEO:42.4072107;-71.3824374
END:VEVENT
BEGIN:VEVENT
DTSTART;TZID=America/New_York:20210524T171500
DTEND;TZID=America/New_York:20210524T183000
DTSTAMP:20260423T221857
CREATED:20210120T221944Z
LAST-MODIFIED:20210120T221944Z
UID:4765-1621876500-1621881000@communitylegal.org
SUMMARY:Community Legal Aid Board Meeting
DESCRIPTION:If interested in attending\, please contact: klee@cla-ma.org or 508-425-2809
URL:https://communitylegal.org/event/community-legal-aid-board-meeting-5/
LOCATION:MA\, United States
GEO:42.4072107;-71.3824374
END:VEVENT
BEGIN:VEVENT
DTSTART;TZID=America/New_York:20210426T080000
DTEND;TZID=America/New_York:20210426T170000
DTSTAMP:20260423T221857
CREATED:20210426T153449Z
LAST-MODIFIED:20211203T171225Z
UID:6482-1619424000-1619456400@communitylegal.org
SUMMARY:Worcester Probate and Family Court Remote Lawyer for the Week Project
DESCRIPTION:The Worcester Probate and Family Court Remote Lawyer for the Week Project Needs Volunteers! \nhttps://www.signupgenius.com/go/10C0444ACAB2CA0F58-worcester45 \nCommunity Legal Aid and the Worcester County Bar Association (WCBA) have launched a Probate and Family Court Remote Lawyer for the Week Project in partnership with the Worcester Court Services Center. The project will connect eligible litigants remotely with volunteer attorneys to provide limited assistance in the form of counsel and advice and/or drafting assistance in family law matters. \nDesigned with convenience in mind\, volunteers will sign up on a weekly basis to accept referrals for a one-time counsel and advice session for pro se litigants navigating the divorce process. Volunteers can schedule a time to meet with the litigants remotely (via phone or Zoom) at a mutually agreed upon time. The program will provide increased access to legal services for low income litigants in a remote environment. \nQuestions and additional information should be sent to Pro Bono Coordinator Brittany Raposa at braposa@cla-ma.org \n 
URL:https://communitylegal.org/event/worcester-probate-and-family-court-lawyer-for-the-week-project/2021-04-26/
LOCATION:MA\, United States
CATEGORIES:Pro Bono
GEO:42.4072107;-71.3824374
END:VEVENT
BEGIN:VEVENT
DTSTART;TZID=America/New_York:20210315T171500
DTEND;TZID=America/New_York:20210315T183000
DTSTAMP:20260423T221857
CREATED:20210120T221651Z
LAST-MODIFIED:20210120T221651Z
UID:4762-1615828500-1615833000@communitylegal.org
SUMMARY:Community Legal Aid Board Meeting
DESCRIPTION:If interested in attending\, please contact: klee@cla-ma.org or 508-425-2809
URL:https://communitylegal.org/event/community-legal-aid-board-meeting-4/
LOCATION:MA\, United States
GEO:42.4072107;-71.3824374
END:VEVENT
BEGIN:VEVENT
DTSTART;TZID=America/New_York:20210125T171500
DTEND;TZID=America/New_York:20210125T183000
DTSTAMP:20260423T221857
CREATED:20210120T221342Z
LAST-MODIFIED:20210120T221342Z
UID:4758-1611594900-1611599400@communitylegal.org
SUMMARY:Community Legal Aid Board Meeting--Annual Meeting
DESCRIPTION:If interested in attending\, please contact: klee@cla-ma.org or 508-425-2809
URL:https://communitylegal.org/event/community-legal-aid-board-meeting-annual-meeting-2/
LOCATION:MA\, United States
GEO:42.4072107;-71.3824374
END:VEVENT
END:VCALENDAR