BEGIN:VCALENDAR
VERSION:2.0
PRODID:-//Community Legal Aid - ECPv6.15.20//NONSGML v1.0//EN
CALSCALE:GREGORIAN
METHOD:PUBLISH
X-WR-CALNAME:Community Legal Aid
X-ORIGINAL-URL:https://communitylegal.org
X-WR-CALDESC:Events for Community Legal Aid
REFRESH-INTERVAL;VALUE=DURATION:PT1H
X-Robots-Tag:noindex
X-PUBLISHED-TTL:PT1H
BEGIN:VTIMEZONE
TZID:America/New_York
BEGIN:DAYLIGHT
TZOFFSETFROM:-0500
TZOFFSETTO:-0400
TZNAME:EDT
DTSTART:20220313T070000
END:DAYLIGHT
BEGIN:STANDARD
TZOFFSETFROM:-0400
TZOFFSETTO:-0500
TZNAME:EST
DTSTART:20221106T060000
END:STANDARD
BEGIN:DAYLIGHT
TZOFFSETFROM:-0500
TZOFFSETTO:-0400
TZNAME:EDT
DTSTART:20230312T070000
END:DAYLIGHT
BEGIN:STANDARD
TZOFFSETFROM:-0400
TZOFFSETTO:-0500
TZNAME:EST
DTSTART:20231105T060000
END:STANDARD
BEGIN:DAYLIGHT
TZOFFSETFROM:-0500
TZOFFSETTO:-0400
TZNAME:EDT
DTSTART:20240310T070000
END:DAYLIGHT
BEGIN:STANDARD
TZOFFSETFROM:-0400
TZOFFSETTO:-0500
TZNAME:EST
DTSTART:20241103T060000
END:STANDARD
END:VTIMEZONE
BEGIN:VEVENT
DTSTART;TZID=America/New_York:20230807T143000
DTEND;TZID=America/New_York:20230807T163000
DTSTAMP:20260423T191323
CREATED:20230725T161149Z
LAST-MODIFIED:20230725T161149Z
UID:10614-1691418600-1691425800@communitylegal.org
SUMMARY:CORI Sealing Clinic (Great Barrington)
DESCRIPTION:Despite the fact that you may never have been found guilty of a charge\, or that you fulfilled any requirements of a guilty plea or verdict\, you might be having trouble finding or keeping housing or employment because of your Criminal Offender Record Information (CORI). \nIf you want help understanding what is on your CORI and attempting to seal eligible charges\, we are here to help. \n\n\nWHAT: Expungement and Sealing Clinic Learn how to seal your criminal record. Private consultations available. \nWHERE: Berkshire South Regional Community Center\, 15 Crissey Road\, Great Barrington\, MA 01230 \nWHEN: Monday\, August\, 7\, 2023: 2:30-4:30
URL:https://communitylegal.org/event/cori-sealing-clinic-great-barrington-2/
LOCATION:Berkshire South Regional Community Center\, 15 Crissey Rd\, Great Barrington\, MA\, 01230\, United States
CATEGORIES:General Events
ATTACH;FMTTYPE=image/jpeg:https://communitylegal.org/wp-content/uploads/2023/07/CORI-clinic-8.7.231024_1.jpg
GEO:42.2130088;-73.3409342
X-APPLE-STRUCTURED-LOCATION;VALUE=URI;X-ADDRESS=Berkshire South Regional Community Center 15 Crissey Rd Great Barrington MA 01230 United States;X-APPLE-RADIUS=500;X-TITLE=15 Crissey Rd:geo:-73.3409342,42.2130088
END:VEVENT
END:VCALENDAR