BEGIN:VCALENDAR
VERSION:2.0
PRODID:-//Community Legal Aid - ECPv6.15.20//NONSGML v1.0//EN
CALSCALE:GREGORIAN
METHOD:PUBLISH
X-WR-CALNAME:Community Legal Aid
X-ORIGINAL-URL:https://communitylegal.org
X-WR-CALDESC:Events for Community Legal Aid
REFRESH-INTERVAL;VALUE=DURATION:PT1H
X-Robots-Tag:noindex
X-PUBLISHED-TTL:PT1H
BEGIN:VTIMEZONE
TZID:America/New_York
BEGIN:DAYLIGHT
TZOFFSETFROM:-0500
TZOFFSETTO:-0400
TZNAME:EDT
DTSTART:20210314T070000
END:DAYLIGHT
BEGIN:STANDARD
TZOFFSETFROM:-0400
TZOFFSETTO:-0500
TZNAME:EST
DTSTART:20211107T060000
END:STANDARD
BEGIN:DAYLIGHT
TZOFFSETFROM:-0500
TZOFFSETTO:-0400
TZNAME:EDT
DTSTART:20220313T070000
END:DAYLIGHT
BEGIN:STANDARD
TZOFFSETFROM:-0400
TZOFFSETTO:-0500
TZNAME:EST
DTSTART:20221106T060000
END:STANDARD
BEGIN:DAYLIGHT
TZOFFSETFROM:-0500
TZOFFSETTO:-0400
TZNAME:EDT
DTSTART:20230312T070000
END:DAYLIGHT
BEGIN:STANDARD
TZOFFSETFROM:-0400
TZOFFSETTO:-0500
TZNAME:EST
DTSTART:20231105T060000
END:STANDARD
BEGIN:DAYLIGHT
TZOFFSETFROM:-0500
TZOFFSETTO:-0400
TZNAME:EDT
DTSTART:20240310T070000
END:DAYLIGHT
BEGIN:STANDARD
TZOFFSETFROM:-0400
TZOFFSETTO:-0500
TZNAME:EST
DTSTART:20241103T060000
END:STANDARD
BEGIN:DAYLIGHT
TZOFFSETFROM:-0500
TZOFFSETTO:-0400
TZNAME:EDT
DTSTART:20250309T070000
END:DAYLIGHT
BEGIN:STANDARD
TZOFFSETFROM:-0400
TZOFFSETTO:-0500
TZNAME:EST
DTSTART:20251102T060000
END:STANDARD
BEGIN:DAYLIGHT
TZOFFSETFROM:-0500
TZOFFSETTO:-0400
TZNAME:EDT
DTSTART:20260308T070000
END:DAYLIGHT
BEGIN:STANDARD
TZOFFSETFROM:-0400
TZOFFSETTO:-0500
TZNAME:EST
DTSTART:20261101T060000
END:STANDARD
END:VTIMEZONE
BEGIN:VEVENT
DTSTART;TZID=America/New_York:20250606T120000
DTEND;TZID=America/New_York:20250606T160000
DTSTAMP:20260423T233011
CREATED:20250306T191308Z
LAST-MODIFIED:20250306T191746Z
UID:13641-1749211200-1749225600@communitylegal.org
SUMMARY:Estate Planning Clinic
DESCRIPTION:Free estate planning clinic hosted by Community Legal Aid. Get help from volunteer attorneys with preparing wills\, powers of attorney\, and health care proxies. Free for veterans\, seniors\, and others who are financially eligible. \nSpace is Limited | Pre-Registration Required | To Register Contact Marina Abraham\n508-425-2813 | mabraham@cla-ma.org
URL:https://communitylegal.org/event/estate-planning/
LOCATION:Community Legal Aid: Worcester\, 370 Main Street\, Worcester\, 01608
CATEGORIES:Pro Bono,General Events
GEO:42.2647313;-71.8020032
X-APPLE-STRUCTURED-LOCATION;VALUE=URI;X-ADDRESS=Community Legal Aid: Worcester 370 Main Street Worcester 01608;X-APPLE-RADIUS=500;X-TITLE=370 Main Street:geo:-71.8020032,42.2647313
END:VEVENT
BEGIN:VEVENT
DTSTART;TZID=America/New_York:20221118T130000
DTEND;TZID=America/New_York:20221118T160000
DTSTAMP:20260423T233011
CREATED:20221025T162703Z
LAST-MODIFIED:20221025T163532Z
UID:9136-1668776400-1668787200@communitylegal.org
SUMMARY:FREE Estate Planning Clinic
DESCRIPTION:Community Legal Aid\, in collaboration with Hanover Insurance Group and Saint-Gobain\, will host a one-day Estate Planning Clinic. Volunteer attorneys will prepare wills\, powers of attorney\, and health care proxies\, free for veterans\, seniors\, & others who financially qualify. Friday\, November 18\, 2022 1 p.m. to 4 p.m. \n370 Main St\, 1st Fl Conference Rm\, Worcester\, MA 01608 \nSpace is limited. Advanced registration is required. To register\, contact Colleen Brady at cbrady@cla-ma.org \nEstate Planning Clinic 2022 Flyer
URL:https://communitylegal.org/event/free-estate-planning-clinic/
LOCATION:Community Legal Aid: Worcester\, 370 Main Street\, Worcester\, 01608
CATEGORIES:Pro Bono,General Events
GEO:42.2647313;-71.8020032
X-APPLE-STRUCTURED-LOCATION;VALUE=URI;X-ADDRESS=Community Legal Aid: Worcester 370 Main Street Worcester 01608;X-APPLE-RADIUS=500;X-TITLE=370 Main Street:geo:-71.8020032,42.2647313
END:VEVENT
BEGIN:VEVENT
DTSTART;TZID=America/New_York:20220628T160000
DTEND;TZID=America/New_York:20220628T180000
DTSTAMP:20260423T233011
CREATED:20220608T163031Z
LAST-MODIFIED:20220608T163130Z
UID:8376-1656432000-1656439200@communitylegal.org
SUMMARY:Worcester Open House
DESCRIPTION:Please join us for an Open House at Community Legal Aid’s NEW Worcester Offices. \nCommunity Legal Aid has moved its Worcester operations to the downtown Guaranty Building. This new location is in close proximity to the Worcester District Courthouse and remains easily accessible by public transit\, but it will better accommodate our growing team. \nPlease join us for a celebration of this new chapter in our history! \nWhat: An Open House at Community Legal Aid’s new Worcester Offices \nWhere: Guaranty Building\, 370 Main Street\, 1st Floor Event Space\, Worcester\, MA 01608 \nWhen: June 28\, 2022 from 4:00 to 6:00 P.M. \nRegister: https://docs.google.com/forms/d/e/1FAIpQLSeMMzYX7qNaUXqGc4I7yODcR7hL8YQiO47WUIKMLJgv5LfTUg/viewform
URL:https://communitylegal.org/event/open-house/
LOCATION:Community Legal Aid: Worcester\, 370 Main Street\, Worcester\, 01608
GEO:42.2647313;-71.8020032
X-APPLE-STRUCTURED-LOCATION;VALUE=URI;X-ADDRESS=Community Legal Aid: Worcester 370 Main Street Worcester 01608;X-APPLE-RADIUS=500;X-TITLE=370 Main Street:geo:-71.8020032,42.2647313
END:VEVENT
END:VCALENDAR