BEGIN:VCALENDAR
VERSION:2.0
PRODID:-//Community Legal Aid - ECPv6.15.20//NONSGML v1.0//EN
CALSCALE:GREGORIAN
METHOD:PUBLISH
X-ORIGINAL-URL:https://communitylegal.org
X-WR-CALDESC:Events for Community Legal Aid
REFRESH-INTERVAL;VALUE=DURATION:PT1H
X-Robots-Tag:noindex
X-PUBLISHED-TTL:PT1H
BEGIN:VTIMEZONE
TZID:America/New_York
BEGIN:DAYLIGHT
TZOFFSETFROM:-0500
TZOFFSETTO:-0400
TZNAME:EDT
DTSTART:20230312T070000
END:DAYLIGHT
BEGIN:STANDARD
TZOFFSETFROM:-0400
TZOFFSETTO:-0500
TZNAME:EST
DTSTART:20231105T060000
END:STANDARD
BEGIN:DAYLIGHT
TZOFFSETFROM:-0500
TZOFFSETTO:-0400
TZNAME:EDT
DTSTART:20240310T070000
END:DAYLIGHT
BEGIN:STANDARD
TZOFFSETFROM:-0400
TZOFFSETTO:-0500
TZNAME:EST
DTSTART:20241103T060000
END:STANDARD
BEGIN:DAYLIGHT
TZOFFSETFROM:-0500
TZOFFSETTO:-0400
TZNAME:EDT
DTSTART:20250309T070000
END:DAYLIGHT
BEGIN:STANDARD
TZOFFSETFROM:-0400
TZOFFSETTO:-0500
TZNAME:EST
DTSTART:20251102T060000
END:STANDARD
END:VTIMEZONE
BEGIN:VEVENT
DTSTART;TZID=America/New_York:20241116T100000
DTEND;TZID=America/New_York:20241116T120000
DTSTAMP:20260424T015014
CREATED:20241016T134909Z
LAST-MODIFIED:20241016T211828Z
UID:13242-1731751200-1731758400@communitylegal.org
SUMMARY:Home for All! Painting the Path to the LGBTQIA+ Housing Justice
DESCRIPTION:What: Home for All! Painting the Path to the LGBTQIA+ Housing Justice \nCommunity Legal Aid invites participants to paint a mural that addresses LGBTQIA+ housing rights. \nJoin us for an event where everywhere can contribute their unique style to create a beautiful\, unified piece of art. \nThe finished mural will be hung in Community Legal Aid’s Northampton office. \nWhen: Saturday\, November 16\, 2024 from 10 AM to 12 PM \nWhere: Forbes Library Community Room\, 20 West Street\, Northampton\, MA 01060
URL:https://communitylegal.org/event/home-for-all-painting-the-path-to-the-lgbtqia-housing-justice/
LOCATION:Forbes Library\, West Street\, Northampton\, MA\, 01060\, United States
CATEGORIES:General Events
ATTACH;FMTTYPE=image/png:https://communitylegal.org/wp-content/uploads/2024/10/Home-for-All-e1729113404461.png
GEO:42.3166886;-72.6357468
X-APPLE-STRUCTURED-LOCATION;VALUE=URI;X-ADDRESS=Forbes Library West Street Northampton MA 01060 United States;X-APPLE-RADIUS=500;X-TITLE=West Street:geo:-72.6357468,42.3166886
END:VEVENT
END:VCALENDAR