BEGIN:VCALENDAR
VERSION:2.0
PRODID:-//Community Legal Aid - ECPv6.15.20//NONSGML v1.0//EN
CALSCALE:GREGORIAN
METHOD:PUBLISH
X-ORIGINAL-URL:https://communitylegal.org
X-WR-CALDESC:Events for Community Legal Aid
REFRESH-INTERVAL;VALUE=DURATION:PT1H
X-Robots-Tag:noindex
X-PUBLISHED-TTL:PT1H
BEGIN:VTIMEZONE
TZID:America/New_York
BEGIN:DAYLIGHT
TZOFFSETFROM:-0500
TZOFFSETTO:-0400
TZNAME:EDT
DTSTART:20220313T070000
END:DAYLIGHT
BEGIN:STANDARD
TZOFFSETFROM:-0400
TZOFFSETTO:-0500
TZNAME:EST
DTSTART:20221106T060000
END:STANDARD
BEGIN:DAYLIGHT
TZOFFSETFROM:-0500
TZOFFSETTO:-0400
TZNAME:EDT
DTSTART:20230312T070000
END:DAYLIGHT
BEGIN:STANDARD
TZOFFSETFROM:-0400
TZOFFSETTO:-0500
TZNAME:EST
DTSTART:20231105T060000
END:STANDARD
BEGIN:DAYLIGHT
TZOFFSETFROM:-0500
TZOFFSETTO:-0400
TZNAME:EDT
DTSTART:20240310T070000
END:DAYLIGHT
BEGIN:STANDARD
TZOFFSETFROM:-0400
TZOFFSETTO:-0500
TZNAME:EST
DTSTART:20241103T060000
END:STANDARD
END:VTIMEZONE
BEGIN:VEVENT
DTSTART;TZID=America/New_York:20231019T080000
DTEND;TZID=America/New_York:20231019T110000
DTSTAMP:20260423T222755
CREATED:20230914T182145Z
LAST-MODIFIED:20230914T185411Z
UID:10794-1697702400-1697713200@communitylegal.org
SUMMARY:Worcester Thanks a Latte @ Fuel America
DESCRIPTION:Dear Community Legal Aid Pro Bono Attorneys and Valued Partners\,\nOctober is National Celebrate Pro Bono Month! We are honored to celebrate you during Pro Bono Month 2023. \nPlease join us as we kick off Pro Bono Month with a Thanks A Latte Volunteer Appreciation Event at Fuel America in Worcester. Join us for coffee and breakfast as we thank all of our volunteers and community partners for your ongoing support. \nWhere: Fuel America – 6 Mercantile Street\, Worcester \nWhen: October 19\, 2023 from 8:00 A.M. to 11:00 A.M. \nHow: Please RSVP: https://docs.google.com/forms/d/e/1FAIpQLSd4t4YStsY9ULwrIZ_NcMcGavIVaHGwDyg0TZFpfRDjyYjQuQ/viewform
URL:https://communitylegal.org/event/worcester-thanks-a-latte-fuel-america/
LOCATION:Fuel America\, 6 Mercantile Street\, Worcester\, MA\, 01608\, United States
CATEGORIES:Pro Bono,General Events
ATTACH;FMTTYPE=image/jpeg:https://communitylegal.org/wp-content/uploads/2023/09/Quotes-1.jpg
GEO:42.2624266;-71.7989815
X-APPLE-STRUCTURED-LOCATION;VALUE=URI;X-ADDRESS=Fuel America 6 Mercantile Street Worcester MA 01608 United States;X-APPLE-RADIUS=500;X-TITLE=6 Mercantile Street:geo:-71.7989815,42.2624266
END:VEVENT
END:VCALENDAR