BEGIN:VCALENDAR
VERSION:2.0
PRODID:-//Community Legal Aid - ECPv6.15.20//NONSGML v1.0//EN
CALSCALE:GREGORIAN
METHOD:PUBLISH
X-ORIGINAL-URL:https://communitylegal.org
X-WR-CALDESC:Events for Community Legal Aid
REFRESH-INTERVAL;VALUE=DURATION:PT1H
X-Robots-Tag:noindex
X-PUBLISHED-TTL:PT1H
BEGIN:VTIMEZONE
TZID:America/New_York
BEGIN:DAYLIGHT
TZOFFSETFROM:-0500
TZOFFSETTO:-0400
TZNAME:EDT
DTSTART:20230312T070000
END:DAYLIGHT
BEGIN:STANDARD
TZOFFSETFROM:-0400
TZOFFSETTO:-0500
TZNAME:EST
DTSTART:20231105T060000
END:STANDARD
BEGIN:DAYLIGHT
TZOFFSETFROM:-0500
TZOFFSETTO:-0400
TZNAME:EDT
DTSTART:20240310T070000
END:DAYLIGHT
BEGIN:STANDARD
TZOFFSETFROM:-0400
TZOFFSETTO:-0500
TZNAME:EST
DTSTART:20241103T060000
END:STANDARD
BEGIN:DAYLIGHT
TZOFFSETFROM:-0500
TZOFFSETTO:-0400
TZNAME:EDT
DTSTART:20250309T070000
END:DAYLIGHT
BEGIN:STANDARD
TZOFFSETFROM:-0400
TZOFFSETTO:-0500
TZNAME:EST
DTSTART:20251102T060000
END:STANDARD
BEGIN:DAYLIGHT
TZOFFSETFROM:-0500
TZOFFSETTO:-0400
TZNAME:EDT
DTSTART:20260308T070000
END:DAYLIGHT
BEGIN:STANDARD
TZOFFSETFROM:-0400
TZOFFSETTO:-0500
TZNAME:EST
DTSTART:20261101T060000
END:STANDARD
BEGIN:DAYLIGHT
TZOFFSETFROM:-0500
TZOFFSETTO:-0400
TZNAME:EDT
DTSTART:20270314T070000
END:DAYLIGHT
BEGIN:STANDARD
TZOFFSETFROM:-0400
TZOFFSETTO:-0500
TZNAME:EST
DTSTART:20271107T060000
END:STANDARD
END:VTIMEZONE
BEGIN:VEVENT
DTSTART;TZID=America/New_York:20260330T090000
DTEND;TZID=America/New_York:20260330T130000
DTSTAMP:20260423T174120
CREATED:20260317T162001Z
LAST-MODIFIED:20260317T162001Z
UID:15619-1774861200-1774875600@communitylegal.org
SUMMARY:Hampden County Conciliation Project (In-Person)
DESCRIPTION:The Hampden County Conciliation Project\, a collaboration between Community Legal Aid (CLA) and the Hampden County Bar Association (HCBA)\, assists litigants who have made a court appearance and whose case the presiding Judge believes would be better resolved through the assistance of a trained neutral conciliator. \nCLA is seeking volunteers for this Project to help with in-court conciliation. This registration page is for in-person ATTORNEY signups only – NOT LITIGANTS.  \nVolunteers sign up for 4-hour shifts (9AM to 1PM). The Court will send the respective parties to conciliation at the time of their court appearance. CLA and HCBA staff assist with intake and case processing.
URL:https://communitylegal.org/event/hampden-county-conciliation-project-in-person/
LOCATION:Roderick L. Ireland Courthouse\, 50 State Street\, Springfield\, MA\, 01102\, United States
GEO:42.0997859;-72.5892436
X-APPLE-STRUCTURED-LOCATION;VALUE=URI;X-ADDRESS=Roderick L. Ireland Courthouse 50 State Street Springfield MA 01102 United States;X-APPLE-RADIUS=500;X-TITLE=50 State Street:geo:-72.5892436,42.0997859
END:VEVENT
BEGIN:VEVENT
DTSTART;TZID=America/New_York:20240327T130000
DTEND;TZID=America/New_York:20240327T163000
DTSTAMP:20260423T174120
CREATED:20240124T200321Z
LAST-MODIFIED:20240124T200321Z
UID:11743-1711544400-1711557000@communitylegal.org
SUMMARY:Housing Court Training for Attorneys - Hampden County
DESCRIPTION:The Hampden County Bar Association Legal Clinic\, in partnership with Community Legal Aid\, will be hosting a Housing Court Training to train attorneys in a new area of practice. \nThe Training will be held on Wednesday\, March 27\, 2024\, from 1:00 p.m. to 4:30 p.m. at the Roderick L. Ireland Courthouse in the Commissioners Room. The Training will prepare volunteers with a basic overview of Housing Court Law and tools to assist landlords and tenants in a “Lawyer for the Day” (LFD) capacity. The Training will cover an overview of Massachusetts residential tenancy laws\, a summary of process law and procedure\, and the purpose of LFD/Role of the Volunteer Lawyer. \nA certificate of attendance and Lunch will be provided! *Attendees must sign up for a LFD shift as the price of admission* \nPANEL\n• Honorable Jonathan J. Kane\, First Justice\, Western Division Housing Court\n• Clerk Magistrate Michael J. Doherty\, Western Housing Court\n• Chief Housing Specialist Jenni Pothier\, Western Division Housing Court\n• Gordon P. Shaw\, Esq.\, Community Legal Aid\n• Dennis P. Powers\, Esq.\, Powers Law Group LLP\n• Peter T. Lane\, Esq.\, Fierst Bloomberg Ohm LLP\n• Richard Herbert\, Esq.\, Rich Herbert Law\, P.C. \nREGISTER TODAY!\nFor questions please call 413-733-6500 or email Tamika Ortiz-Acosta\, Legal Clinic Manager\, at tamika@hcbar.org
URL:https://communitylegal.org/event/housing-court-training-for-attorneys-hampden-county/
LOCATION:Roderick L. Ireland Courthouse\, 50 State Street\, Springfield\, MA\, 01102\, United States
CATEGORIES:Pro Bono,General Events
ATTACH;FMTTYPE=image/png:https://communitylegal.org/wp-content/uploads/2024/01/Housing-Court-Training-4.png
GEO:42.0997859;-72.5892436
X-APPLE-STRUCTURED-LOCATION;VALUE=URI;X-ADDRESS=Roderick L. Ireland Courthouse 50 State Street Springfield MA 01102 United States;X-APPLE-RADIUS=500;X-TITLE=50 State Street:geo:-72.5892436,42.0997859
END:VEVENT
END:VCALENDAR