BEGIN:VCALENDAR
VERSION:2.0
PRODID:-//Community Legal Aid - ECPv6.15.20//NONSGML v1.0//EN
CALSCALE:GREGORIAN
METHOD:PUBLISH
X-ORIGINAL-URL:https://communitylegal.org
X-WR-CALDESC:Events for Community Legal Aid
REFRESH-INTERVAL;VALUE=DURATION:PT1H
X-Robots-Tag:noindex
X-PUBLISHED-TTL:PT1H
BEGIN:VTIMEZONE
TZID:America/New_York
BEGIN:DAYLIGHT
TZOFFSETFROM:-0500
TZOFFSETTO:-0400
TZNAME:EDT
DTSTART:20220313T070000
END:DAYLIGHT
BEGIN:STANDARD
TZOFFSETFROM:-0400
TZOFFSETTO:-0500
TZNAME:EST
DTSTART:20221106T060000
END:STANDARD
BEGIN:DAYLIGHT
TZOFFSETFROM:-0500
TZOFFSETTO:-0400
TZNAME:EDT
DTSTART:20230312T070000
END:DAYLIGHT
BEGIN:STANDARD
TZOFFSETFROM:-0400
TZOFFSETTO:-0500
TZNAME:EST
DTSTART:20231105T060000
END:STANDARD
BEGIN:DAYLIGHT
TZOFFSETFROM:-0500
TZOFFSETTO:-0400
TZNAME:EDT
DTSTART:20240310T070000
END:DAYLIGHT
BEGIN:STANDARD
TZOFFSETFROM:-0400
TZOFFSETTO:-0500
TZNAME:EST
DTSTART:20241103T060000
END:STANDARD
END:VTIMEZONE
BEGIN:VEVENT
DTSTART;TZID=America/New_York:20230607T180000
DTEND;TZID=America/New_York:20230607T180000
DTSTAMP:20260424T005015
CREATED:20230413T193328Z
LAST-MODIFIED:20230605T171632Z
UID:10242-1686160800-1686160800@communitylegal.org
SUMMARY:POSTPONED: CORI Sealing Clinic - Great Barrington
DESCRIPTION:ATTENTION: This event has been postponed. \n \nDespite the fact that you may never have been found guilty of a charge\, or that you fulfilled any requirements of a guilty plea or verdict\, you might be having trouble finding or keeping housing or employment because of your Criminal Offender Record Information (CORI). If you want help understanding what is on your CORI and attempting to seal eligible charges\, we are here to help. \nWhat: Expungement and Sealing Clinic Learn how to seal your criminal record. Private consultations available. \n\nWhere: South County Recovery Center\, 67 State Road\, Great Barrington\, MA 01230 \nWhen: Wednesday\, June 6\, 2023 at 2:30 P.M.
URL:https://communitylegal.org/event/cori-sealing-clinic-great-barrington/
LOCATION:South County Recovery Center\, 67 State Road\, Great Barrington\, MA\, 01230\, United States
CATEGORIES:General Events
ATTACH;FMTTYPE=application/pdf:https://communitylegal.org/wp-content/uploads/2023/04/CORI-Sealing-06-07-1.pdf
GEO:42.2024335;-73.3543366
X-APPLE-STRUCTURED-LOCATION;VALUE=URI;X-ADDRESS=South County Recovery Center 67 State Road Great Barrington MA 01230 United States;X-APPLE-RADIUS=500;X-TITLE=67 State Road:geo:-73.3543366,42.2024335
END:VEVENT
END:VCALENDAR