BEGIN:VCALENDAR
VERSION:2.0
PRODID:-//Community Legal Aid - ECPv6.15.20//NONSGML v1.0//EN
CALSCALE:GREGORIAN
METHOD:PUBLISH
X-WR-CALNAME:Community Legal Aid
X-ORIGINAL-URL:https://communitylegal.org
X-WR-CALDESC:Events for Community Legal Aid
REFRESH-INTERVAL;VALUE=DURATION:PT1H
X-Robots-Tag:noindex
X-PUBLISHED-TTL:PT1H
BEGIN:VTIMEZONE
TZID:America/New_York
BEGIN:DAYLIGHT
TZOFFSETFROM:-0500
TZOFFSETTO:-0400
TZNAME:EDT
DTSTART:20230312T070000
END:DAYLIGHT
BEGIN:STANDARD
TZOFFSETFROM:-0400
TZOFFSETTO:-0500
TZNAME:EST
DTSTART:20231105T060000
END:STANDARD
BEGIN:DAYLIGHT
TZOFFSETFROM:-0500
TZOFFSETTO:-0400
TZNAME:EDT
DTSTART:20240310T070000
END:DAYLIGHT
BEGIN:STANDARD
TZOFFSETFROM:-0400
TZOFFSETTO:-0500
TZNAME:EST
DTSTART:20241103T060000
END:STANDARD
BEGIN:DAYLIGHT
TZOFFSETFROM:-0500
TZOFFSETTO:-0400
TZNAME:EDT
DTSTART:20250309T070000
END:DAYLIGHT
BEGIN:STANDARD
TZOFFSETFROM:-0400
TZOFFSETTO:-0500
TZNAME:EST
DTSTART:20251102T060000
END:STANDARD
END:VTIMEZONE
BEGIN:VEVENT
DTSTART;TZID=America/New_York:20240623T150000
DTEND;TZID=America/New_York:20240623T170000
DTSTAMP:20260424T004824
CREATED:20240617T143418Z
LAST-MODIFIED:20240617T155000Z
UID:12653-1719154800-1719162000@communitylegal.org
SUMMARY:Office Hours With An Attorney (Springfield)
DESCRIPTION:Learn about the services offered by Community Legal Aid and the Western New England School of Law Center for Social Justice and consult with an attorney for FREE! \nCommunity Legal Aid\, a non-profit organization\, provides FREE civil legal services to low-income and elderly residents of Central and Western Masschusetts. Learn More: WWW.COMMUNITYLEGAL.ORG \nThe Center for Social Justice at Western New England School of Law aims to assist marginalized and underserved communities and strengthen collaborative efforts between the Law School and the local region to work toward a more just\, equitable\, and inclusive society. Learn More: WNE.EDU/LAW/CENTERS/CENTER-FOR-SOCIAL-JUSTICE \nWhere: Springfield Vietnamese Cultural Association\, 433 Belmont Ave.\, Springfield\, MA 01108 \nWhen: Sunday\, June 23\, 2024 at 3:00 P.M.
URL:https://communitylegal.org/event/office-hours-with-an-attorney-springfield/
LOCATION:Springfield Vietnamese Cultural Association\, 433 Belmont Ave\, Springfield\, MA\, 01108
CATEGORIES:General Events
ATTACH;FMTTYPE=application/pdf:https://communitylegal.org/wp-content/uploads/2024/06/june-23-WNE-and-CLA-2.pdf
GEO:42.0871885;-72.5618685
X-APPLE-STRUCTURED-LOCATION;VALUE=URI;X-ADDRESS=Springfield Vietnamese Cultural Association 433 Belmont Ave Springfield MA 01108;X-APPLE-RADIUS=500;X-TITLE=433 Belmont Ave:geo:-72.5618685,42.0871885
END:VEVENT
END:VCALENDAR