BEGIN:VCALENDAR
VERSION:2.0
PRODID:-//Community Legal Aid - ECPv6.15.20//NONSGML v1.0//EN
CALSCALE:GREGORIAN
METHOD:PUBLISH
X-ORIGINAL-URL:https://communitylegal.org
X-WR-CALDESC:Events for Community Legal Aid
REFRESH-INTERVAL;VALUE=DURATION:PT1H
X-Robots-Tag:noindex
X-PUBLISHED-TTL:PT1H
BEGIN:VTIMEZONE
TZID:America/New_York
BEGIN:DAYLIGHT
TZOFFSETFROM:-0500
TZOFFSETTO:-0400
TZNAME:EDT
DTSTART:20180311T070000
END:DAYLIGHT
BEGIN:STANDARD
TZOFFSETFROM:-0400
TZOFFSETTO:-0500
TZNAME:EST
DTSTART:20181104T060000
END:STANDARD
BEGIN:DAYLIGHT
TZOFFSETFROM:-0500
TZOFFSETTO:-0400
TZNAME:EDT
DTSTART:20190310T070000
END:DAYLIGHT
BEGIN:STANDARD
TZOFFSETFROM:-0400
TZOFFSETTO:-0500
TZNAME:EST
DTSTART:20191103T060000
END:STANDARD
BEGIN:DAYLIGHT
TZOFFSETFROM:-0500
TZOFFSETTO:-0400
TZNAME:EDT
DTSTART:20200308T070000
END:DAYLIGHT
BEGIN:STANDARD
TZOFFSETFROM:-0400
TZOFFSETTO:-0500
TZNAME:EST
DTSTART:20201101T060000
END:STANDARD
END:VTIMEZONE
BEGIN:VEVENT
DTSTART;TZID=America/New_York:20191104T130000
DTEND;TZID=America/New_York:20191104T160000
DTSTAMP:20260424T004824
CREATED:20200130T170506Z
LAST-MODIFIED:20200130T170506Z
UID:1418-1572872400-1572883200@communitylegal.org
SUMMARY:Free Housing Court Lawyer for the Day Training & Orientation
DESCRIPTION:Community Legal Aid and The Hampden County Bar association Legal Clinic will lead a training to prepare volunteers to assist both landlords and tenants in a “lawyer for the day” capacity. \nTo register call 413-733-6500 or E-mail legalclinic@HCBAR.org
URL:https://communitylegal.org/event/free-housing-court-lawyer-for-the-day-training-orientation/
LOCATION:UMass Campus at Tower Square\, 1500 Main Street\, Springfield\, MA\, 01115\, United States
ORGANIZER;CN="Hampshire County Bar Association Legal Clinic":MAILTO:legalclinic@HCBAR.org
GEO:42.1027686;-72.592123
X-APPLE-STRUCTURED-LOCATION;VALUE=URI;X-ADDRESS=UMass Campus at Tower Square 1500 Main Street Springfield MA 01115 United States;X-APPLE-RADIUS=500;X-TITLE=1500 Main Street:geo:-72.592123,42.1027686
END:VEVENT
END:VCALENDAR