BEGIN:VCALENDAR
VERSION:2.0
PRODID:-//Community Legal Aid - ECPv6.15.20//NONSGML v1.0//EN
CALSCALE:GREGORIAN
METHOD:PUBLISH
X-WR-CALNAME:Community Legal Aid
X-ORIGINAL-URL:https://communitylegal.org
X-WR-CALDESC:Events for Community Legal Aid
REFRESH-INTERVAL;VALUE=DURATION:PT1H
X-Robots-Tag:noindex
X-PUBLISHED-TTL:PT1H
BEGIN:VTIMEZONE
TZID:America/New_York
BEGIN:DAYLIGHT
TZOFFSETFROM:-0500
TZOFFSETTO:-0400
TZNAME:EDT
DTSTART:20260308T070000
END:DAYLIGHT
BEGIN:STANDARD
TZOFFSETFROM:-0400
TZOFFSETTO:-0500
TZNAME:EST
DTSTART:20261101T060000
END:STANDARD
BEGIN:DAYLIGHT
TZOFFSETFROM:-0500
TZOFFSETTO:-0400
TZNAME:EDT
DTSTART:20270314T070000
END:DAYLIGHT
BEGIN:STANDARD
TZOFFSETFROM:-0400
TZOFFSETTO:-0500
TZNAME:EST
DTSTART:20271107T060000
END:STANDARD
BEGIN:DAYLIGHT
TZOFFSETFROM:-0500
TZOFFSETTO:-0400
TZNAME:EDT
DTSTART:20280312T070000
END:DAYLIGHT
BEGIN:STANDARD
TZOFFSETFROM:-0400
TZOFFSETTO:-0500
TZNAME:EST
DTSTART:20281105T060000
END:STANDARD
END:VTIMEZONE
BEGIN:VEVENT
DTSTART;TZID=America/New_York:20270330T084500
DTEND;TZID=America/New_York:20270330T110000
DTSTAMP:20260423T201559
CREATED:20230209T181704Z
LAST-MODIFIED:20260122T145357Z
UID:13834-1806396300-1806404400@communitylegal.org
SUMMARY:Worcester District Court Small Claims Lawyer for the Day
DESCRIPTION:VOLUNTEER CALL TO ACTION! \nThis remote Lawyer for the Day program is a collaborative pro bono project with the Worcester County Bar Association (WCBA) that provides Limited Assistance Representation (LAR) to low-income debtors in the Worcester District Court\, Small Claims Session. This program takes places every Tuesday morning between 8:45 – 11:00 A.M. via Zoom. \nSIGN UP HERE for a session between January and March 2026! \n 
URL:https://communitylegal.org/event/worcester-district-court-small-claims-lawyer-for-the-day/2027-03-30/
LOCATION:via Zoom\, MA\, United States
CATEGORIES:Pro Bono
GEO:42.4072107;-71.3824374
END:VEVENT
BEGIN:VEVENT
DTSTART;TZID=America/New_York:20270406T084500
DTEND;TZID=America/New_York:20270406T110000
DTSTAMP:20260423T201559
CREATED:20230209T181704Z
LAST-MODIFIED:20260122T145358Z
UID:13835-1807001100-1807009200@communitylegal.org
SUMMARY:Worcester District Court Small Claims Lawyer for the Day
DESCRIPTION:VOLUNTEER CALL TO ACTION! \nThis remote Lawyer for the Day program is a collaborative pro bono project with the Worcester County Bar Association (WCBA) that provides Limited Assistance Representation (LAR) to low-income debtors in the Worcester District Court\, Small Claims Session. This program takes places every Tuesday morning between 8:45 – 11:00 A.M. via Zoom. \nSIGN UP HERE for a session between January and March 2026! \n 
URL:https://communitylegal.org/event/worcester-district-court-small-claims-lawyer-for-the-day/2027-04-06/
LOCATION:via Zoom\, MA\, United States
CATEGORIES:Pro Bono
GEO:42.4072107;-71.3824374
END:VEVENT
BEGIN:VEVENT
DTSTART;TZID=America/New_York:20270413T084500
DTEND;TZID=America/New_York:20270413T110000
DTSTAMP:20260423T201559
CREATED:20230209T181704Z
LAST-MODIFIED:20260122T145358Z
UID:13836-1807605900-1807614000@communitylegal.org
SUMMARY:Worcester District Court Small Claims Lawyer for the Day
DESCRIPTION:VOLUNTEER CALL TO ACTION! \nThis remote Lawyer for the Day program is a collaborative pro bono project with the Worcester County Bar Association (WCBA) that provides Limited Assistance Representation (LAR) to low-income debtors in the Worcester District Court\, Small Claims Session. This program takes places every Tuesday morning between 8:45 – 11:00 A.M. via Zoom. \nSIGN UP HERE for a session between January and March 2026! \n 
URL:https://communitylegal.org/event/worcester-district-court-small-claims-lawyer-for-the-day/2027-04-13/
LOCATION:via Zoom\, MA\, United States
CATEGORIES:Pro Bono
GEO:42.4072107;-71.3824374
END:VEVENT
BEGIN:VEVENT
DTSTART;TZID=America/New_York:20270420T084500
DTEND;TZID=America/New_York:20270420T110000
DTSTAMP:20260423T201559
CREATED:20230209T181704Z
LAST-MODIFIED:20260122T145359Z
UID:13901-1808210700-1808218800@communitylegal.org
SUMMARY:Worcester District Court Small Claims Lawyer for the Day
DESCRIPTION:VOLUNTEER CALL TO ACTION! \nThis remote Lawyer for the Day program is a collaborative pro bono project with the Worcester County Bar Association (WCBA) that provides Limited Assistance Representation (LAR) to low-income debtors in the Worcester District Court\, Small Claims Session. This program takes places every Tuesday morning between 8:45 – 11:00 A.M. via Zoom. \nSIGN UP HERE for a session between January and March 2026! \n 
URL:https://communitylegal.org/event/worcester-district-court-small-claims-lawyer-for-the-day/2027-04-20/
LOCATION:via Zoom\, MA\, United States
CATEGORIES:Pro Bono
GEO:42.4072107;-71.3824374
END:VEVENT
BEGIN:VEVENT
DTSTART;TZID=America/New_York:20270427T084500
DTEND;TZID=America/New_York:20270427T110000
DTSTAMP:20260423T201559
CREATED:20230209T181704Z
LAST-MODIFIED:20260122T145400Z
UID:13928-1808815500-1808823600@communitylegal.org
SUMMARY:Worcester District Court Small Claims Lawyer for the Day
DESCRIPTION:VOLUNTEER CALL TO ACTION! \nThis remote Lawyer for the Day program is a collaborative pro bono project with the Worcester County Bar Association (WCBA) that provides Limited Assistance Representation (LAR) to low-income debtors in the Worcester District Court\, Small Claims Session. This program takes places every Tuesday morning between 8:45 – 11:00 A.M. via Zoom. \nSIGN UP HERE for a session between January and March 2026! \n 
URL:https://communitylegal.org/event/worcester-district-court-small-claims-lawyer-for-the-day/2027-04-27/
LOCATION:via Zoom\, MA\, United States
CATEGORIES:Pro Bono
GEO:42.4072107;-71.3824374
END:VEVENT
BEGIN:VEVENT
DTSTART;TZID=America/New_York:20270504T084500
DTEND;TZID=America/New_York:20270504T110000
DTSTAMP:20260423T201559
CREATED:20230209T181704Z
LAST-MODIFIED:20260122T145403Z
UID:13936-1809420300-1809428400@communitylegal.org
SUMMARY:Worcester District Court Small Claims Lawyer for the Day
DESCRIPTION:VOLUNTEER CALL TO ACTION! \nThis remote Lawyer for the Day program is a collaborative pro bono project with the Worcester County Bar Association (WCBA) that provides Limited Assistance Representation (LAR) to low-income debtors in the Worcester District Court\, Small Claims Session. This program takes places every Tuesday morning between 8:45 – 11:00 A.M. via Zoom. \nSIGN UP HERE for a session between January and March 2026! \n 
URL:https://communitylegal.org/event/worcester-district-court-small-claims-lawyer-for-the-day/2027-05-04/
LOCATION:via Zoom\, MA\, United States
CATEGORIES:Pro Bono
GEO:42.4072107;-71.3824374
END:VEVENT
BEGIN:VEVENT
DTSTART;TZID=America/New_York:20270511T084500
DTEND;TZID=America/New_York:20270511T110000
DTSTAMP:20260423T201559
CREATED:20230209T181704Z
LAST-MODIFIED:20260122T145406Z
UID:13981-1810025100-1810033200@communitylegal.org
SUMMARY:Worcester District Court Small Claims Lawyer for the Day
DESCRIPTION:VOLUNTEER CALL TO ACTION! \nThis remote Lawyer for the Day program is a collaborative pro bono project with the Worcester County Bar Association (WCBA) that provides Limited Assistance Representation (LAR) to low-income debtors in the Worcester District Court\, Small Claims Session. This program takes places every Tuesday morning between 8:45 – 11:00 A.M. via Zoom. \nSIGN UP HERE for a session between January and March 2026! \n 
URL:https://communitylegal.org/event/worcester-district-court-small-claims-lawyer-for-the-day/2027-05-11/
LOCATION:via Zoom\, MA\, United States
CATEGORIES:Pro Bono
GEO:42.4072107;-71.3824374
END:VEVENT
BEGIN:VEVENT
DTSTART;TZID=America/New_York:20270518T084500
DTEND;TZID=America/New_York:20270518T110000
DTSTAMP:20260423T201559
CREATED:20230209T181704Z
LAST-MODIFIED:20260122T145408Z
UID:14036-1810629900-1810638000@communitylegal.org
SUMMARY:Worcester District Court Small Claims Lawyer for the Day
DESCRIPTION:VOLUNTEER CALL TO ACTION! \nThis remote Lawyer for the Day program is a collaborative pro bono project with the Worcester County Bar Association (WCBA) that provides Limited Assistance Representation (LAR) to low-income debtors in the Worcester District Court\, Small Claims Session. This program takes places every Tuesday morning between 8:45 – 11:00 A.M. via Zoom. \nSIGN UP HERE for a session between January and March 2026! \n 
URL:https://communitylegal.org/event/worcester-district-court-small-claims-lawyer-for-the-day/2027-05-18/
LOCATION:via Zoom\, MA\, United States
CATEGORIES:Pro Bono
GEO:42.4072107;-71.3824374
END:VEVENT
BEGIN:VEVENT
DTSTART;TZID=America/New_York:20270525T084500
DTEND;TZID=America/New_York:20270525T110000
DTSTAMP:20260423T201559
CREATED:20230209T181704Z
LAST-MODIFIED:20260122T145411Z
UID:14052-1811234700-1811242800@communitylegal.org
SUMMARY:Worcester District Court Small Claims Lawyer for the Day
DESCRIPTION:VOLUNTEER CALL TO ACTION! \nThis remote Lawyer for the Day program is a collaborative pro bono project with the Worcester County Bar Association (WCBA) that provides Limited Assistance Representation (LAR) to low-income debtors in the Worcester District Court\, Small Claims Session. This program takes places every Tuesday morning between 8:45 – 11:00 A.M. via Zoom. \nSIGN UP HERE for a session between January and March 2026! \n 
URL:https://communitylegal.org/event/worcester-district-court-small-claims-lawyer-for-the-day/2027-05-25/
LOCATION:via Zoom\, MA\, United States
CATEGORIES:Pro Bono
GEO:42.4072107;-71.3824374
END:VEVENT
BEGIN:VEVENT
DTSTART;TZID=America/New_York:20270601T084500
DTEND;TZID=America/New_York:20270601T110000
DTSTAMP:20260423T201559
CREATED:20230209T181704Z
LAST-MODIFIED:20260122T145413Z
UID:14079-1811839500-1811847600@communitylegal.org
SUMMARY:Worcester District Court Small Claims Lawyer for the Day
DESCRIPTION:VOLUNTEER CALL TO ACTION! \nThis remote Lawyer for the Day program is a collaborative pro bono project with the Worcester County Bar Association (WCBA) that provides Limited Assistance Representation (LAR) to low-income debtors in the Worcester District Court\, Small Claims Session. This program takes places every Tuesday morning between 8:45 – 11:00 A.M. via Zoom. \nSIGN UP HERE for a session between January and March 2026! \n 
URL:https://communitylegal.org/event/worcester-district-court-small-claims-lawyer-for-the-day/2027-06-01/
LOCATION:via Zoom\, MA\, United States
CATEGORIES:Pro Bono
GEO:42.4072107;-71.3824374
END:VEVENT
BEGIN:VEVENT
DTSTART;TZID=America/New_York:20270608T084500
DTEND;TZID=America/New_York:20270608T110000
DTSTAMP:20260423T201559
CREATED:20230209T181704Z
LAST-MODIFIED:20260122T145416Z
UID:14174-1812444300-1812452400@communitylegal.org
SUMMARY:Worcester District Court Small Claims Lawyer for the Day
DESCRIPTION:VOLUNTEER CALL TO ACTION! \nThis remote Lawyer for the Day program is a collaborative pro bono project with the Worcester County Bar Association (WCBA) that provides Limited Assistance Representation (LAR) to low-income debtors in the Worcester District Court\, Small Claims Session. This program takes places every Tuesday morning between 8:45 – 11:00 A.M. via Zoom. \nSIGN UP HERE for a session between January and March 2026! \n 
URL:https://communitylegal.org/event/worcester-district-court-small-claims-lawyer-for-the-day/2027-06-08/
LOCATION:via Zoom\, MA\, United States
CATEGORIES:Pro Bono
GEO:42.4072107;-71.3824374
END:VEVENT
BEGIN:VEVENT
DTSTART;TZID=America/New_York:20270615T084500
DTEND;TZID=America/New_York:20270615T110000
DTSTAMP:20260423T201559
CREATED:20230209T181704Z
LAST-MODIFIED:20260122T145418Z
UID:14184-1813049100-1813057200@communitylegal.org
SUMMARY:Worcester District Court Small Claims Lawyer for the Day
DESCRIPTION:VOLUNTEER CALL TO ACTION! \nThis remote Lawyer for the Day program is a collaborative pro bono project with the Worcester County Bar Association (WCBA) that provides Limited Assistance Representation (LAR) to low-income debtors in the Worcester District Court\, Small Claims Session. This program takes places every Tuesday morning between 8:45 – 11:00 A.M. via Zoom. \nSIGN UP HERE for a session between January and March 2026! \n 
URL:https://communitylegal.org/event/worcester-district-court-small-claims-lawyer-for-the-day/2027-06-15/
LOCATION:via Zoom\, MA\, United States
CATEGORIES:Pro Bono
GEO:42.4072107;-71.3824374
END:VEVENT
BEGIN:VEVENT
DTSTART;TZID=America/New_York:20270622T084500
DTEND;TZID=America/New_York:20270622T110000
DTSTAMP:20260423T201559
CREATED:20230209T181704Z
LAST-MODIFIED:20260122T145421Z
UID:14187-1813653900-1813662000@communitylegal.org
SUMMARY:Worcester District Court Small Claims Lawyer for the Day
DESCRIPTION:VOLUNTEER CALL TO ACTION! \nThis remote Lawyer for the Day program is a collaborative pro bono project with the Worcester County Bar Association (WCBA) that provides Limited Assistance Representation (LAR) to low-income debtors in the Worcester District Court\, Small Claims Session. This program takes places every Tuesday morning between 8:45 – 11:00 A.M. via Zoom. \nSIGN UP HERE for a session between January and March 2026! \n 
URL:https://communitylegal.org/event/worcester-district-court-small-claims-lawyer-for-the-day/2027-06-22/
LOCATION:via Zoom\, MA\, United States
CATEGORIES:Pro Bono
GEO:42.4072107;-71.3824374
END:VEVENT
BEGIN:VEVENT
DTSTART;TZID=America/New_York:20270629T084500
DTEND;TZID=America/New_York:20270629T110000
DTSTAMP:20260423T201559
CREATED:20230209T181704Z
LAST-MODIFIED:20260122T145423Z
UID:14227-1814258700-1814266800@communitylegal.org
SUMMARY:Worcester District Court Small Claims Lawyer for the Day
DESCRIPTION:VOLUNTEER CALL TO ACTION! \nThis remote Lawyer for the Day program is a collaborative pro bono project with the Worcester County Bar Association (WCBA) that provides Limited Assistance Representation (LAR) to low-income debtors in the Worcester District Court\, Small Claims Session. This program takes places every Tuesday morning between 8:45 – 11:00 A.M. via Zoom. \nSIGN UP HERE for a session between January and March 2026! \n 
URL:https://communitylegal.org/event/worcester-district-court-small-claims-lawyer-for-the-day/2027-06-29/
LOCATION:via Zoom\, MA\, United States
CATEGORIES:Pro Bono
GEO:42.4072107;-71.3824374
END:VEVENT
BEGIN:VEVENT
DTSTART;TZID=America/New_York:20270706T084500
DTEND;TZID=America/New_York:20270706T110000
DTSTAMP:20260423T201559
CREATED:20230209T181704Z
LAST-MODIFIED:20260122T145434Z
UID:14239-1814863500-1814871600@communitylegal.org
SUMMARY:Worcester District Court Small Claims Lawyer for the Day
DESCRIPTION:VOLUNTEER CALL TO ACTION! \nThis remote Lawyer for the Day program is a collaborative pro bono project with the Worcester County Bar Association (WCBA) that provides Limited Assistance Representation (LAR) to low-income debtors in the Worcester District Court\, Small Claims Session. This program takes places every Tuesday morning between 8:45 – 11:00 A.M. via Zoom. \nSIGN UP HERE for a session between January and March 2026! \n 
URL:https://communitylegal.org/event/worcester-district-court-small-claims-lawyer-for-the-day/2027-07-06/
LOCATION:via Zoom\, MA\, United States
CATEGORIES:Pro Bono
GEO:42.4072107;-71.3824374
END:VEVENT
BEGIN:VEVENT
DTSTART;TZID=America/New_York:20270713T084500
DTEND;TZID=America/New_York:20270713T110000
DTSTAMP:20260423T201559
CREATED:20230209T181704Z
LAST-MODIFIED:20260122T145434Z
UID:14247-1815468300-1815476400@communitylegal.org
SUMMARY:Worcester District Court Small Claims Lawyer for the Day
DESCRIPTION:VOLUNTEER CALL TO ACTION! \nThis remote Lawyer for the Day program is a collaborative pro bono project with the Worcester County Bar Association (WCBA) that provides Limited Assistance Representation (LAR) to low-income debtors in the Worcester District Court\, Small Claims Session. This program takes places every Tuesday morning between 8:45 – 11:00 A.M. via Zoom. \nSIGN UP HERE for a session between January and March 2026! \n 
URL:https://communitylegal.org/event/worcester-district-court-small-claims-lawyer-for-the-day/2027-07-13/
LOCATION:via Zoom\, MA\, United States
CATEGORIES:Pro Bono
GEO:42.4072107;-71.3824374
END:VEVENT
BEGIN:VEVENT
DTSTART;TZID=America/New_York:20270720T084500
DTEND;TZID=America/New_York:20270720T110000
DTSTAMP:20260423T201559
CREATED:20230209T181704Z
LAST-MODIFIED:20260122T145435Z
UID:14252-1816073100-1816081200@communitylegal.org
SUMMARY:Worcester District Court Small Claims Lawyer for the Day
DESCRIPTION:VOLUNTEER CALL TO ACTION! \nThis remote Lawyer for the Day program is a collaborative pro bono project with the Worcester County Bar Association (WCBA) that provides Limited Assistance Representation (LAR) to low-income debtors in the Worcester District Court\, Small Claims Session. This program takes places every Tuesday morning between 8:45 – 11:00 A.M. via Zoom. \nSIGN UP HERE for a session between January and March 2026! \n 
URL:https://communitylegal.org/event/worcester-district-court-small-claims-lawyer-for-the-day/2027-07-20/
LOCATION:via Zoom\, MA\, United States
CATEGORIES:Pro Bono
GEO:42.4072107;-71.3824374
END:VEVENT
BEGIN:VEVENT
DTSTART;TZID=America/New_York:20270727T084500
DTEND;TZID=America/New_York:20270727T110000
DTSTAMP:20260423T201559
CREATED:20230209T181704Z
LAST-MODIFIED:20260122T145435Z
UID:14259-1816677900-1816686000@communitylegal.org
SUMMARY:Worcester District Court Small Claims Lawyer for the Day
DESCRIPTION:VOLUNTEER CALL TO ACTION! \nThis remote Lawyer for the Day program is a collaborative pro bono project with the Worcester County Bar Association (WCBA) that provides Limited Assistance Representation (LAR) to low-income debtors in the Worcester District Court\, Small Claims Session. This program takes places every Tuesday morning between 8:45 – 11:00 A.M. via Zoom. \nSIGN UP HERE for a session between January and March 2026! \n 
URL:https://communitylegal.org/event/worcester-district-court-small-claims-lawyer-for-the-day/2027-07-27/
LOCATION:via Zoom\, MA\, United States
CATEGORIES:Pro Bono
GEO:42.4072107;-71.3824374
END:VEVENT
BEGIN:VEVENT
DTSTART;TZID=America/New_York:20270803T084500
DTEND;TZID=America/New_York:20270803T110000
DTSTAMP:20260423T201559
CREATED:20230209T181704Z
LAST-MODIFIED:20260122T145436Z
UID:14266-1817282700-1817290800@communitylegal.org
SUMMARY:Worcester District Court Small Claims Lawyer for the Day
DESCRIPTION:VOLUNTEER CALL TO ACTION! \nThis remote Lawyer for the Day program is a collaborative pro bono project with the Worcester County Bar Association (WCBA) that provides Limited Assistance Representation (LAR) to low-income debtors in the Worcester District Court\, Small Claims Session. This program takes places every Tuesday morning between 8:45 – 11:00 A.M. via Zoom. \nSIGN UP HERE for a session between January and March 2026! \n 
URL:https://communitylegal.org/event/worcester-district-court-small-claims-lawyer-for-the-day/2027-08-03/
LOCATION:via Zoom\, MA\, United States
CATEGORIES:Pro Bono
GEO:42.4072107;-71.3824374
END:VEVENT
BEGIN:VEVENT
DTSTART;TZID=America/New_York:20270810T084500
DTEND;TZID=America/New_York:20270810T110000
DTSTAMP:20260423T201559
CREATED:20230209T181704Z
LAST-MODIFIED:20260122T145436Z
UID:14276-1817887500-1817895600@communitylegal.org
SUMMARY:Worcester District Court Small Claims Lawyer for the Day
DESCRIPTION:VOLUNTEER CALL TO ACTION! \nThis remote Lawyer for the Day program is a collaborative pro bono project with the Worcester County Bar Association (WCBA) that provides Limited Assistance Representation (LAR) to low-income debtors in the Worcester District Court\, Small Claims Session. This program takes places every Tuesday morning between 8:45 – 11:00 A.M. via Zoom. \nSIGN UP HERE for a session between January and March 2026! \n 
URL:https://communitylegal.org/event/worcester-district-court-small-claims-lawyer-for-the-day/2027-08-10/
LOCATION:via Zoom\, MA\, United States
CATEGORIES:Pro Bono
GEO:42.4072107;-71.3824374
END:VEVENT
BEGIN:VEVENT
DTSTART;TZID=America/New_York:20270817T084500
DTEND;TZID=America/New_York:20270817T110000
DTSTAMP:20260423T201559
CREATED:20230209T181704Z
LAST-MODIFIED:20260122T145437Z
UID:14321-1818492300-1818500400@communitylegal.org
SUMMARY:Worcester District Court Small Claims Lawyer for the Day
DESCRIPTION:VOLUNTEER CALL TO ACTION! \nThis remote Lawyer for the Day program is a collaborative pro bono project with the Worcester County Bar Association (WCBA) that provides Limited Assistance Representation (LAR) to low-income debtors in the Worcester District Court\, Small Claims Session. This program takes places every Tuesday morning between 8:45 – 11:00 A.M. via Zoom. \nSIGN UP HERE for a session between January and March 2026! \n 
URL:https://communitylegal.org/event/worcester-district-court-small-claims-lawyer-for-the-day/2027-08-17/
LOCATION:via Zoom\, MA\, United States
CATEGORIES:Pro Bono
GEO:42.4072107;-71.3824374
END:VEVENT
BEGIN:VEVENT
DTSTART;TZID=America/New_York:20270824T084500
DTEND;TZID=America/New_York:20270824T110000
DTSTAMP:20260423T201559
CREATED:20230209T181704Z
LAST-MODIFIED:20260122T145437Z
UID:14347-1819097100-1819105200@communitylegal.org
SUMMARY:Worcester District Court Small Claims Lawyer for the Day
DESCRIPTION:VOLUNTEER CALL TO ACTION! \nThis remote Lawyer for the Day program is a collaborative pro bono project with the Worcester County Bar Association (WCBA) that provides Limited Assistance Representation (LAR) to low-income debtors in the Worcester District Court\, Small Claims Session. This program takes places every Tuesday morning between 8:45 – 11:00 A.M. via Zoom. \nSIGN UP HERE for a session between January and March 2026! \n 
URL:https://communitylegal.org/event/worcester-district-court-small-claims-lawyer-for-the-day/2027-08-24/
LOCATION:via Zoom\, MA\, United States
CATEGORIES:Pro Bono
GEO:42.4072107;-71.3824374
END:VEVENT
BEGIN:VEVENT
DTSTART;TZID=America/New_York:20270831T084500
DTEND;TZID=America/New_York:20270831T110000
DTSTAMP:20260423T201559
CREATED:20230209T181704Z
LAST-MODIFIED:20260122T145438Z
UID:14701-1819701900-1819710000@communitylegal.org
SUMMARY:Worcester District Court Small Claims Lawyer for the Day
DESCRIPTION:VOLUNTEER CALL TO ACTION! \nThis remote Lawyer for the Day program is a collaborative pro bono project with the Worcester County Bar Association (WCBA) that provides Limited Assistance Representation (LAR) to low-income debtors in the Worcester District Court\, Small Claims Session. This program takes places every Tuesday morning between 8:45 – 11:00 A.M. via Zoom. \nSIGN UP HERE for a session between January and March 2026! \n 
URL:https://communitylegal.org/event/worcester-district-court-small-claims-lawyer-for-the-day/2027-08-31/
LOCATION:via Zoom\, MA\, United States
CATEGORIES:Pro Bono
GEO:42.4072107;-71.3824374
END:VEVENT
BEGIN:VEVENT
DTSTART;TZID=America/New_York:20270907T084500
DTEND;TZID=America/New_York:20270907T110000
DTSTAMP:20260423T201559
CREATED:20230209T181704Z
LAST-MODIFIED:20260122T145438Z
UID:14707-1820306700-1820314800@communitylegal.org
SUMMARY:Worcester District Court Small Claims Lawyer for the Day
DESCRIPTION:VOLUNTEER CALL TO ACTION! \nThis remote Lawyer for the Day program is a collaborative pro bono project with the Worcester County Bar Association (WCBA) that provides Limited Assistance Representation (LAR) to low-income debtors in the Worcester District Court\, Small Claims Session. This program takes places every Tuesday morning between 8:45 – 11:00 A.M. via Zoom. \nSIGN UP HERE for a session between January and March 2026! \n 
URL:https://communitylegal.org/event/worcester-district-court-small-claims-lawyer-for-the-day/2027-09-07/
LOCATION:via Zoom\, MA\, United States
CATEGORIES:Pro Bono
GEO:42.4072107;-71.3824374
END:VEVENT
BEGIN:VEVENT
DTSTART;TZID=America/New_York:20270914T084500
DTEND;TZID=America/New_York:20270914T110000
DTSTAMP:20260423T201559
CREATED:20230209T181704Z
LAST-MODIFIED:20260122T145439Z
UID:14729-1820911500-1820919600@communitylegal.org
SUMMARY:Worcester District Court Small Claims Lawyer for the Day
DESCRIPTION:VOLUNTEER CALL TO ACTION! \nThis remote Lawyer for the Day program is a collaborative pro bono project with the Worcester County Bar Association (WCBA) that provides Limited Assistance Representation (LAR) to low-income debtors in the Worcester District Court\, Small Claims Session. This program takes places every Tuesday morning between 8:45 – 11:00 A.M. via Zoom. \nSIGN UP HERE for a session between January and March 2026! \n 
URL:https://communitylegal.org/event/worcester-district-court-small-claims-lawyer-for-the-day/2027-09-14/
LOCATION:via Zoom\, MA\, United States
CATEGORIES:Pro Bono
GEO:42.4072107;-71.3824374
END:VEVENT
BEGIN:VEVENT
DTSTART;TZID=America/New_York:20270921T084500
DTEND;TZID=America/New_York:20270921T110000
DTSTAMP:20260423T201559
CREATED:20230209T181704Z
LAST-MODIFIED:20260122T145440Z
UID:14743-1821516300-1821524400@communitylegal.org
SUMMARY:Worcester District Court Small Claims Lawyer for the Day
DESCRIPTION:VOLUNTEER CALL TO ACTION! \nThis remote Lawyer for the Day program is a collaborative pro bono project with the Worcester County Bar Association (WCBA) that provides Limited Assistance Representation (LAR) to low-income debtors in the Worcester District Court\, Small Claims Session. This program takes places every Tuesday morning between 8:45 – 11:00 A.M. via Zoom. \nSIGN UP HERE for a session between January and March 2026! \n 
URL:https://communitylegal.org/event/worcester-district-court-small-claims-lawyer-for-the-day/2027-09-21/
LOCATION:via Zoom\, MA\, United States
CATEGORIES:Pro Bono
GEO:42.4072107;-71.3824374
END:VEVENT
BEGIN:VEVENT
DTSTART;TZID=America/New_York:20270928T084500
DTEND;TZID=America/New_York:20270928T110000
DTSTAMP:20260423T201559
CREATED:20230209T181704Z
LAST-MODIFIED:20260122T145440Z
UID:14787-1822121100-1822129200@communitylegal.org
SUMMARY:Worcester District Court Small Claims Lawyer for the Day
DESCRIPTION:VOLUNTEER CALL TO ACTION! \nThis remote Lawyer for the Day program is a collaborative pro bono project with the Worcester County Bar Association (WCBA) that provides Limited Assistance Representation (LAR) to low-income debtors in the Worcester District Court\, Small Claims Session. This program takes places every Tuesday morning between 8:45 – 11:00 A.M. via Zoom. \nSIGN UP HERE for a session between January and March 2026! \n 
URL:https://communitylegal.org/event/worcester-district-court-small-claims-lawyer-for-the-day/2027-09-28/
LOCATION:via Zoom\, MA\, United States
CATEGORIES:Pro Bono
GEO:42.4072107;-71.3824374
END:VEVENT
BEGIN:VEVENT
DTSTART;TZID=America/New_York:20271005T084500
DTEND;TZID=America/New_York:20271005T110000
DTSTAMP:20260423T201559
CREATED:20230209T181704Z
LAST-MODIFIED:20260122T145441Z
UID:14814-1822725900-1822734000@communitylegal.org
SUMMARY:Worcester District Court Small Claims Lawyer for the Day
DESCRIPTION:VOLUNTEER CALL TO ACTION! \nThis remote Lawyer for the Day program is a collaborative pro bono project with the Worcester County Bar Association (WCBA) that provides Limited Assistance Representation (LAR) to low-income debtors in the Worcester District Court\, Small Claims Session. This program takes places every Tuesday morning between 8:45 – 11:00 A.M. via Zoom. \nSIGN UP HERE for a session between January and March 2026! \n 
URL:https://communitylegal.org/event/worcester-district-court-small-claims-lawyer-for-the-day/2027-10-05/
LOCATION:via Zoom\, MA\, United States
CATEGORIES:Pro Bono
GEO:42.4072107;-71.3824374
END:VEVENT
BEGIN:VEVENT
DTSTART;TZID=America/New_York:20271012T084500
DTEND;TZID=America/New_York:20271012T110000
DTSTAMP:20260423T201559
CREATED:20230209T181704Z
LAST-MODIFIED:20260122T145441Z
UID:14837-1823330700-1823338800@communitylegal.org
SUMMARY:Worcester District Court Small Claims Lawyer for the Day
DESCRIPTION:VOLUNTEER CALL TO ACTION! \nThis remote Lawyer for the Day program is a collaborative pro bono project with the Worcester County Bar Association (WCBA) that provides Limited Assistance Representation (LAR) to low-income debtors in the Worcester District Court\, Small Claims Session. This program takes places every Tuesday morning between 8:45 – 11:00 A.M. via Zoom. \nSIGN UP HERE for a session between January and March 2026! \n 
URL:https://communitylegal.org/event/worcester-district-court-small-claims-lawyer-for-the-day/2027-10-12/
LOCATION:via Zoom\, MA\, United States
CATEGORIES:Pro Bono
GEO:42.4072107;-71.3824374
END:VEVENT
BEGIN:VEVENT
DTSTART;TZID=America/New_York:20271019T084500
DTEND;TZID=America/New_York:20271019T110000
DTSTAMP:20260423T201559
CREATED:20230209T181704Z
LAST-MODIFIED:20260122T145442Z
UID:14859-1823935500-1823943600@communitylegal.org
SUMMARY:Worcester District Court Small Claims Lawyer for the Day
DESCRIPTION:VOLUNTEER CALL TO ACTION! \nThis remote Lawyer for the Day program is a collaborative pro bono project with the Worcester County Bar Association (WCBA) that provides Limited Assistance Representation (LAR) to low-income debtors in the Worcester District Court\, Small Claims Session. This program takes places every Tuesday morning between 8:45 – 11:00 A.M. via Zoom. \nSIGN UP HERE for a session between January and March 2026! \n 
URL:https://communitylegal.org/event/worcester-district-court-small-claims-lawyer-for-the-day/2027-10-19/
LOCATION:via Zoom\, MA\, United States
CATEGORIES:Pro Bono
GEO:42.4072107;-71.3824374
END:VEVENT
END:VCALENDAR