BEGIN:VCALENDAR
VERSION:2.0
PRODID:-//Community Legal Aid - ECPv6.15.20//NONSGML v1.0//EN
CALSCALE:GREGORIAN
METHOD:PUBLISH
X-WR-CALNAME:Community Legal Aid
X-ORIGINAL-URL:https://communitylegal.org
X-WR-CALDESC:Events for Community Legal Aid
REFRESH-INTERVAL;VALUE=DURATION:PT1H
X-Robots-Tag:noindex
X-PUBLISHED-TTL:PT1H
BEGIN:VTIMEZONE
TZID:America/New_York
BEGIN:DAYLIGHT
TZOFFSETFROM:-0500
TZOFFSETTO:-0400
TZNAME:EDT
DTSTART:20270314T070000
END:DAYLIGHT
BEGIN:STANDARD
TZOFFSETFROM:-0400
TZOFFSETTO:-0500
TZNAME:EST
DTSTART:20271107T060000
END:STANDARD
BEGIN:DAYLIGHT
TZOFFSETFROM:-0500
TZOFFSETTO:-0400
TZNAME:EDT
DTSTART:20280312T070000
END:DAYLIGHT
BEGIN:STANDARD
TZOFFSETFROM:-0400
TZOFFSETTO:-0500
TZNAME:EST
DTSTART:20281105T060000
END:STANDARD
BEGIN:DAYLIGHT
TZOFFSETFROM:-0500
TZOFFSETTO:-0400
TZNAME:EDT
DTSTART:20290311T070000
END:DAYLIGHT
BEGIN:STANDARD
TZOFFSETFROM:-0400
TZOFFSETTO:-0500
TZNAME:EST
DTSTART:20291104T060000
END:STANDARD
END:VTIMEZONE
BEGIN:VEVENT
DTSTART;TZID=America/New_York:20280229T084500
DTEND;TZID=America/New_York:20280229T110000
DTSTAMP:20260424T020751
CREATED:20230209T181704Z
LAST-MODIFIED:20230209T181704Z
UID:15514-1835426700-1835434800@communitylegal.org
SUMMARY:Worcester District Court Small Claims Lawyer for the Day
DESCRIPTION:VOLUNTEER CALL TO ACTION! \nThis remote Lawyer for the Day program is a collaborative pro bono project with the Worcester County Bar Association (WCBA) that provides Limited Assistance Representation (LAR) to low-income debtors in the Worcester District Court\, Small Claims Session. This program takes places every Tuesday morning between 8:45 – 11:00 A.M. via Zoom. \nSIGN UP HERE for a session between January and March 2026! \n 
URL:https://communitylegal.org/event/worcester-district-court-small-claims-lawyer-for-the-day/2028-02-29/
LOCATION:via Zoom\, MA\, United States
CATEGORIES:Pro Bono
GEO:42.4072107;-71.3824374
END:VEVENT
BEGIN:VEVENT
DTSTART;TZID=America/New_York:20280307T084500
DTEND;TZID=America/New_York:20280307T110000
DTSTAMP:20260424T020751
CREATED:20230209T181704Z
LAST-MODIFIED:20230209T181704Z
UID:15530-1836031500-1836039600@communitylegal.org
SUMMARY:Worcester District Court Small Claims Lawyer for the Day
DESCRIPTION:VOLUNTEER CALL TO ACTION! \nThis remote Lawyer for the Day program is a collaborative pro bono project with the Worcester County Bar Association (WCBA) that provides Limited Assistance Representation (LAR) to low-income debtors in the Worcester District Court\, Small Claims Session. This program takes places every Tuesday morning between 8:45 – 11:00 A.M. via Zoom. \nSIGN UP HERE for a session between January and March 2026! \n 
URL:https://communitylegal.org/event/worcester-district-court-small-claims-lawyer-for-the-day/2028-03-07/
LOCATION:via Zoom\, MA\, United States
CATEGORIES:Pro Bono
GEO:42.4072107;-71.3824374
END:VEVENT
BEGIN:VEVENT
DTSTART;TZID=America/New_York:20280314T084500
DTEND;TZID=America/New_York:20280314T110000
DTSTAMP:20260424T020751
CREATED:20230209T181704Z
LAST-MODIFIED:20230209T181704Z
UID:15551-1836636300-1836644400@communitylegal.org
SUMMARY:Worcester District Court Small Claims Lawyer for the Day
DESCRIPTION:VOLUNTEER CALL TO ACTION! \nThis remote Lawyer for the Day program is a collaborative pro bono project with the Worcester County Bar Association (WCBA) that provides Limited Assistance Representation (LAR) to low-income debtors in the Worcester District Court\, Small Claims Session. This program takes places every Tuesday morning between 8:45 – 11:00 A.M. via Zoom. \nSIGN UP HERE for a session between January and March 2026! \n 
URL:https://communitylegal.org/event/worcester-district-court-small-claims-lawyer-for-the-day/2028-03-14/
LOCATION:via Zoom\, MA\, United States
CATEGORIES:Pro Bono
GEO:42.4072107;-71.3824374
END:VEVENT
BEGIN:VEVENT
DTSTART;TZID=America/New_York:20280321T084500
DTEND;TZID=America/New_York:20280321T110000
DTSTAMP:20260424T020751
CREATED:20230209T181704Z
LAST-MODIFIED:20230209T181704Z
UID:15631-1837241100-1837249200@communitylegal.org
SUMMARY:Worcester District Court Small Claims Lawyer for the Day
DESCRIPTION:VOLUNTEER CALL TO ACTION! \nThis remote Lawyer for the Day program is a collaborative pro bono project with the Worcester County Bar Association (WCBA) that provides Limited Assistance Representation (LAR) to low-income debtors in the Worcester District Court\, Small Claims Session. This program takes places every Tuesday morning between 8:45 – 11:00 A.M. via Zoom. \nSIGN UP HERE for a session between January and March 2026! \n 
URL:https://communitylegal.org/event/worcester-district-court-small-claims-lawyer-for-the-day/2028-03-21/
LOCATION:via Zoom\, MA\, United States
CATEGORIES:Pro Bono
GEO:42.4072107;-71.3824374
END:VEVENT
BEGIN:VEVENT
DTSTART;TZID=America/New_York:20280328T084500
DTEND;TZID=America/New_York:20280328T110000
DTSTAMP:20260424T020751
CREATED:20230209T181704Z
LAST-MODIFIED:20230209T181704Z
UID:15652-1837845900-1837854000@communitylegal.org
SUMMARY:Worcester District Court Small Claims Lawyer for the Day
DESCRIPTION:VOLUNTEER CALL TO ACTION! \nThis remote Lawyer for the Day program is a collaborative pro bono project with the Worcester County Bar Association (WCBA) that provides Limited Assistance Representation (LAR) to low-income debtors in the Worcester District Court\, Small Claims Session. This program takes places every Tuesday morning between 8:45 – 11:00 A.M. via Zoom. \nSIGN UP HERE for a session between January and March 2026! \n 
URL:https://communitylegal.org/event/worcester-district-court-small-claims-lawyer-for-the-day/2028-03-28/
LOCATION:via Zoom\, MA\, United States
CATEGORIES:Pro Bono
GEO:42.4072107;-71.3824374
END:VEVENT
BEGIN:VEVENT
DTSTART;TZID=America/New_York:20280404T084500
DTEND;TZID=America/New_York:20280404T110000
DTSTAMP:20260424T020751
CREATED:20230209T181704Z
LAST-MODIFIED:20230209T181704Z
UID:15734-1838450700-1838458800@communitylegal.org
SUMMARY:Worcester District Court Small Claims Lawyer for the Day
DESCRIPTION:VOLUNTEER CALL TO ACTION! \nThis remote Lawyer for the Day program is a collaborative pro bono project with the Worcester County Bar Association (WCBA) that provides Limited Assistance Representation (LAR) to low-income debtors in the Worcester District Court\, Small Claims Session. This program takes places every Tuesday morning between 8:45 – 11:00 A.M. via Zoom. \nSIGN UP HERE for a session between January and March 2026! \n 
URL:https://communitylegal.org/event/worcester-district-court-small-claims-lawyer-for-the-day/2028-04-04/
LOCATION:via Zoom\, MA\, United States
CATEGORIES:Pro Bono
GEO:42.4072107;-71.3824374
END:VEVENT
BEGIN:VEVENT
DTSTART;TZID=America/New_York:20280411T084500
DTEND;TZID=America/New_York:20280411T110000
DTSTAMP:20260424T020751
CREATED:20230209T181704Z
LAST-MODIFIED:20230209T181704Z
UID:15779-1839055500-1839063600@communitylegal.org
SUMMARY:Worcester District Court Small Claims Lawyer for the Day
DESCRIPTION:VOLUNTEER CALL TO ACTION! \nThis remote Lawyer for the Day program is a collaborative pro bono project with the Worcester County Bar Association (WCBA) that provides Limited Assistance Representation (LAR) to low-income debtors in the Worcester District Court\, Small Claims Session. This program takes places every Tuesday morning between 8:45 – 11:00 A.M. via Zoom. \nSIGN UP HERE for a session between January and March 2026! \n 
URL:https://communitylegal.org/event/worcester-district-court-small-claims-lawyer-for-the-day/2028-04-11/
LOCATION:via Zoom\, MA\, United States
CATEGORIES:Pro Bono
GEO:42.4072107;-71.3824374
END:VEVENT
BEGIN:VEVENT
DTSTART;TZID=America/New_York:20280418T084500
DTEND;TZID=America/New_York:20280418T110000
DTSTAMP:20260424T020751
CREATED:20230209T181704Z
LAST-MODIFIED:20230209T181704Z
UID:15868-1839660300-1839668400@communitylegal.org
SUMMARY:Worcester District Court Small Claims Lawyer for the Day
DESCRIPTION:VOLUNTEER CALL TO ACTION! \nThis remote Lawyer for the Day program is a collaborative pro bono project with the Worcester County Bar Association (WCBA) that provides Limited Assistance Representation (LAR) to low-income debtors in the Worcester District Court\, Small Claims Session. This program takes places every Tuesday morning between 8:45 – 11:00 A.M. via Zoom. \nSIGN UP HERE for a session between January and March 2026! \n 
URL:https://communitylegal.org/event/worcester-district-court-small-claims-lawyer-for-the-day/2028-04-18/
LOCATION:via Zoom\, MA\, United States
CATEGORIES:Pro Bono
GEO:42.4072107;-71.3824374
END:VEVENT
END:VCALENDAR