BEGIN:VCALENDAR
VERSION:2.0
PRODID:-//Community Legal Aid - ECPv6.15.20//NONSGML v1.0//EN
CALSCALE:GREGORIAN
METHOD:PUBLISH
X-WR-CALNAME:Community Legal Aid
X-ORIGINAL-URL:https://communitylegal.org
X-WR-CALDESC:Events for Community Legal Aid
REFRESH-INTERVAL;VALUE=DURATION:PT1H
X-Robots-Tag:noindex
X-PUBLISHED-TTL:PT1H
BEGIN:VTIMEZONE
TZID:America/New_York
BEGIN:DAYLIGHT
TZOFFSETFROM:-0500
TZOFFSETTO:-0400
TZNAME:EDT
DTSTART:20220313T070000
END:DAYLIGHT
BEGIN:STANDARD
TZOFFSETFROM:-0400
TZOFFSETTO:-0500
TZNAME:EST
DTSTART:20221106T060000
END:STANDARD
BEGIN:DAYLIGHT
TZOFFSETFROM:-0500
TZOFFSETTO:-0400
TZNAME:EDT
DTSTART:20230312T070000
END:DAYLIGHT
BEGIN:STANDARD
TZOFFSETFROM:-0400
TZOFFSETTO:-0500
TZNAME:EST
DTSTART:20231105T060000
END:STANDARD
BEGIN:DAYLIGHT
TZOFFSETFROM:-0500
TZOFFSETTO:-0400
TZNAME:EDT
DTSTART:20240310T070000
END:DAYLIGHT
BEGIN:STANDARD
TZOFFSETFROM:-0400
TZOFFSETTO:-0500
TZNAME:EST
DTSTART:20241103T060000
END:STANDARD
END:VTIMEZONE
BEGIN:VEVENT
DTSTART;TZID=America/New_York:20231024T160000
DTEND;TZID=America/New_York:20231024T180000
DTSTAMP:20260424T000238
CREATED:20230929T201031Z
LAST-MODIFIED:20230929T211523Z
UID:10867-1698163200-1698170400@communitylegal.org
SUMMARY:Free Wage Theft Legal Clinic
DESCRIPTION:Help is available! Wage theft and worker exploitation are rising. To help workers\, the Attorney General’s Office holds Wage Theft Clinics with community partners like Community Legal Aid. Lawyers\, law students\, and interpreters will be at the Clinic to help you learn about your rights\, draft a demand letter\, or prepare a small claims court complaint. Walk-ins are welcome. If you need an interpreter\, please call (617) 727-3465. Please bring these papers\, if you have them: pay stubs\, time sheets\, letters/emails/texts from your employer. This event is FREE. \nhttps://www.mass.gov/info-details/free-wage-theft-legal-clinic
URL:https://communitylegal.org/event/free-wage-theft-legal-clinic/
LOCATION:YMCA of Central MA\, 1 Salem Street\, Worcester\, MA\, 01608\, United States
CATEGORIES:General Events
GEO:42.2600393;-71.7988973
X-APPLE-STRUCTURED-LOCATION;VALUE=URI;X-ADDRESS=YMCA of Central MA 1 Salem Street Worcester MA 01608 United States;X-APPLE-RADIUS=500;X-TITLE=1 Salem Street:geo:-71.7988973,42.2600393
END:VEVENT
END:VCALENDAR